{"text_format":"1","workbook":"xlsx","n_sheets":6,"sheets":["御案内","入力","靴ラベル","ウェアラベル","サイズ","集計表 (2)"],"not_rendered":{"charts":0,"images":2,"macros":1,"external_links":0,"defined_names":2,"comments":0,"pivot_tables":0},"unopened":[],"bounds":{"document_bytes":16777216,"sheet_cells":100000,"rows_first":2000,"rows_last":500,"rows_between":2000,"halvings":0,"cell_chars":16384,"cell_head_chars":4096},"cells_cut":0,"cells_raw":0,"read":"whole","date_system":"1900"}

{"sheet":"御案内","index":0,"n_rows":18,"n_cols":1,"rows_kept":18,"cut":false,"hidden":false,"merged":[[3,0,3,6],[4,0,4,6],[5,0,5,6],[6,0,6,6],[7,0,7,6],[19,0,19,6],[0,0,0,6],[20,0,20,6],[14,0,14,6],[15,0,15,6],[16,0,16,6],[17,0,17,6],[2,0,2,6],[18,0,18,6],[8,0,8,6],[9,0,9,6],[10,0,10,6],[11,0,11,6],[12,0,12,6],[13,0,13,6],[1,0,1,6]]}
[]
["ご案内"]
[]
["　　このたびは、ヴィライナワシロのご予約をいただきまして誠にありがとう"]
["　　ございます。"]
["　　当館はゲレンデ目の前の絶好の位置にあり、レンタル、インストラクター"]
["　　も自社で行っております。"]
["　　レンタルに関しまして、より安全面を強化するため、ヘルメットを標準装"]
["　　備となっております。"]
[]
["　　事前準備としまして、次ページ「入力」の所定箇所の入力をお願い致"]
["　　します。こちらは、シール化して、レンタルウエアとブーツに貼ります。"]
["　　事前にｻｲｽﾞ毎の統計を取る事で、準備も万全となります。"]
["　　お預かりした個人情報は、決して目的以外に使う事なく、適切に処理致"]
["　　します。"]
["　　ご不明な点がございましたら、いつでもご連絡ください。"]
["　　より安全で、より思い出深き、ご旅行になるよう、当館も尽くしてまいり"]
["　　ます。よろしくお願い申し上げます。"]

{"sheet":"入力","index":1,"n_rows":409,"n_cols":20,"rows_kept":409,"cut":false,"hidden":false,"merged":[[0,18,0,23],[1,18,1,23],[3,19,3,23],[4,19,4,23],[5,19,5,23],[6,19,6,23],[7,19,7,23],[8,19,8,23],[9,19,9,23],[10,19,10,23]]}
["猪苗代ライジングホテル",null,null,null,"villa中","様",null,null,null,null,null,null,null,"日程",null,"～",null,null,"※学年、No　性別　氏名　身長　靴サイズを入力してください"]
["学年組","No","部屋","性別","氏　　名","身長cm","靴サイズ","ウェアーサイズ","スキーサイズ",null,"ボード","スキーセット","ウエアセット","帽子","手袋","ゴーグル","板サイズ"]
[1,1,620,"男","磐梯たろう",165,24,{"$f":"IF(F3=\"\",\"\",VLOOKUP(F3,サイズ!$E$3:$F$11,2,1))","v":"L"},null,null,null,null,null,null,null,null,{"$f":"IF(G3=\"\",\"\",VLOOKUP(G3,サイズ!$H$3:$I$17,2,1))","v":"D"}]
[null,null,null,null,null,null,null,{"$f":"IF(F4=\"\",\"\",VLOOKUP(F4,サイズ!$E$3:$F$11,2,1))","v":""},null,null,null,null,null,null,null,null,{"$f":"IF(G4=\"\",\"\",VLOOKUP(G4,サイズ!$H$3:$I$17,2,1))","v":""},null,null,"入力上のお願い"]
[null,null,null,null,null,null,null,{"$f":"IF(F5=\"\",\"\",VLOOKUP(F5,サイズ!$E$3:$F$11,2,1))","v":""},null,null,null,null,null,null,null,null,{"$f":"IF(G5=\"\",\"\",VLOOKUP(G5,サイズ!$H$3:$I$17,2,1))","v":""},null,null,"①villa中、磐梯たろうは、モデルですので、学校名に直してご利用ください"]
[null,null,null,null,null,null,null,{"$f":"IF(F6=\"\",\"\",VLOOKUP(F6,サイズ!$E$3:$F$11,2,1))","v":""},null,null,null,null,null,null,null,null,{"$f":"IF(G6=\"\",\"\",VLOOKUP(G6,サイズ!$H$3:$I$17,2,1))","v":""},null,null,"②学年、Ｎｏ、部屋、性別、氏名、身長、靴ｻｲｽﾞを入力下さい"]
[null,null,null,null,null,null,null,{"$f":"IF(F7=\"\",\"\",VLOOKUP(F7,サイズ!$E$3:$F$11,2,1))","v":""},null,null,null,null,null,null,null,null,{"$f":"IF(G7=\"\",\"\",VLOOKUP(G7,サイズ!$H$3:$I$17,2,1))","v":""},null,null,"③ｳｴｱｰｻｲｽﾞ、板ｻｲｽﾞは自動で入ります。"]
[null,null,null,null,null,null,null,{"$f":"IF(F8=\"\",\"\",VLOOKUP(F8,サイズ!$E$3:$F$11,2,1))","v":""},null,null,null,null,null,null,null,null,{"$f":"IF(G8=\"\",\"\",VLOOKUP(G8,サイズ!$H$3:$I$17,2,1))","v":""},null,null,"④ｸﾗｽ毎の別ﾌｧｲﾙを作らず、引き続き入力お願いします。"]
[null,null,null,null,null,null,null,{"$f":"IF(F9=\"\",\"\",VLOOKUP(F9,サイズ!$E$3:$F$11,2,1))","v":""},null,null,null,null,null,null,null,null,{"$f":"IF(G9=\"\",\"\",VLOOKUP(G9,サイズ!$H$3:$I$17,2,1))","v":""},null,null,"⑤部屋番号がまだ未定の場合はご連絡下さい。"]
[null,null,null,null,null,null,null,{"$f":"IF(F10=\"\",\"\",VLOOKUP(F10,サイズ!$E$3:$F$11,2,1))","v":""},null,null,null,null,null,null,null,null,{"$f":"IF(G10=\"\",\"\",VLOOKUP(G10,サイズ!$H$3:$I$17,2,1))","v":""},null,null,"⑥先生方ご利用の場合もあわせて入力お願いします。"]
[null,null,null,null,null,null,null,{"$f":"IF(F11=\"\",\"\",VLOOKUP(F11,サイズ!$E$3:$F$11,2,1))","v":""},null,null,null,null,null,null,null,null,{"$f":"IF(G11=\"\",\"\",VLOOKUP(G11,サイズ!$H$3:$I$17,2,1))","v":""}]
[null,null,null,null,null,null,null,{"$f":"IF(F12=\"\",\"\",VLOOKUP(F12,サイズ!$E$3:$F$11,2,1))","v":""},null,null,null,null,null,null,null,null,{"$f":"IF(G12=\"\",\"\",VLOOKUP(G12,サイズ!$H$3:$I$17,2,1))","v":""}]
[null,null,null,null,null,null,null,{"$f":"IF(F13=\"\",\"\",VLOOKUP(F13,サイズ!$E$3:$F$11,2,1))","v":""},null,null,null,null,null,null,null,null,{"$f":"IF(G13=\"\",\"\",VLOOKUP(G13,サイズ!$H$3:$I$17,2,1))","v":""}]
[null,null,null,null,null,null,null,{"$f":"IF(F14=\"\",\"\",VLOOKUP(F14,サイズ!$E$3:$F$11,2,1))","v":""},null,null,null,null,null,null,null,null,{"$f":"IF(G14=\"\",\"\",VLOOKUP(G14,サイズ!$H$3:$I$17,2,1))","v":""}]
[null,null,null,null,null,null,null,{"$f":"IF(F15=\"\",\"\",VLOOKUP(F15,サイズ!$E$3:$F$11,2,1))","v":""},null,null,null,null,null,null,null,null,{"$f":"IF(G15=\"\",\"\",VLOOKUP(G15,サイズ!$H$3:$I$17,2,1))","v":""}]
[null,null,null,null,null,null,null,{"$f":"IF(F16=\"\",\"\",VLOOKUP(F16,サイズ!$E$3:$F$11,2,1))","v":""},null,null,null,null,null,null,null,null,{"$f":"IF(G16=\"\",\"\",VLOOKUP(G16,サイズ!$H$3:$I$17,2,1))","v":""}]
[null,null,null,null,null,null,null,{"$f":"IF(F17=\"\",\"\",VLOOKUP(F17,サイズ!$E$3:$F$11,2,1))","v":""},null,null,null,null,null,null,null,null,{"$f":"IF(G17=\"\",\"\",VLOOKUP(G17,サイズ!$H$3:$I$17,2,1))","v":""}]
[null,null,null,null,null,null,null,{"$f":"IF(F18=\"\",\"\",VLOOKUP(F18,サイズ!$E$3:$F$11,2,1))","v":""},null,null,null,null,null,null,null,null,{"$f":"IF(G18=\"\",\"\",VLOOKUP(G18,サイズ!$H$3:$I$17,2,1))","v":""}]
[null,null,null,null,null,null,null,{"$f":"IF(F19=\"\",\"\",VLOOKUP(F19,サイズ!$E$3:$F$11,2,1))","v":""},null,null,null,null,null,null,null,null,{"$f":"IF(G19=\"\",\"\",VLOOKUP(G19,サイズ!$H$3:$I$17,2,1))","v":""}]
[null,null,null,null,null,null,null,{"$f":"IF(F20=\"\",\"\",VLOOKUP(F20,サイズ!$E$3:$F$11,2,1))","v":""},null,null,null,null,null,null,null,null,{"$f":"IF(G20=\"\",\"\",VLOOKUP(G20,サイズ!$H$3:$I$17,2,1))","v":""}]
[null,null,null,null,null,null,null,{"$f":"IF(F21=\"\",\"\",VLOOKUP(F21,サイズ!$E$3:$F$11,2,1))","v":""},null,null,null,null,null,null,null,null,{"$f":"IF(G21=\"\",\"\",VLOOKUP(G21,サイズ!$H$3:$I$17,2,1))","v":""}]
[null,null,null,null,null,null,null,{"$f":"IF(F22=\"\",\"\",VLOOKUP(F22,サイズ!$E$3:$F$11,2,1))","v":""},null,null,null,null,null,null,null,null,{"$f":"IF(G22=\"\",\"\",VLOOKUP(G22,サイズ!$H$3:$I$17,2,1))","v":""}]
[null,null,null,null,null,null,null,{"$f":"IF(F23=\"\",\"\",VLOOKUP(F23,サイズ!$E$3:$F$11,2,1))","v":""},null,null,null,null,null,null,null,null,{"$f":"IF(G23=\"\",\"\",VLOOKUP(G23,サイズ!$H$3:$I$17,2,1))","v":""}]
[null,null,null,null,null,null,null,{"$f":"IF(F24=\"\",\"\",VLOOKUP(F24,サイズ!$E$3:$F$11,2,1))","v":""},null,null,null,null,null,null,null,null,{"$f":"IF(G24=\"\",\"\",VLOOKUP(G24,サイズ!$H$3:$I$17,2,1))","v":""}]
[null,null,null,null,null,null,null,{"$f":"IF(F25=\"\",\"\",VLOOKUP(F25,サイズ!$E$3:$F$11,2,1))","v":""},null,null,null,null,null,null,null,null,{"$f":"IF(G25=\"\",\"\",VLOOKUP(G25,サイズ!$H$3:$I$17,2,1))","v":""}]
[null,null,null,null,null,null,null,{"$f":"IF(F26=\"\",\"\",VLOOKUP(F26,サイズ!$E$3:$F$11,2,1))","v":""},null,null,null,null,null,null,null,null,{"$f":"IF(G26=\"\",\"\",VLOOKUP(G26,サイズ!$H$3:$I$17,2,1))","v":""}]
[null,null,null,null,null,null,null,{"$f":"IF(F27=\"\",\"\",VLOOKUP(F27,サイズ!$E$3:$F$11,2,1))","v":""},null,null,null,null,null,null,null,null,{"$f":"IF(G27=\"\",\"\",VLOOKUP(G27,サイズ!$H$3:$I$17,2,1))","v":""}]
[null,null,null,null,null,null,null,{"$f":"IF(F28=\"\",\"\",VLOOKUP(F28,サイズ!$E$3:$F$11,2,1))","v":""},null,null,null,null,null,null,null,null,{"$f":"IF(G28=\"\",\"\",VLOOKUP(G28,サイズ!$H$3:$I$17,2,1))","v":""}]
[null,null,null,null,null,null,null,{"$f":"IF(F29=\"\",\"\",VLOOKUP(F29,サイズ!$E$3:$F$11,2,1))","v":""},null,null,null,null,null,null,null,null,{"$f":"IF(G29=\"\",\"\",VLOOKUP(G29,サイズ!$H$3:$I$17,2,1))","v":""}]
[null,null,null,null,null,null,null,{"$f":"IF(F30=\"\",\"\",VLOOKUP(F30,サイズ!$E$3:$F$11,2,1))","v":""},null,null,null,null,null,null,null,null,{"$f":"IF(G30=\"\",\"\",VLOOKUP(G30,サイズ!$H$3:$I$17,2,1))","v":""}]
[null,null,null,null,null,null,null,{"$f":"IF(F31=\"\",\"\",VLOOKUP(F31,サイズ!$E$3:$F$11,2,1))","v":""},null,null,null,null,null,null,null,null,{"$f":"IF(G31=\"\",\"\",VLOOKUP(G31,サイズ!$H$3:$I$17,2,1))","v":""}]
[null,null,null,null,null,null,null,{"$f":"IF(F32=\"\",\"\",VLOOKUP(F32,サイズ!$E$3:$F$11,2,1))","v":""},null,null,null,null,null,null,null,null,{"$f":"IF(G32=\"\",\"\",VLOOKUP(G32,サイズ!$H$3:$I$17,2,1))","v":""}]
[null,null,null,null,null,null,null,{"$f":"IF(F33=\"\",\"\",VLOOKUP(F33,サイズ!$E$3:$F$11,2,1))","v":""},null,null,null,null,null,null,null,null,{"$f":"IF(G33=\"\",\"\",VLOOKUP(G33,サイズ!$H$3:$I$17,2,1))","v":""}]
[null,null,null,null,null,null,null,{"$f":"IF(F34=\"\",\"\",VLOOKUP(F34,サイズ!$E$3:$F$11,2,1))","v":""},null,null,null,null,null,null,null,null,{"$f":"IF(G34=\"\",\"\",VLOOKUP(G34,サイズ!$H$3:$I$17,2,1))","v":""}]
[null,null,null,null,null,null,null,{"$f":"IF(F35=\"\",\"\",VLOOKUP(F35,サイズ!$E$3:$F$11,2,1))","v":""},null,null,null,null,null,null,null,null,{"$f":"IF(G35=\"\",\"\",VLOOKUP(G35,サイズ!$H$3:$I$17,2,1))","v":""}]
[null,null,null,null,null,null,null,{"$f":"IF(F36=\"\",\"\",VLOOKUP(F36,サイズ!$E$3:$F$11,2,1))","v":""},null,null,null,null,null,null,null,null,{"$f":"IF(G36=\"\",\"\",VLOOKUP(G36,サイズ!$H$3:$I$17,2,1))","v":""}]
[null,null,null,null,null,null,null,{"$f":"IF(F37=\"\",\"\",VLOOKUP(F37,サイズ!$E$3:$F$11,2,1))","v":""},null,null,null,null,null,null,null,null,{"$f":"IF(G37=\"\",\"\",VLOOKUP(G37,サイズ!$H$3:$I$17,2,1))","v":""}]
[null,null,null,null,null,null,null,{"$f":"IF(F38=\"\",\"\",VLOOKUP(F38,サイズ!$E$3:$F$11,2,1))","v":""},null,null,null,null,null,null,null,null,{"$f":"IF(G38=\"\",\"\",VLOOKUP(G38,サイズ!$H$3:$I$17,2,1))","v":""}]
[null,null,null,null,null,null,null,{"$f":"IF(F39=\"\",\"\",VLOOKUP(F39,サイズ!$E$3:$F$11,2,1))","v":""},null,null,null,null,null,null,null,null,{"$f":"IF(G39=\"\",\"\",VLOOKUP(G39,サイズ!$H$3:$I$17,2,1))","v":""}]
[null,null,null,null,null,null,null,{"$f":"IF(F40=\"\",\"\",VLOOKUP(F40,サイズ!$E$3:$F$11,2,1))","v":""},null,null,null,null,null,null,null,null,{"$f":"IF(G40=\"\",\"\",VLOOKUP(G40,サイズ!$H$3:$I$17,2,1))","v":""}]
[null,null,null,null,null,null,null,{"$f":"IF(F41=\"\",\"\",VLOOKUP(F41,サイズ!$E$3:$F$11,2,1))","v":""},null,null,null,null,null,null,null,null,{"$f":"IF(G41=\"\",\"\",VLOOKUP(G41,サイズ!$H$3:$I$17,2,1))","v":""}]
[null,null,null,null,null,null,null,{"$f":"IF(F42=\"\",\"\",VLOOKUP(F42,サイズ!$E$3:$F$11,2,1))","v":""},null,null,null,null,null,null,null,null,{"$f":"IF(G42=\"\",\"\",VLOOKUP(G42,サイズ!$H$3:$I$17,2,1))","v":""}]
[null,null,null,null,null,null,null,{"$f":"IF(F43=\"\",\"\",VLOOKUP(F43,サイズ!$E$3:$F$11,2,1))","v":""},null,null,null,null,null,null,null,null,{"$f":"IF(G43=\"\",\"\",VLOOKUP(G43,サイズ!$H$3:$I$17,2,1))","v":""}]
[null,null,null,null,null,null,null,{"$f":"IF(F44=\"\",\"\",VLOOKUP(F44,サイズ!$E$3:$F$11,2,1))","v":""},null,null,null,null,null,null,null,null,{"$f":"IF(G44=\"\",\"\",VLOOKUP(G44,サイズ!$H$3:$I$17,2,1))","v":""}]
[null,null,null,null,null,null,null,{"$f":"IF(F45=\"\",\"\",VLOOKUP(F45,サイズ!$E$3:$F$11,2,1))","v":""},null,null,null,null,null,null,null,null,{"$f":"IF(G45=\"\",\"\",VLOOKUP(G45,サイズ!$H$3:$I$17,2,1))","v":""}]
[null,null,null,null,null,null,null,{"$f":"IF(F46=\"\",\"\",VLOOKUP(F46,サイズ!$E$3:$F$11,2,1))","v":""},null,null,null,null,null,null,null,null,{"$f":"IF(G46=\"\",\"\",VLOOKUP(G46,サイズ!$H$3:$I$17,2,1))","v":""}]
[null,null,null,null,null,null,null,{"$f":"IF(F47=\"\",\"\",VLOOKUP(F47,サイズ!$E$3:$F$11,2,1))","v":""},null,null,null,null,null,null,null,null,{"$f":"IF(G47=\"\",\"\",VLOOKUP(G47,サイズ!$H$3:$I$17,2,1))","v":""}]
[null,null,null,null,null,null,null,{"$f":"IF(F48=\"\",\"\",VLOOKUP(F48,サイズ!$E$3:$F$11,2,1))","v":""},null,null,null,null,null,null,null,null,{"$f":"IF(G48=\"\",\"\",VLOOKUP(G48,サイズ!$H$3:$I$17,2,1))","v":""}]
[null,null,null,null,null,null,null,{"$f":"IF(F49=\"\",\"\",VLOOKUP(F49,サイズ!$E$3:$F$11,2,1))","v":""},null,null,null,null,null,null,null,null,{"$f":"IF(G49=\"\",\"\",VLOOKUP(G49,サイズ!$H$3:$I$17,2,1))","v":""}]
[null,null,null,null,null,null,null,{"$f":"IF(F50=\"\",\"\",VLOOKUP(F50,サイズ!$E$3:$F$11,2,1))","v":""},null,null,null,null,null,null,null,null,{"$f":"IF(G50=\"\",\"\",VLOOKUP(G50,サイズ!$H$3:$I$17,2,1))","v":""}]
[null,null,null,null,null,null,null,{"$f":"IF(F51=\"\",\"\",VLOOKUP(F51,サイズ!$E$3:$F$11,2,1))","v":""},null,null,null,null,null,null,null,null,{"$f":"IF(G51=\"\",\"\",VLOOKUP(G51,サイズ!$H$3:$I$17,2,1))","v":""}]
[null,null,null,null,null,null,null,{"$f":"IF(F52=\"\",\"\",VLOOKUP(F52,サイズ!$E$3:$F$11,2,1))","v":""},null,null,null,null,null,null,null,null,{"$f":"IF(G52=\"\",\"\",VLOOKUP(G52,サイズ!$H$3:$I$17,2,1))","v":""}]
[null,null,null,null,null,null,null,{"$f":"IF(F53=\"\",\"\",VLOOKUP(F53,サイズ!$E$3:$F$11,2,1))","v":""},null,null,null,null,null,null,null,null,{"$f":"IF(G53=\"\",\"\",VLOOKUP(G53,サイズ!$H$3:$I$17,2,1))","v":""}]
[null,null,null,null,null,null,null,{"$f":"IF(F54=\"\",\"\",VLOOKUP(F54,サイズ!$E$3:$F$11,2,1))","v":""},null,null,null,null,null,null,null,null,{"$f":"IF(G54=\"\",\"\",VLOOKUP(G54,サイズ!$H$3:$I$17,2,1))","v":""}]
[null,null,null,null,null,null,null,{"$f":"IF(F55=\"\",\"\",VLOOKUP(F55,サイズ!$E$3:$F$11,2,1))","v":""},null,null,null,null,null,null,null,null,{"$f":"IF(G55=\"\",\"\",VLOOKUP(G55,サイズ!$H$3:$I$17,2,1))","v":""}]
[null,null,null,null,null,null,null,{"$f":"IF(F56=\"\",\"\",VLOOKUP(F56,サイズ!$E$3:$F$11,2,1))","v":""},null,null,null,null,null,null,null,null,{"$f":"IF(G56=\"\",\"\",VLOOKUP(G56,サイズ!$H$3:$I$17,2,1))","v":""}]
[null,null,null,null,null,null,null,{"$f":"IF(F57=\"\",\"\",VLOOKUP(F57,サイズ!$E$3:$F$11,2,1))","v":""},null,null,null,null,null,null,null,null,{"$f":"IF(G57=\"\",\"\",VLOOKUP(G57,サイズ!$H$3:$I$17,2,1))","v":""}]
[null,null,null,null,null,null,null,{"$f":"IF(F58=\"\",\"\",VLOOKUP(F58,サイズ!$E$3:$F$11,2,1))","v":""},null,null,null,null,null,null,null,null,{"$f":"IF(G58=\"\",\"\",VLOOKUP(G58,サイズ!$H$3:$I$17,2,1))","v":""}]
[null,null,null,null,null,null,null,{"$f":"IF(F59=\"\",\"\",VLOOKUP(F59,サイズ!$E$3:$F$11,2,1))","v":""},null,null,null,null,null,null,null,null,{"$f":"IF(G59=\"\",\"\",VLOOKUP(G59,サイズ!$H$3:$I$17,2,1))","v":""}]
[null,null,null,null,null,null,null,{"$f":"IF(F60=\"\",\"\",VLOOKUP(F60,サイズ!$E$3:$F$11,2,1))","v":""},null,null,null,null,null,null,null,null,{"$f":"IF(G60=\"\",\"\",VLOOKUP(G60,サイズ!$H$3:$I$17,2,1))","v":""}]
[null,null,null,null,null,null,null,{"$f":"IF(F61=\"\",\"\",VLOOKUP(F61,サイズ!$E$3:$F$11,2,1))","v":""},null,null,null,null,null,null,null,null,{"$f":"IF(G61=\"\",\"\",VLOOKUP(G61,サイズ!$H$3:$I$17,2,1))","v":""}]
[null,null,null,null,null,null,null,{"$f":"IF(F62=\"\",\"\",VLOOKUP(F62,サイズ!$E$3:$F$11,2,1))","v":""},null,null,null,null,null,null,null,null,{"$f":"IF(G62=\"\",\"\",VLOOKUP(G62,サイズ!$H$3:$I$17,2,1))","v":""}]
[null,null,null,null,null,null,null,{"$f":"IF(F63=\"\",\"\",VLOOKUP(F63,サイズ!$E$3:$F$11,2,1))","v":""},null,null,null,null,null,null,null,null,{"$f":"IF(G63=\"\",\"\",VLOOKUP(G63,サイズ!$H$3:$I$17,2,1))","v":""}]
[null,null,null,null,null,null,null,{"$f":"IF(F64=\"\",\"\",VLOOKUP(F64,サイズ!$E$3:$F$11,2,1))","v":""},null,null,null,null,null,null,null,null,{"$f":"IF(G64=\"\",\"\",VLOOKUP(G64,サイズ!$H$3:$I$17,2,1))","v":""}]
[null,null,null,null,null,null,null,{"$f":"IF(F65=\"\",\"\",VLOOKUP(F65,サイズ!$E$3:$F$11,2,1))","v":""},null,null,null,null,null,null,null,null,{"$f":"IF(G65=\"\",\"\",VLOOKUP(G65,サイズ!$H$3:$I$17,2,1))","v":""}]
[null,null,null,null,null,null,null,{"$f":"IF(F66=\"\",\"\",VLOOKUP(F66,サイズ!$E$3:$F$11,2,1))","v":""},null,null,null,null,null,null,null,null,{"$f":"IF(G66=\"\",\"\",VLOOKUP(G66,サイズ!$H$3:$I$17,2,1))","v":""}]
[null,null,null,null,null,null,null,{"$f":"IF(F67=\"\",\"\",VLOOKUP(F67,サイズ!$E$3:$F$11,2,1))","v":""},null,null,null,null,null,null,null,null,{"$f":"IF(G67=\"\",\"\",VLOOKUP(G67,サイズ!$H$3:$I$17,2,1))","v":""}]
[null,null,null,null,null,null,null,{"$f":"IF(F68=\"\",\"\",VLOOKUP(F68,サイズ!$E$3:$F$11,2,1))","v":""},null,null,null,null,null,null,null,null,{"$f":"IF(G68=\"\",\"\",VLOOKUP(G68,サイズ!$H$3:$I$17,2,1))","v":""}]
[null,null,null,null,null,null,null,{"$f":"IF(F69=\"\",\"\",VLOOKUP(F69,サイズ!$E$3:$F$11,2,1))","v":""},null,null,null,null,null,null,null,null,{"$f":"IF(G69=\"\",\"\",VLOOKUP(G69,サイズ!$H$3:$I$17,2,1))","v":""}]
[null,null,null,null,null,null,null,{"$f":"IF(F70=\"\",\"\",VLOOKUP(F70,サイズ!$E$3:$F$11,2,1))","v":""},null,null,null,null,null,null,null,null,{"$f":"IF(G70=\"\",\"\",VLOOKUP(G70,サイズ!$H$3:$I$17,2,1))","v":""}]
[null,null,null,null,null,null,null,{"$f":"IF(F71=\"\",\"\",VLOOKUP(F71,サイズ!$E$3:$F$11,2,1))","v":""},null,null,null,null,null,null,null,null,{"$f":"IF(G71=\"\",\"\",VLOOKUP(G71,サイズ!$H$3:$I$17,2,1))","v":""}]
[null,null,null,null,null,null,null,{"$f":"IF(F72=\"\",\"\",VLOOKUP(F72,サイズ!$E$3:$F$11,2,1))","v":""},null,null,null,null,null,null,null,null,{"$f":"IF(G72=\"\",\"\",VLOOKUP(G72,サイズ!$H$3:$I$17,2,1))","v":""}]
[null,null,null,null,null,null,null,{"$f":"IF(F73=\"\",\"\",VLOOKUP(F73,サイズ!$E$3:$F$11,2,1))","v":""},null,null,null,null,null,null,null,null,{"$f":"IF(G73=\"\",\"\",VLOOKUP(G73,サイズ!$H$3:$I$17,2,1))","v":""}]
[null,null,null,null,null,null,null,{"$f":"IF(F74=\"\",\"\",VLOOKUP(F74,サイズ!$E$3:$F$11,2,1))","v":""},null,null,null,null,null,null,null,null,{"$f":"IF(G74=\"\",\"\",VLOOKUP(G74,サイズ!$H$3:$I$17,2,1))","v":""}]
[null,null,null,null,null,null,null,{"$f":"IF(F75=\"\",\"\",VLOOKUP(F75,サイズ!$E$3:$F$11,2,1))","v":""},null,null,null,null,null,null,null,null,{"$f":"IF(G75=\"\",\"\",VLOOKUP(G75,サイズ!$H$3:$I$17,2,1))","v":""}]
[null,null,null,null,null,null,null,{"$f":"IF(F76=\"\",\"\",VLOOKUP(F76,サイズ!$E$3:$F$11,2,1))","v":""},null,null,null,null,null,null,null,null,{"$f":"IF(G76=\"\",\"\",VLOOKUP(G76,サイズ!$H$3:$I$17,2,1))","v":""}]
[null,null,null,null,null,null,null,{"$f":"IF(F77=\"\",\"\",VLOOKUP(F77,サイズ!$E$3:$F$11,2,1))","v":""},null,null,null,null,null,null,null,null,{"$f":"IF(G77=\"\",\"\",VLOOKUP(G77,サイズ!$H$3:$I$17,2,1))","v":""}]
[null,null,null,null,null,null,null,{"$f":"IF(F78=\"\",\"\",VLOOKUP(F78,サイズ!$E$3:$F$11,2,1))","v":""},null,null,null,null,null,null,null,null,{"$f":"IF(G78=\"\",\"\",VLOOKUP(G78,サイズ!$H$3:$I$17,2,1))","v":""}]
[null,null,null,null,null,null,null,{"$f":"IF(F79=\"\",\"\",VLOOKUP(F79,サイズ!$E$3:$F$11,2,1))","v":""},null,null,null,null,null,null,null,null,{"$f":"IF(G79=\"\",\"\",VLOOKUP(G79,サイズ!$H$3:$I$17,2,1))","v":""}]
[null,null,null,null,null,null,null,{"$f":"IF(F80=\"\",\"\",VLOOKUP(F80,サイズ!$E$3:$F$11,2,1))","v":""},null,null,null,null,null,null,null,null,{"$f":"IF(G80=\"\",\"\",VLOOKUP(G80,サイズ!$H$3:$I$17,2,1))","v":""}]
[null,null,null,null,null,null,null,{"$f":"IF(F81=\"\",\"\",VLOOKUP(F81,サイズ!$E$3:$F$11,2,1))","v":""},null,null,null,null,null,null,null,null,{"$f":"IF(G81=\"\",\"\",VLOOKUP(G81,サイズ!$H$3:$I$17,2,1))","v":""}]
[null,null,null,null,null,null,null,{"$f":"IF(F82=\"\",\"\",VLOOKUP(F82,サイズ!$E$3:$F$11,2,1))","v":""},null,null,null,null,null,null,null,null,{"$f":"IF(G82=\"\",\"\",VLOOKUP(G82,サイズ!$H$3:$I$17,2,1))","v":""}]
[null,null,null,null,null,null,null,{"$f":"IF(F83=\"\",\"\",VLOOKUP(F83,サイズ!$E$3:$F$11,2,1))","v":""},null,null,null,null,null,null,null,null,{"$f":"IF(G83=\"\",\"\",VLOOKUP(G83,サイズ!$H$3:$I$17,2,1))","v":""}]
[null,null,null,null,null,null,null,{"$f":"IF(F84=\"\",\"\",VLOOKUP(F84,サイズ!$E$3:$F$11,2,1))","v":""},null,null,null,null,null,null,null,null,{"$f":"IF(G84=\"\",\"\",VLOOKUP(G84,サイズ!$H$3:$I$17,2,1))","v":""}]
[null,null,null,null,null,null,null,{"$f":"IF(F85=\"\",\"\",VLOOKUP(F85,サイズ!$E$3:$F$11,2,1))","v":""},null,null,null,null,null,null,null,null,{"$f":"IF(G85=\"\",\"\",VLOOKUP(G85,サイズ!$H$3:$I$17,2,1))","v":""}]
[null,null,null,null,null,null,null,{"$f":"IF(F86=\"\",\"\",VLOOKUP(F86,サイズ!$E$3:$F$11,2,1))","v":""},null,null,null,null,null,null,null,null,{"$f":"IF(G86=\"\",\"\",VLOOKUP(G86,サイズ!$H$3:$I$17,2,1))","v":""}]
[null,null,null,null,null,null,null,{"$f":"IF(F87=\"\",\"\",VLOOKUP(F87,サイズ!$E$3:$F$11,2,1))","v":""},null,null,null,null,null,null,null,null,{"$f":"IF(G87=\"\",\"\",VLOOKUP(G87,サイズ!$H$3:$I$17,2,1))","v":""}]
[null,null,null,null,null,null,null,{"$f":"IF(F88=\"\",\"\",VLOOKUP(F88,サイズ!$E$3:$F$11,2,1))","v":""},null,null,null,null,null,null,null,null,{"$f":"IF(G88=\"\",\"\",VLOOKUP(G88,サイズ!$H$3:$I$17,2,1))","v":""}]
[null,null,null,null,null,null,null,{"$f":"IF(F89=\"\",\"\",VLOOKUP(F89,サイズ!$E$3:$F$11,2,1))","v":""},null,null,null,null,null,null,null,null,{"$f":"IF(G89=\"\",\"\",VLOOKUP(G89,サイズ!$H$3:$I$17,2,1))","v":""}]
[null,null,null,null,null,null,null,{"$f":"IF(F90=\"\",\"\",VLOOKUP(F90,サイズ!$E$3:$F$11,2,1))","v":""},null,null,null,null,null,null,null,null,{"$f":"IF(G90=\"\",\"\",VLOOKUP(G90,サイズ!$H$3:$I$17,2,1))","v":""}]
[null,null,null,null,null,null,null,{"$f":"IF(F91=\"\",\"\",VLOOKUP(F91,サイズ!$E$3:$F$11,2,1))","v":""},null,null,null,null,null,null,null,null,{"$f":"IF(G91=\"\",\"\",VLOOKUP(G91,サイズ!$H$3:$I$17,2,1))","v":""}]
[null,null,null,null,null,null,null,{"$f":"IF(F92=\"\",\"\",VLOOKUP(F92,サイズ!$E$3:$F$11,2,1))","v":""},null,null,null,null,null,null,null,null,{"$f":"IF(G92=\"\",\"\",VLOOKUP(G92,サイズ!$H$3:$I$17,2,1))","v":""}]
[null,null,null,null,null,null,null,{"$f":"IF(F93=\"\",\"\",VLOOKUP(F93,サイズ!$E$3:$F$11,2,1))","v":""},null,null,null,null,null,null,null,null,{"$f":"IF(G93=\"\",\"\",VLOOKUP(G93,サイズ!$H$3:$I$17,2,1))","v":""}]
[null,null,null,null,null,null,null,{"$f":"IF(F94=\"\",\"\",VLOOKUP(F94,サイズ!$E$3:$F$11,2,1))","v":""},null,null,null,null,null,null,null,null,{"$f":"IF(G94=\"\",\"\",VLOOKUP(G94,サイズ!$H$3:$I$17,2,1))","v":""}]
[null,null,null,null,null,null,null,{"$f":"IF(F95=\"\",\"\",VLOOKUP(F95,サイズ!$E$3:$F$11,2,1))","v":""},null,null,null,null,null,null,null,null,{"$f":"IF(G95=\"\",\"\",VLOOKUP(G95,サイズ!$H$3:$I$17,2,1))","v":""}]
[null,null,null,null,null,null,null,{"$f":"IF(F96=\"\",\"\",VLOOKUP(F96,サイズ!$E$3:$F$11,2,1))","v":""},null,null,null,null,null,null,null,null,{"$f":"IF(G96=\"\",\"\",VLOOKUP(G96,サイズ!$H$3:$I$17,2,1))","v":""}]
[null,null,null,null,null,null,null,{"$f":"IF(F97=\"\",\"\",VLOOKUP(F97,サイズ!$E$3:$F$11,2,1))","v":""},null,null,null,null,null,null,null,null,{"$f":"IF(G97=\"\",\"\",VLOOKUP(G97,サイズ!$H$3:$I$17,2,1))","v":""}]
[null,null,null,null,null,null,null,{"$f":"IF(F98=\"\",\"\",VLOOKUP(F98,サイズ!$E$3:$F$11,2,1))","v":""},null,null,null,null,null,null,null,null,{"$f":"IF(G98=\"\",\"\",VLOOKUP(G98,サイズ!$H$3:$I$17,2,1))","v":""}]
[null,null,null,null,null,null,null,{"$f":"IF(F99=\"\",\"\",VLOOKUP(F99,サイズ!$E$3:$F$11,2,1))","v":""},null,null,null,null,null,null,null,null,{"$f":"IF(G99=\"\",\"\",VLOOKUP(G99,サイズ!$H$3:$I$17,2,1))","v":""}]
[null,null,null,null,null,null,null,{"$f":"IF(F100=\"\",\"\",VLOOKUP(F100,サイズ!$E$3:$F$11,2,1))","v":""},null,null,null,null,null,null,null,null,{"$f":"IF(G100=\"\",\"\",VLOOKUP(G100,サイズ!$H$3:$I$17,2,1))","v":""}]
[null,null,null,null,null,null,null,{"$f":"IF(F101=\"\",\"\",VLOOKUP(F101,サイズ!$E$3:$F$11,2,1))","v":""},null,null,null,null,null,null,null,null,{"$f":"IF(G101=\"\",\"\",VLOOKUP(G101,サイズ!$H$3:$I$17,2,1))","v":""}]
[null,null,null,null,null,null,null,{"$f":"IF(F102=\"\",\"\",VLOOKUP(F102,サイズ!$E$3:$F$11,2,1))","v":""},null,null,null,null,null,null,null,null,{"$f":"IF(G102=\"\",\"\",VLOOKUP(G102,サイズ!$H$3:$I$17,2,1))","v":""}]
[null,null,null,null,null,null,null,{"$f":"IF(F103=\"\",\"\",VLOOKUP(F103,サイズ!$E$3:$F$11,2,1))","v":""},null,null,null,null,null,null,null,null,{"$f":"IF(G103=\"\",\"\",VLOOKUP(G103,サイズ!$H$3:$I$17,2,1))","v":""}]
[null,null,null,null,null,null,null,{"$f":"IF(F104=\"\",\"\",VLOOKUP(F104,サイズ!$E$3:$F$11,2,1))","v":""},null,null,null,null,null,null,null,null,{"$f":"IF(G104=\"\",\"\",VLOOKUP(G104,サイズ!$H$3:$I$17,2,1))","v":""}]
[null,null,null,null,null,null,null,{"$f":"IF(F105=\"\",\"\",VLOOKUP(F105,サイズ!$E$3:$F$11,2,1))","v":""},null,null,null,null,null,null,null,null,{"$f":"IF(G105=\"\",\"\",VLOOKUP(G105,サイズ!$H$3:$I$17,2,1))","v":""}]
[null,null,null,null,null,null,null,{"$f":"IF(F106=\"\",\"\",VLOOKUP(F106,サイズ!$E$3:$F$11,2,1))","v":""},null,null,null,null,null,null,null,null,{"$f":"IF(G106=\"\",\"\",VLOOKUP(G106,サイズ!$H$3:$I$17,2,1))","v":""}]
[null,null,null,null,null,null,null,{"$f":"IF(F107=\"\",\"\",VLOOKUP(F107,サイズ!$E$3:$F$11,2,1))","v":""},null,null,null,null,null,null,null,null,{"$f":"IF(G107=\"\",\"\",VLOOKUP(G107,サイズ!$H$3:$I$17,2,1))","v":""}]
[null,null,null,null,null,null,null,{"$f":"IF(F108=\"\",\"\",VLOOKUP(F108,サイズ!$E$3:$F$11,2,1))","v":""},null,null,null,null,null,null,null,null,{"$f":"IF(G108=\"\",\"\",VLOOKUP(G108,サイズ!$H$3:$I$17,2,1))","v":""}]
[null,null,null,null,null,null,null,{"$f":"IF(F109=\"\",\"\",VLOOKUP(F109,サイズ!$E$3:$F$11,2,1))","v":""},null,null,null,null,null,null,null,null,{"$f":"IF(G109=\"\",\"\",VLOOKUP(G109,サイズ!$H$3:$I$17,2,1))","v":""}]
[null,null,null,null,null,null,null,{"$f":"IF(F110=\"\",\"\",VLOOKUP(F110,サイズ!$E$3:$F$11,2,1))","v":""},null,null,null,null,null,null,null,null,{"$f":"IF(G110=\"\",\"\",VLOOKUP(G110,サイズ!$H$3:$I$17,2,1))","v":""}]
[null,null,null,null,null,null,null,{"$f":"IF(F111=\"\",\"\",VLOOKUP(F111,サイズ!$E$3:$F$11,2,1))","v":""},null,null,null,null,null,null,null,null,{"$f":"IF(G111=\"\",\"\",VLOOKUP(G111,サイズ!$H$3:$I$17,2,1))","v":""}]
[null,null,null,null,null,null,null,{"$f":"IF(F112=\"\",\"\",VLOOKUP(F112,サイズ!$E$3:$F$11,2,1))","v":""},null,null,null,null,null,null,null,null,{"$f":"IF(G112=\"\",\"\",VLOOKUP(G112,サイズ!$H$3:$I$17,2,1))","v":""}]
[null,null,null,null,null,null,null,{"$f":"IF(F113=\"\",\"\",VLOOKUP(F113,サイズ!$E$3:$F$11,2,1))","v":""},null,null,null,null,null,null,null,null,{"$f":"IF(G113=\"\",\"\",VLOOKUP(G113,サイズ!$H$3:$I$17,2,1))","v":""}]
[null,null,null,null,null,null,null,{"$f":"IF(F114=\"\",\"\",VLOOKUP(F114,サイズ!$E$3:$F$11,2,1))","v":""},null,null,null,null,null,null,null,null,{"$f":"IF(G114=\"\",\"\",VLOOKUP(G114,サイズ!$H$3:$I$17,2,1))","v":""}]
[null,null,null,null,null,null,null,{"$f":"IF(F115=\"\",\"\",VLOOKUP(F115,サイズ!$E$3:$F$11,2,1))","v":""},null,null,null,null,null,null,null,null,{"$f":"IF(G115=\"\",\"\",VLOOKUP(G115,サイズ!$H$3:$I$17,2,1))","v":""}]
[null,null,null,null,null,null,null,{"$f":"IF(F116=\"\",\"\",VLOOKUP(F116,サイズ!$E$3:$F$11,2,1))","v":""},null,null,null,null,null,null,null,null,{"$f":"IF(G116=\"\",\"\",VLOOKUP(G116,サイズ!$H$3:$I$17,2,1))","v":""}]
[null,null,null,null,null,null,null,{"$f":"IF(F117=\"\",\"\",VLOOKUP(F117,サイズ!$E$3:$F$11,2,1))","v":""},null,null,null,null,null,null,null,null,{"$f":"IF(G117=\"\",\"\",VLOOKUP(G117,サイズ!$H$3:$I$17,2,1))","v":""}]
[null,null,null,null,null,null,null,{"$f":"IF(F118=\"\",\"\",VLOOKUP(F118,サイズ!$E$3:$F$11,2,1))","v":""},null,null,null,null,null,null,null,null,{"$f":"IF(G118=\"\",\"\",VLOOKUP(G118,サイズ!$H$3:$I$17,2,1))","v":""}]
[null,null,null,null,null,null,null,{"$f":"IF(F119=\"\",\"\",VLOOKUP(F119,サイズ!$E$3:$F$11,2,1))","v":""},null,null,null,null,null,null,null,null,{"$f":"IF(G119=\"\",\"\",VLOOKUP(G119,サイズ!$H$3:$I$17,2,1))","v":""}]
[null,null,null,null,null,null,null,{"$f":"IF(F120=\"\",\"\",VLOOKUP(F120,サイズ!$E$3:$F$11,2,1))","v":""},null,null,null,null,null,null,null,null,{"$f":"IF(G120=\"\",\"\",VLOOKUP(G120,サイズ!$H$3:$I$17,2,1))","v":""}]
[null,null,null,null,null,null,null,{"$f":"IF(F121=\"\",\"\",VLOOKUP(F121,サイズ!$E$3:$F$11,2,1))","v":""},null,null,{"$f":"IF(G121=\"\",\"\",VLOOKUP(G121,サイズ!$A$3:$B$19,2))","v":""},{"$f":"IF(K121=\"\",\"\",K121)","v":""},null,{"$f":"IF(M121=\"\",\"\",1)","v":""},{"$f":"IF(M121=\"\",\"\",1)","v":""},{"$f":"IF(M121=\"\",\"\",1)","v":""},{"$f":"IF(G121=\"\",\"\",VLOOKUP(G121,サイズ!$H$3:$I$17,2,1))","v":""}]
[null,null,null,null,null,null,null,{"$f":"IF(F122=\"\",\"\",VLOOKUP(F122,サイズ!$E$3:$F$11,2,1))","v":""},null,null,{"$f":"IF(G122=\"\",\"\",VLOOKUP(G122,サイズ!$A$3:$B$19,2))","v":""},"",null,"","","",{"$f":"IF(G122=\"\",\"\",VLOOKUP(G122,サイズ!$H$3:$I$17,2,1))","v":""}]
[null,null,null,null,null,null,null,{"$f":"IF(F123=\"\",\"\",VLOOKUP(F123,サイズ!$E$3:$F$11,2,1))","v":""},null,null,{"$f":"IF(G123=\"\",\"\",VLOOKUP(G123,サイズ!$A$3:$B$19,2))","v":""},"",null,"","","",{"$f":"IF(G123=\"\",\"\",VLOOKUP(G123,サイズ!$H$3:$I$17,2,1))","v":""}]
[null,null,null,null,null,null,null,{"$f":"IF(F124=\"\",\"\",VLOOKUP(F124,サイズ!$E$3:$F$11,2,1))","v":""},null,null,null,"",null,"","","",{"$f":"IF(G124=\"\",\"\",VLOOKUP(G124,サイズ!$H$3:$I$17,2,1))","v":""}]
[null,null,null,null,null,null,null,{"$f":"IF(F125=\"\",\"\",VLOOKUP(F125,サイズ!$E$3:$F$11,2,1))","v":""},null,null,null,"",null,"","","",{"$f":"IF(G125=\"\",\"\",VLOOKUP(G125,サイズ!$H$3:$I$17,2,1))","v":""}]
[null,null,null,null,null,null,null,{"$f":"IF(F126=\"\",\"\",VLOOKUP(F126,サイズ!$E$3:$F$11,2,1))","v":""},null,null,null,"",null,"","","",{"$f":"IF(G126=\"\",\"\",VLOOKUP(G126,サイズ!$H$3:$I$17,2,1))","v":""}]
[null,null,null,null,null,null,null,{"$f":"IF(F127=\"\",\"\",VLOOKUP(F127,サイズ!$E$3:$F$11,2,1))","v":""},null,null,null,"",null,"","","",{"$f":"IF(G127=\"\",\"\",VLOOKUP(G127,サイズ!$H$3:$I$17,2,1))","v":""}]
[null,null,null,null,null,null,null,{"$f":"IF(F128=\"\",\"\",VLOOKUP(F128,サイズ!$E$3:$F$11,2,1))","v":""},null,null,null,"",null,"","","",{"$f":"IF(G128=\"\",\"\",VLOOKUP(G128,サイズ!$H$3:$I$17,2,1))","v":""}]
[null,null,null,null,null,null,null,{"$f":"IF(F129=\"\",\"\",VLOOKUP(F129,サイズ!$E$3:$F$11,2,1))","v":""},null,null,null,"",null,"","","",{"$f":"IF(G129=\"\",\"\",VLOOKUP(G129,サイズ!$H$3:$I$17,2,1))","v":""}]
[null,null,null,null,null,null,null,{"$f":"IF(F130=\"\",\"\",VLOOKUP(F130,サイズ!$E$3:$F$11,2,1))","v":""},null,null,null,"",null,"","","",{"$f":"IF(G130=\"\",\"\",VLOOKUP(G130,サイズ!$H$3:$I$17,2,1))","v":""}]
[null,null,null,null,null,null,null,{"$f":"IF(F131=\"\",\"\",VLOOKUP(F131,サイズ!$E$3:$F$11,2,1))","v":""},null,null,null,{"$f":"IF(K131=\"\",\"\",K131)","v":""},null,"","","",{"$f":"IF(G131=\"\",\"\",VLOOKUP(G131,サイズ!$H$3:$I$17,2,1))","v":""}]
[null,null,null,null,null,null,null,{"$f":"IF(F132=\"\",\"\",VLOOKUP(F132,サイズ!$E$3:$F$11,2,1))","v":""},null,null,null,"",null,"","","",{"$f":"IF(G132=\"\",\"\",VLOOKUP(G132,サイズ!$H$3:$I$17,2,1))","v":""}]
[null,null,null,null,null,null,null,{"$f":"IF(F133=\"\",\"\",VLOOKUP(F133,サイズ!$E$3:$F$11,2,1))","v":""},null,null,null,"",null,"","","",{"$f":"IF(G133=\"\",\"\",VLOOKUP(G133,サイズ!$H$3:$I$17,2,1))","v":""}]
[null,null,null,null,null,null,null,{"$f":"IF(F134=\"\",\"\",VLOOKUP(F134,サイズ!$E$3:$F$11,2,1))","v":""},null,null,null,"",null,"","","",{"$f":"IF(G134=\"\",\"\",VLOOKUP(G134,サイズ!$H$3:$I$17,2,1))","v":""}]
[null,null,null,null,null,null,null,{"$f":"IF(F135=\"\",\"\",VLOOKUP(F135,サイズ!$E$3:$F$11,2,1))","v":""},null,null,null,"",null,"","","",{"$f":"IF(G135=\"\",\"\",VLOOKUP(G135,サイズ!$H$3:$I$17,2,1))","v":""}]
[null,null,null,null,null,null,null,{"$f":"IF(F136=\"\",\"\",VLOOKUP(F136,サイズ!$E$3:$F$11,2,1))","v":""},null,null,null,"",null,"","","",{"$f":"IF(G136=\"\",\"\",VLOOKUP(G136,サイズ!$H$3:$I$17,2,1))","v":""}]
[null,null,null,null,null,null,null,{"$f":"IF(F137=\"\",\"\",VLOOKUP(F137,サイズ!$E$3:$F$11,2,1))","v":""},null,null,null,"",null,"","","",{"$f":"IF(G137=\"\",\"\",VLOOKUP(G137,サイズ!$H$3:$I$17,2,1))","v":""}]
[null,null,null,null,null,null,null,{"$f":"IF(F138=\"\",\"\",VLOOKUP(F138,サイズ!$E$3:$F$11,2,1))","v":""},null,null,null,"",null,"","","",{"$f":"IF(G138=\"\",\"\",VLOOKUP(G138,サイズ!$H$3:$I$17,2,1))","v":""}]
[null,null,null,null,null,null,null,{"$f":"IF(F139=\"\",\"\",VLOOKUP(F139,サイズ!$E$3:$F$11,2,1))","v":""},null,null,null,"",null,"","","",{"$f":"IF(G139=\"\",\"\",VLOOKUP(G139,サイズ!$H$3:$I$17,2,1))","v":""}]
[null,null,null,null,null,null,null,{"$f":"IF(F140=\"\",\"\",VLOOKUP(F140,サイズ!$E$3:$F$11,2,1))","v":""},null,null,null,"",null,"","","",{"$f":"IF(G140=\"\",\"\",VLOOKUP(G140,サイズ!$H$3:$I$17,2,1))","v":""}]
[null,null,null,null,null,null,null,{"$f":"IF(F141=\"\",\"\",VLOOKUP(F141,サイズ!$E$3:$F$11,2,1))","v":""},null,null,null,"",null,"","","",{"$f":"IF(G141=\"\",\"\",VLOOKUP(G141,サイズ!$H$3:$I$17,2,1))","v":""}]
[null,null,null,null,null,null,null,{"$f":"IF(F142=\"\",\"\",VLOOKUP(F142,サイズ!$E$3:$F$11,2,1))","v":""},null,null,null,"",null,"","","",{"$f":"IF(G142=\"\",\"\",VLOOKUP(G142,サイズ!$H$3:$I$17,2,1))","v":""}]
[null,null,null,null,null,null,null,{"$f":"IF(F143=\"\",\"\",VLOOKUP(F143,サイズ!$E$3:$F$11,2,1))","v":""},null,null,null,"",null,"","","",{"$f":"IF(G143=\"\",\"\",VLOOKUP(G143,サイズ!$H$3:$I$17,2,1))","v":""}]
[null,null,null,null,null,null,null,{"$f":"IF(F144=\"\",\"\",VLOOKUP(F144,サイズ!$E$3:$F$11,2,1))","v":""},null,null,null,"",null,"","","",{"$f":"IF(G144=\"\",\"\",VLOOKUP(G144,サイズ!$H$3:$I$17,2,1))","v":""}]
[null,null,null,null,null,null,null,{"$f":"IF(F145=\"\",\"\",VLOOKUP(F145,サイズ!$E$3:$F$11,2,1))","v":""},null,null,null,"",null,"","","",{"$f":"IF(G145=\"\",\"\",VLOOKUP(G145,サイズ!$H$3:$I$17,2,1))","v":""}]
[null,null,null,null,null,null,null,{"$f":"IF(F146=\"\",\"\",VLOOKUP(F146,サイズ!$E$3:$F$11,2,1))","v":""},null,null,null,"",null,"","","",{"$f":"IF(G146=\"\",\"\",VLOOKUP(G146,サイズ!$H$3:$I$17,2,1))","v":""}]
[null,null,null,null,null,null,null,{"$f":"IF(F147=\"\",\"\",VLOOKUP(F147,サイズ!$E$3:$F$11,2,1))","v":""},null,null,null,"",null,"","","",{"$f":"IF(G147=\"\",\"\",VLOOKUP(G147,サイズ!$H$3:$I$17,2,1))","v":""}]
[null,null,null,null,null,null,null,{"$f":"IF(F148=\"\",\"\",VLOOKUP(F148,サイズ!$E$3:$F$11,2,1))","v":""},null,null,null,"",null,"","","",{"$f":"IF(G148=\"\",\"\",VLOOKUP(G148,サイズ!$H$3:$I$17,2,1))","v":""}]
[null,null,null,null,null,null,null,{"$f":"IF(F149=\"\",\"\",VLOOKUP(F149,サイズ!$E$3:$F$11,2,1))","v":""},null,null,null,"",null,"","","",{"$f":"IF(G149=\"\",\"\",VLOOKUP(G149,サイズ!$H$3:$I$17,2,1))","v":""}]
[null,null,null,null,null,null,null,{"$f":"IF(F150=\"\",\"\",VLOOKUP(F150,サイズ!$E$3:$F$11,2,1))","v":""},null,null,null,"",null,"","","",{"$f":"IF(G150=\"\",\"\",VLOOKUP(G150,サイズ!$H$3:$I$17,2,1))","v":""}]
[null,null,null,null,null,null,null,{"$f":"IF(F151=\"\",\"\",VLOOKUP(F151,サイズ!$E$3:$F$11,2,1))","v":""},null,null,null,"",null,"","","",{"$f":"IF(G151=\"\",\"\",VLOOKUP(G151,サイズ!$H$3:$I$17,2,1))","v":""}]
[null,null,null,null,null,null,null,{"$f":"IF(F152=\"\",\"\",VLOOKUP(F152,サイズ!$E$3:$F$11,2,1))","v":""},null,null,null,"",null,"","","",{"$f":"IF(G152=\"\",\"\",VLOOKUP(G152,サイズ!$H$3:$I$17,2,1))","v":""}]
[null,null,null,null,null,null,null,{"$f":"IF(F153=\"\",\"\",VLOOKUP(F153,サイズ!$E$3:$F$11,2,1))","v":""},null,null,null,"",null,{"$f":"IF(M153=\"\",\"\",1)","v":""},{"$f":"IF(M153=\"\",\"\",1)","v":""},{"$f":"IF(M153=\"\",\"\",1)","v":""},{"$f":"IF(G153=\"\",\"\",VLOOKUP(G153,サイズ!$H$3:$I$17,2,1))","v":""}]
[null,null,null,null,null,null,null,{"$f":"IF(F154=\"\",\"\",VLOOKUP(F154,サイズ!$E$3:$F$11,2,1))","v":""},null,null,null,"",null,"","","",{"$f":"IF(G154=\"\",\"\",VLOOKUP(G154,サイズ!$H$3:$I$17,2,1))","v":""}]
[null,null,null,null,null,null,null,{"$f":"IF(F155=\"\",\"\",VLOOKUP(F155,サイズ!$E$3:$F$11,2,1))","v":""},null,null,null,"",null,"","","",{"$f":"IF(G155=\"\",\"\",VLOOKUP(G155,サイズ!$H$3:$I$17,2,1))","v":""}]
[null,null,null,null,null,null,null,{"$f":"IF(F156=\"\",\"\",VLOOKUP(F156,サイズ!$E$3:$F$11,2,1))","v":""},null,null,null,"",null,"","","",{"$f":"IF(G156=\"\",\"\",VLOOKUP(G156,サイズ!$H$3:$I$17,2,1))","v":""}]
[null,null,null,null,null,null,null,{"$f":"IF(F157=\"\",\"\",VLOOKUP(F157,サイズ!$E$3:$F$11,2,1))","v":""},null,null,null,"",null,"","","",{"$f":"IF(G157=\"\",\"\",VLOOKUP(G157,サイズ!$H$3:$I$17,2,1))","v":""}]
[null,null,null,null,null,null,null,{"$f":"IF(F158=\"\",\"\",VLOOKUP(F158,サイズ!$E$3:$F$11,2,1))","v":""},null,null,null,"",null,"","","",{"$f":"IF(G158=\"\",\"\",VLOOKUP(G158,サイズ!$H$3:$I$17,2,1))","v":""}]
[null,null,null,null,null,null,null,{"$f":"IF(F159=\"\",\"\",VLOOKUP(F159,サイズ!$E$3:$F$11,2,1))","v":""},null,null,null,"",null,"","","",{"$f":"IF(G159=\"\",\"\",VLOOKUP(G159,サイズ!$H$3:$I$17,2,1))","v":""}]
[null,null,null,null,null,null,null,{"$f":"IF(F160=\"\",\"\",VLOOKUP(F160,サイズ!$E$3:$F$11,2,1))","v":""},null,null,null,"",null,"","","",{"$f":"IF(G160=\"\",\"\",VLOOKUP(G160,サイズ!$H$3:$I$17,2,1))","v":""}]
[null,null,null,null,null,null,null,{"$f":"IF(F161=\"\",\"\",VLOOKUP(F161,サイズ!$E$3:$F$11,2,1))","v":""},null,null,null,"",null,"","","",{"$f":"IF(G161=\"\",\"\",VLOOKUP(G161,サイズ!$H$3:$I$17,2,1))","v":""}]
[null,null,null,null,null,null,null,{"$f":"IF(F162=\"\",\"\",VLOOKUP(F162,サイズ!$E$3:$F$11,2,1))","v":""},null,null,null,"",null,"","","",{"$f":"IF(G162=\"\",\"\",VLOOKUP(G162,サイズ!$H$3:$I$17,2,1))","v":""}]
[null,null,null,null,null,null,null,{"$f":"IF(F163=\"\",\"\",VLOOKUP(F163,サイズ!$E$3:$F$11,2,1))","v":""},null,null,null,"",null,"","","",{"$f":"IF(G163=\"\",\"\",VLOOKUP(G163,サイズ!$H$3:$I$17,2,1))","v":""}]
[null,null,null,null,null,null,null,{"$f":"IF(F164=\"\",\"\",VLOOKUP(F164,サイズ!$E$3:$F$11,2,1))","v":""},null,null,null,"",null,"","","",{"$f":"IF(G164=\"\",\"\",VLOOKUP(G164,サイズ!$H$3:$I$17,2,1))","v":""}]
[null,null,null,null,null,null,null,{"$f":"IF(F165=\"\",\"\",VLOOKUP(F165,サイズ!$E$3:$F$11,2,1))","v":""},null,null,null,"",null,"","","",{"$f":"IF(G165=\"\",\"\",VLOOKUP(G165,サイズ!$H$3:$I$17,2,1))","v":""}]
[null,null,null,null,null,null,null,{"$f":"IF(F166=\"\",\"\",VLOOKUP(F166,サイズ!$E$3:$F$11,2,1))","v":""},null,null,null,"",null,"","","",{"$f":"IF(G166=\"\",\"\",VLOOKUP(G166,サイズ!$H$3:$I$17,2,1))","v":""}]
[null,null,null,null,null,null,null,{"$f":"IF(F167=\"\",\"\",VLOOKUP(F167,サイズ!$E$3:$F$11,2,1))","v":""},null,null,null,"",null,"","","",{"$f":"IF(G167=\"\",\"\",VLOOKUP(G167,サイズ!$H$3:$I$17,2,1))","v":""}]
[null,null,null,null,null,null,null,{"$f":"IF(F168=\"\",\"\",VLOOKUP(F168,サイズ!$E$3:$F$11,2,1))","v":""},null,null,null,"",null,"","","",{"$f":"IF(G168=\"\",\"\",VLOOKUP(G168,サイズ!$H$3:$I$17,2,1))","v":""}]
[null,null,null,null,null,null,null,{"$f":"IF(F169=\"\",\"\",VLOOKUP(F169,サイズ!$E$3:$F$11,2,1))","v":""},null,null,null,"",null,"","","",{"$f":"IF(G169=\"\",\"\",VLOOKUP(G169,サイズ!$H$3:$I$17,2,1))","v":""}]
[null,null,null,null,null,null,null,{"$f":"IF(F170=\"\",\"\",VLOOKUP(F170,サイズ!$E$3:$F$11,2,1))","v":""},null,null,null,"",null,"","","",{"$f":"IF(G170=\"\",\"\",VLOOKUP(G170,サイズ!$H$3:$I$17,2,1))","v":""}]
[null,null,null,null,null,null,null,{"$f":"IF(F171=\"\",\"\",VLOOKUP(F171,サイズ!$E$3:$F$11,2,1))","v":""},null,null,null,"",null,"","","",{"$f":"IF(G171=\"\",\"\",VLOOKUP(G171,サイズ!$H$3:$I$17,2,1))","v":""}]
[null,null,null,null,null,null,null,{"$f":"IF(F172=\"\",\"\",VLOOKUP(F172,サイズ!$E$3:$F$11,2,1))","v":""},null,null,null,"",null,"","","",{"$f":"IF(G172=\"\",\"\",VLOOKUP(G172,サイズ!$H$3:$I$17,2,1))","v":""}]
[null,null,null,null,null,null,null,{"$f":"IF(F173=\"\",\"\",VLOOKUP(F173,サイズ!$E$3:$F$11,2,1))","v":""},null,null,null,"",null,"","","",{"$f":"IF(G173=\"\",\"\",VLOOKUP(G173,サイズ!$H$3:$I$17,2,1))","v":""}]
[null,null,null,null,null,null,null,{"$f":"IF(F174=\"\",\"\",VLOOKUP(F174,サイズ!$E$3:$F$11,2,1))","v":""},null,null,null,"",null,"","","",{"$f":"IF(G174=\"\",\"\",VLOOKUP(G174,サイズ!$H$3:$I$17,2,1))","v":""}]
[null,null,null,null,null,null,null,{"$f":"IF(F175=\"\",\"\",VLOOKUP(F175,サイズ!$E$3:$F$11,2,1))","v":""},null,null,null,"",null,"","","",{"$f":"IF(G175=\"\",\"\",VLOOKUP(G175,サイズ!$H$3:$I$17,2,1))","v":""}]
[null,null,null,null,null,null,null,{"$f":"IF(F176=\"\",\"\",VLOOKUP(F176,サイズ!$E$3:$F$11,2,1))","v":""},null,null,null,"",null,"","","",{"$f":"IF(G176=\"\",\"\",VLOOKUP(G176,サイズ!$H$3:$I$17,2,1))","v":""}]
[null,null,null,null,null,null,null,{"$f":"IF(F177=\"\",\"\",VLOOKUP(F177,サイズ!$E$3:$F$11,2,1))","v":""},null,null,null,"",null,"","","",{"$f":"IF(G177=\"\",\"\",VLOOKUP(G177,サイズ!$H$3:$I$17,2,1))","v":""}]
[null,null,null,null,null,null,null,{"$f":"IF(F178=\"\",\"\",VLOOKUP(F178,サイズ!$E$3:$F$11,2,1))","v":""},null,null,null,"",null,"","","",{"$f":"IF(G178=\"\",\"\",VLOOKUP(G178,サイズ!$H$3:$I$17,2,1))","v":""}]
[null,null,null,null,null,null,null,{"$f":"IF(F179=\"\",\"\",VLOOKUP(F179,サイズ!$E$3:$F$11,2,1))","v":""},null,null,null,"",null,"","","",{"$f":"IF(G179=\"\",\"\",VLOOKUP(G179,サイズ!$H$3:$I$17,2,1))","v":""}]
[null,null,null,null,null,null,null,{"$f":"IF(F180=\"\",\"\",VLOOKUP(F180,サイズ!$E$3:$F$11,2,1))","v":""},null,null,null,"",null,"","","",{"$f":"IF(G180=\"\",\"\",VLOOKUP(G180,サイズ!$H$3:$I$17,2,1))","v":""}]
[null,null,null,null,null,null,null,{"$f":"IF(F181=\"\",\"\",VLOOKUP(F181,サイズ!$E$3:$F$11,2,1))","v":""},null,null,null,"",null,"","","",{"$f":"IF(G181=\"\",\"\",VLOOKUP(G181,サイズ!$H$3:$I$17,2,1))","v":""}]
[null,null,null,null,null,null,null,{"$f":"IF(F182=\"\",\"\",VLOOKUP(F182,サイズ!$E$3:$F$11,2,1))","v":""},null,null,null,"",null,"","","",{"$f":"IF(G182=\"\",\"\",VLOOKUP(G182,サイズ!$H$3:$I$17,2,1))","v":""}]
[null,null,null,null,null,null,null,{"$f":"IF(F183=\"\",\"\",VLOOKUP(F183,サイズ!$E$3:$F$11,2,1))","v":""},null,null,null,"",null,"","","",{"$f":"IF(G183=\"\",\"\",VLOOKUP(G183,サイズ!$H$3:$I$17,2,1))","v":""}]
[null,null,null,null,null,null,null,{"$f":"IF(F184=\"\",\"\",VLOOKUP(F184,サイズ!$E$3:$F$11,2,1))","v":""},null,null,null,"",null,"","","",{"$f":"IF(G184=\"\",\"\",VLOOKUP(G184,サイズ!$H$3:$I$17,2,1))","v":""}]
[null,null,null,null,null,null,null,{"$f":"IF(F185=\"\",\"\",VLOOKUP(F185,サイズ!$E$3:$F$11,2,1))","v":""},null,null,null,"",null,{"$f":"IF(M185=\"\",\"\",1)","v":""},{"$f":"IF(M185=\"\",\"\",1)","v":""},{"$f":"IF(M185=\"\",\"\",1)","v":""},{"$f":"IF(G185=\"\",\"\",VLOOKUP(G185,サイズ!$H$3:$I$17,2,1))","v":""}]
[null,null,null,null,null,null,null,{"$f":"IF(F186=\"\",\"\",VLOOKUP(F186,サイズ!$E$3:$F$11,2,1))","v":""},null,null,null,"",null,"","","",{"$f":"IF(G186=\"\",\"\",VLOOKUP(G186,サイズ!$H$3:$I$17,2,1))","v":""}]
[null,null,null,null,null,null,null,{"$f":"IF(F187=\"\",\"\",VLOOKUP(F187,サイズ!$E$3:$F$11,2,1))","v":""},null,null,null,"",null,"","","",{"$f":"IF(G187=\"\",\"\",VLOOKUP(G187,サイズ!$H$3:$I$17,2,1))","v":""}]
[null,null,null,null,null,null,null,{"$f":"IF(F188=\"\",\"\",VLOOKUP(F188,サイズ!$E$3:$F$11,2,1))","v":""},null,null,null,"",null,"","","",{"$f":"IF(G188=\"\",\"\",VLOOKUP(G188,サイズ!$H$3:$I$17,2,1))","v":""}]
[null,null,null,null,null,null,null,{"$f":"IF(F189=\"\",\"\",VLOOKUP(F189,サイズ!$E$3:$F$11,2,1))","v":""},null,null,null,"",null,"","","",{"$f":"IF(G189=\"\",\"\",VLOOKUP(G189,サイズ!$H$3:$I$17,2,1))","v":""}]
[null,null,null,null,null,null,null,{"$f":"IF(F190=\"\",\"\",VLOOKUP(F190,サイズ!$E$3:$F$11,2,1))","v":""},null,null,null,"",null,"","","",{"$f":"IF(G190=\"\",\"\",VLOOKUP(G190,サイズ!$H$3:$I$17,2,1))","v":""}]
[null,null,null,null,null,null,null,{"$f":"IF(F191=\"\",\"\",VLOOKUP(F191,サイズ!$E$3:$F$11,2,1))","v":""},null,null,null,"",null,"","","",{"$f":"IF(G191=\"\",\"\",VLOOKUP(G191,サイズ!$H$3:$I$17,2,1))","v":""}]
[null,null,null,null,null,null,null,{"$f":"IF(F192=\"\",\"\",VLOOKUP(F192,サイズ!$E$3:$F$11,2,1))","v":""},null,null,null,"",null,"","","",{"$f":"IF(G192=\"\",\"\",VLOOKUP(G192,サイズ!$H$3:$I$17,2,1))","v":""}]
[null,null,null,null,null,null,null,{"$f":"IF(F193=\"\",\"\",VLOOKUP(F193,サイズ!$E$3:$F$11,2,1))","v":""},null,null,null,"",null,"","","",{"$f":"IF(G193=\"\",\"\",VLOOKUP(G193,サイズ!$H$3:$I$17,2,1))","v":""}]
[null,null,null,null,null,null,null,{"$f":"IF(F194=\"\",\"\",VLOOKUP(F194,サイズ!$E$3:$F$11,2,1))","v":""},null,null,null,"",null,"","","",{"$f":"IF(G194=\"\",\"\",VLOOKUP(G194,サイズ!$H$3:$I$17,2,1))","v":""}]
[null,null,null,null,null,null,null,{"$f":"IF(F195=\"\",\"\",VLOOKUP(F195,サイズ!$E$3:$F$11,2,1))","v":""},null,null,null,{"$f":"IF(K195=\"\",\"\",K195)","v":""},null,"","","",{"$f":"IF(G195=\"\",\"\",VLOOKUP(G195,サイズ!$H$3:$I$17,2,1))","v":""}]
[null,null,null,null,null,null,null,{"$f":"IF(F196=\"\",\"\",VLOOKUP(F196,サイズ!$E$3:$F$11,2,1))","v":""},null,null,null,"",null,"","","",{"$f":"IF(G196=\"\",\"\",VLOOKUP(G196,サイズ!$H$3:$I$17,2,1))","v":""}]
[null,null,null,null,null,null,null,{"$f":"IF(F197=\"\",\"\",VLOOKUP(F197,サイズ!$E$3:$F$11,2,1))","v":""},null,null,null,"",null,"","","",{"$f":"IF(G197=\"\",\"\",VLOOKUP(G197,サイズ!$H$3:$I$17,2,1))","v":""}]
[null,null,null,null,null,null,null,{"$f":"IF(F198=\"\",\"\",VLOOKUP(F198,サイズ!$E$3:$F$11,2,1))","v":""},null,null,null,"",null,"","","",{"$f":"IF(G198=\"\",\"\",VLOOKUP(G198,サイズ!$H$3:$I$17,2,1))","v":""}]
[null,null,null,null,null,null,null,{"$f":"IF(F199=\"\",\"\",VLOOKUP(F199,サイズ!$E$3:$F$11,2,1))","v":""},null,null,null,"",null,"","","",{"$f":"IF(G199=\"\",\"\",VLOOKUP(G199,サイズ!$H$3:$I$17,2,1))","v":""}]
[null,null,null,null,null,null,null,{"$f":"IF(F200=\"\",\"\",VLOOKUP(F200,サイズ!$E$3:$F$11,2,1))","v":""},null,null,null,"",null,"","","",{"$f":"IF(G200=\"\",\"\",VLOOKUP(G200,サイズ!$H$3:$I$17,2,1))","v":""}]
[null,null,null,null,null,null,null,{"$f":"IF(F201=\"\",\"\",VLOOKUP(F201,サイズ!$E$3:$F$11,2,1))","v":""},null,null,null,"",null,"","","",{"$f":"IF(G201=\"\",\"\",VLOOKUP(G201,サイズ!$H$3:$I$17,2,1))","v":""}]
[null,null,null,null,null,null,null,{"$f":"IF(F202=\"\",\"\",VLOOKUP(F202,サイズ!$E$3:$F$11,2,1))","v":""},null,null,null,"",null,"","","",{"$f":"IF(G202=\"\",\"\",VLOOKUP(G202,サイズ!$H$3:$I$17,2,1))","v":""}]
[null,null,null,null,null,null,null,{"$f":"IF(F203=\"\",\"\",VLOOKUP(F203,サイズ!$E$3:$F$11,2,1))","v":""},null,null,null,"",null,"","","",{"$f":"IF(G203=\"\",\"\",VLOOKUP(G203,サイズ!$H$3:$I$17,2,1))","v":""}]
[null,null,null,null,null,null,null,{"$f":"IF(F204=\"\",\"\",VLOOKUP(F204,サイズ!$E$3:$F$11,2,1))","v":""},null,null,null,"",null,"","","",{"$f":"IF(G204=\"\",\"\",VLOOKUP(G204,サイズ!$H$3:$I$17,2,1))","v":""}]
[null,null,null,null,null,null,null,{"$f":"IF(F205=\"\",\"\",VLOOKUP(F205,サイズ!$E$3:$F$11,2,1))","v":""},null,null,null,"",null,"","","",{"$f":"IF(G205=\"\",\"\",VLOOKUP(G205,サイズ!$H$3:$I$17,2,1))","v":""}]
[null,null,null,null,null,null,null,{"$f":"IF(F206=\"\",\"\",VLOOKUP(F206,サイズ!$E$3:$F$11,2,1))","v":""},null,null,null,"",null,"","","",{"$f":"IF(G206=\"\",\"\",VLOOKUP(G206,サイズ!$H$3:$I$17,2,1))","v":""}]
[null,null,null,null,null,null,null,{"$f":"IF(F207=\"\",\"\",VLOOKUP(F207,サイズ!$E$3:$F$11,2,1))","v":""},null,null,null,"",null,"","","",{"$f":"IF(G207=\"\",\"\",VLOOKUP(G207,サイズ!$H$3:$I$17,2,1))","v":""}]
[null,null,null,null,null,null,null,{"$f":"IF(F208=\"\",\"\",VLOOKUP(F208,サイズ!$E$3:$F$11,2,1))","v":""},null,null,null,"",null,"","","",{"$f":"IF(G208=\"\",\"\",VLOOKUP(G208,サイズ!$H$3:$I$17,2,1))","v":""}]
[null,null,null,null,null,null,null,{"$f":"IF(F209=\"\",\"\",VLOOKUP(F209,サイズ!$E$3:$F$11,2,1))","v":""},null,null,null,"",null,"","","",{"$f":"IF(G209=\"\",\"\",VLOOKUP(G209,サイズ!$H$3:$I$17,2,1))","v":""}]
[null,null,null,null,null,null,null,{"$f":"IF(F210=\"\",\"\",VLOOKUP(F210,サイズ!$E$3:$F$11,2,1))","v":""},null,null,null,"",null,"","","",{"$f":"IF(G210=\"\",\"\",VLOOKUP(G210,サイズ!$H$3:$I$17,2,1))","v":""}]
[null,null,null,null,null,null,null,{"$f":"IF(F211=\"\",\"\",VLOOKUP(F211,サイズ!$E$3:$F$11,2,1))","v":""},null,null,null,"",null,"","","",{"$f":"IF(G211=\"\",\"\",VLOOKUP(G211,サイズ!$H$3:$I$17,2,1))","v":""}]
[null,null,null,null,null,null,null,{"$f":"IF(F212=\"\",\"\",VLOOKUP(F212,サイズ!$E$3:$F$11,2,1))","v":""},null,null,null,"",null,"","","",{"$f":"IF(G212=\"\",\"\",VLOOKUP(G212,サイズ!$H$3:$I$17,2,1))","v":""}]
[null,null,null,null,null,null,null,{"$f":"IF(F213=\"\",\"\",VLOOKUP(F213,サイズ!$E$3:$F$11,2,1))","v":""},null,null,null,"",null,"","","",{"$f":"IF(G213=\"\",\"\",VLOOKUP(G213,サイズ!$H$3:$I$17,2,1))","v":""}]
[null,null,null,null,null,null,null,{"$f":"IF(F214=\"\",\"\",VLOOKUP(F214,サイズ!$E$3:$F$11,2,1))","v":""},null,null,null,"",null,"","","",{"$f":"IF(G214=\"\",\"\",VLOOKUP(G214,サイズ!$H$3:$I$17,2,1))","v":""}]
[null,null,null,null,null,null,null,{"$f":"IF(F215=\"\",\"\",VLOOKUP(F215,サイズ!$E$3:$F$11,2,1))","v":""},null,null,null,"",null,"","","",{"$f":"IF(G215=\"\",\"\",VLOOKUP(G215,サイズ!$H$3:$I$17,2,1))","v":""}]
[null,null,null,null,null,null,null,{"$f":"IF(F216=\"\",\"\",VLOOKUP(F216,サイズ!$E$3:$F$11,2,1))","v":""},null,null,null,"",null,"","","",{"$f":"IF(G216=\"\",\"\",VLOOKUP(G216,サイズ!$H$3:$I$17,2,1))","v":""}]
[null,null,null,null,null,null,null,{"$f":"IF(F217=\"\",\"\",VLOOKUP(F217,サイズ!$E$3:$F$11,2,1))","v":""},null,null,null,"",null,{"$f":"IF(M217=\"\",\"\",1)","v":""},{"$f":"IF(M217=\"\",\"\",1)","v":""},{"$f":"IF(M217=\"\",\"\",1)","v":""},{"$f":"IF(G217=\"\",\"\",VLOOKUP(G217,サイズ!$H$3:$I$17,2,1))","v":""}]
[null,null,null,null,null,null,null,{"$f":"IF(F218=\"\",\"\",VLOOKUP(F218,サイズ!$E$3:$F$11,2,1))","v":""},null,null,null,"",null,"","","",{"$f":"IF(G218=\"\",\"\",VLOOKUP(G218,サイズ!$H$3:$I$17,2,1))","v":""}]
[null,null,null,null,null,null,null,{"$f":"IF(F219=\"\",\"\",VLOOKUP(F219,サイズ!$E$3:$F$11,2,1))","v":""},null,null,null,"",null,"","","",{"$f":"IF(G219=\"\",\"\",VLOOKUP(G219,サイズ!$H$3:$I$17,2,1))","v":""}]
[null,null,null,null,null,null,null,{"$f":"IF(F220=\"\",\"\",VLOOKUP(F220,サイズ!$E$3:$F$11,2,1))","v":""},null,null,null,"",null,"","","",{"$f":"IF(G220=\"\",\"\",VLOOKUP(G220,サイズ!$H$3:$I$17,2,1))","v":""}]
[null,null,null,null,null,null,null,{"$f":"IF(F221=\"\",\"\",VLOOKUP(F221,サイズ!$E$3:$F$11,2,1))","v":""},null,null,null,"",null,"","","",{"$f":"IF(G221=\"\",\"\",VLOOKUP(G221,サイズ!$H$3:$I$17,2,1))","v":""}]
[null,null,null,null,null,null,null,{"$f":"IF(F222=\"\",\"\",VLOOKUP(F222,サイズ!$E$3:$F$11,2,1))","v":""},null,null,null,"",null,"","","",{"$f":"IF(G222=\"\",\"\",VLOOKUP(G222,サイズ!$H$3:$I$17,2,1))","v":""}]
[null,null,null,null,null,null,null,{"$f":"IF(F223=\"\",\"\",VLOOKUP(F223,サイズ!$E$3:$F$11,2,1))","v":""},null,null,null,"",null,"","","",{"$f":"IF(G223=\"\",\"\",VLOOKUP(G223,サイズ!$H$3:$I$17,2,1))","v":""}]
[null,null,null,null,null,null,null,{"$f":"IF(F224=\"\",\"\",VLOOKUP(F224,サイズ!$E$3:$F$11,2,1))","v":""},null,null,null,"",null,"","","",{"$f":"IF(G224=\"\",\"\",VLOOKUP(G224,サイズ!$H$3:$I$17,2,1))","v":""}]
[null,null,null,null,null,null,null,{"$f":"IF(F225=\"\",\"\",VLOOKUP(F225,サイズ!$E$3:$F$11,2,1))","v":""},null,null,null,"",null,"","","",{"$f":"IF(G225=\"\",\"\",VLOOKUP(G225,サイズ!$H$3:$I$17,2,1))","v":""}]
[null,null,null,null,null,null,null,{"$f":"IF(F226=\"\",\"\",VLOOKUP(F226,サイズ!$E$3:$F$11,2,1))","v":""},null,null,null,"",null,"","","",{"$f":"IF(G226=\"\",\"\",VLOOKUP(G226,サイズ!$H$3:$I$17,2,1))","v":""}]
[null,null,null,null,null,null,null,{"$f":"IF(F227=\"\",\"\",VLOOKUP(F227,サイズ!$E$3:$F$11,2,1))","v":""},null,null,null,"",null,"","","",{"$f":"IF(G227=\"\",\"\",VLOOKUP(G227,サイズ!$H$3:$I$17,2,1))","v":""}]
[null,null,null,null,null,null,null,{"$f":"IF(F228=\"\",\"\",VLOOKUP(F228,サイズ!$E$3:$F$11,2,1))","v":""},null,null,null,"",null,"","","",{"$f":"IF(G228=\"\",\"\",VLOOKUP(G228,サイズ!$H$3:$I$17,2,1))","v":""}]
[null,null,null,null,null,null,null,{"$f":"IF(F229=\"\",\"\",VLOOKUP(F229,サイズ!$E$3:$F$11,2,1))","v":""},null,null,null,"",null,"","","",{"$f":"IF(G229=\"\",\"\",VLOOKUP(G229,サイズ!$H$3:$I$17,2,1))","v":""}]
[null,null,null,null,null,null,null,{"$f":"IF(F230=\"\",\"\",VLOOKUP(F230,サイズ!$E$3:$F$11,2,1))","v":""},null,null,null,"",null,"","","",{"$f":"IF(G230=\"\",\"\",VLOOKUP(G230,サイズ!$H$3:$I$17,2,1))","v":""}]
[null,null,null,null,null,null,null,{"$f":"IF(F231=\"\",\"\",VLOOKUP(F231,サイズ!$E$3:$F$11,2,1))","v":""},null,null,null,"",null,"","","",{"$f":"IF(G231=\"\",\"\",VLOOKUP(G231,サイズ!$H$3:$I$17,2,1))","v":""}]
[null,null,null,null,null,null,null,{"$f":"IF(F232=\"\",\"\",VLOOKUP(F232,サイズ!$E$3:$F$11,2,1))","v":""},null,null,null,"",null,"","","",{"$f":"IF(G232=\"\",\"\",VLOOKUP(G232,サイズ!$H$3:$I$17,2,1))","v":""}]
[null,null,null,null,null,null,null,{"$f":"IF(F233=\"\",\"\",VLOOKUP(F233,サイズ!$E$3:$F$11,2,1))","v":""},null,null,null,"",null,"","","",{"$f":"IF(G233=\"\",\"\",VLOOKUP(G233,サイズ!$H$3:$I$17,2,1))","v":""}]
[null,null,null,null,null,null,null,{"$f":"IF(F234=\"\",\"\",VLOOKUP(F234,サイズ!$E$3:$F$11,2,1))","v":""},null,null,null,"",null,"","","",{"$f":"IF(G234=\"\",\"\",VLOOKUP(G234,サイズ!$H$3:$I$17,2,1))","v":""}]
[null,null,null,null,null,null,null,{"$f":"IF(F235=\"\",\"\",VLOOKUP(F235,サイズ!$E$3:$F$11,2,1))","v":""},null,null,null,"",null,"","","",{"$f":"IF(G235=\"\",\"\",VLOOKUP(G235,サイズ!$H$3:$I$17,2,1))","v":""}]
[null,null,null,null,null,null,null,{"$f":"IF(F236=\"\",\"\",VLOOKUP(F236,サイズ!$E$3:$F$11,2,1))","v":""},null,null,null,"",null,"","","",{"$f":"IF(G236=\"\",\"\",VLOOKUP(G236,サイズ!$H$3:$I$17,2,1))","v":""}]
[null,null,null,null,null,null,null,{"$f":"IF(F237=\"\",\"\",VLOOKUP(F237,サイズ!$E$3:$F$11,2,1))","v":""},null,null,null,"",null,"","","",{"$f":"IF(G237=\"\",\"\",VLOOKUP(G237,サイズ!$H$3:$I$17,2,1))","v":""}]
[null,null,null,null,null,null,null,{"$f":"IF(F238=\"\",\"\",VLOOKUP(F238,サイズ!$E$3:$F$11,2,1))","v":""},null,null,null,"",null,"","","",{"$f":"IF(G238=\"\",\"\",VLOOKUP(G238,サイズ!$H$3:$I$17,2,1))","v":""}]
[null,null,null,null,null,null,null,{"$f":"IF(F239=\"\",\"\",VLOOKUP(F239,サイズ!$E$3:$F$11,2,1))","v":""},null,null,null,"",null,"","","",{"$f":"IF(G239=\"\",\"\",VLOOKUP(G239,サイズ!$H$3:$I$17,2,1))","v":""}]
[null,null,null,null,null,null,null,{"$f":"IF(F240=\"\",\"\",VLOOKUP(F240,サイズ!$E$3:$F$11,2,1))","v":""},null,null,null,"",null,"","","",{"$f":"IF(G240=\"\",\"\",VLOOKUP(G240,サイズ!$H$3:$I$17,2,1))","v":""}]
[null,null,null,null,null,null,null,{"$f":"IF(F241=\"\",\"\",VLOOKUP(F241,サイズ!$E$3:$F$11,2,1))","v":""},null,null,null,"",null,"","","",{"$f":"IF(G241=\"\",\"\",VLOOKUP(G241,サイズ!$H$3:$I$17,2,1))","v":""}]
[null,null,null,null,null,null,null,{"$f":"IF(F242=\"\",\"\",VLOOKUP(F242,サイズ!$E$3:$F$11,2,1))","v":""},null,null,null,"",null,"","","",{"$f":"IF(G242=\"\",\"\",VLOOKUP(G242,サイズ!$H$3:$I$17,2,1))","v":""}]
[null,null,null,null,null,null,null,{"$f":"IF(F243=\"\",\"\",VLOOKUP(F243,サイズ!$E$3:$F$11,2,1))","v":""},null,null,null,"",null,"","","",{"$f":"IF(G243=\"\",\"\",VLOOKUP(G243,サイズ!$H$3:$I$17,2,1))","v":""}]
[null,null,null,null,null,null,null,{"$f":"IF(F244=\"\",\"\",VLOOKUP(F244,サイズ!$E$3:$F$11,2,1))","v":""},null,null,null,"",null,"","","",{"$f":"IF(G244=\"\",\"\",VLOOKUP(G244,サイズ!$H$3:$I$17,2,1))","v":""}]
[null,null,null,null,null,null,null,{"$f":"IF(F245=\"\",\"\",VLOOKUP(F245,サイズ!$E$3:$F$11,2,1))","v":""},null,null,null,"",null,"","","",{"$f":"IF(G245=\"\",\"\",VLOOKUP(G245,サイズ!$H$3:$I$17,2,1))","v":""}]
[null,null,null,null,null,null,null,{"$f":"IF(F246=\"\",\"\",VLOOKUP(F246,サイズ!$E$3:$F$11,2,1))","v":""},null,null,null,"",null,"","","",{"$f":"IF(G246=\"\",\"\",VLOOKUP(G246,サイズ!$H$3:$I$17,2,1))","v":""}]
[null,null,null,null,null,null,null,{"$f":"IF(F247=\"\",\"\",VLOOKUP(F247,サイズ!$E$3:$F$11,2,1))","v":""},null,null,null,"",null,"","","",{"$f":"IF(G247=\"\",\"\",VLOOKUP(G247,サイズ!$H$3:$I$17,2,1))","v":""}]
[null,null,null,null,null,null,null,{"$f":"IF(F248=\"\",\"\",VLOOKUP(F248,サイズ!$E$3:$F$11,2,1))","v":""},null,null,null,"",null,"","","",{"$f":"IF(G248=\"\",\"\",VLOOKUP(G248,サイズ!$H$3:$I$17,2,1))","v":""}]
[null,null,null,null,null,null,null,{"$f":"IF(F249=\"\",\"\",VLOOKUP(F249,サイズ!$E$3:$F$11,2,1))","v":""},null,null,null,"",null,{"$f":"IF(M249=\"\",\"\",1)","v":""},{"$f":"IF(M249=\"\",\"\",1)","v":""},{"$f":"IF(M249=\"\",\"\",1)","v":""},{"$f":"IF(G249=\"\",\"\",VLOOKUP(G249,サイズ!$H$3:$I$17,2,1))","v":""}]
[null,null,null,null,null,null,null,{"$f":"IF(F250=\"\",\"\",VLOOKUP(F250,サイズ!$E$3:$F$11,2,1))","v":""},null,null,null,"",null,"","","",{"$f":"IF(G250=\"\",\"\",VLOOKUP(G250,サイズ!$H$3:$I$17,2,1))","v":""}]
[null,null,null,null,null,null,null,{"$f":"IF(F251=\"\",\"\",VLOOKUP(F251,サイズ!$E$3:$F$11,2,1))","v":""},null,null,null,"",null,"","","",{"$f":"IF(G251=\"\",\"\",VLOOKUP(G251,サイズ!$H$3:$I$17,2,1))","v":""}]
[null,null,null,null,null,null,null,{"$f":"IF(F252=\"\",\"\",VLOOKUP(F252,サイズ!$E$3:$F$11,2,1))","v":""},null,null,null,"",null,"","","",{"$f":"IF(G252=\"\",\"\",VLOOKUP(G252,サイズ!$H$3:$I$17,2,1))","v":""}]
[null,null,null,null,null,null,null,{"$f":"IF(F253=\"\",\"\",VLOOKUP(F253,サイズ!$E$3:$F$11,2,1))","v":""},null,null,null,"",null,"","","",{"$f":"IF(G253=\"\",\"\",VLOOKUP(G253,サイズ!$H$3:$I$17,2,1))","v":""}]
[null,null,null,null,null,null,null,{"$f":"IF(F254=\"\",\"\",VLOOKUP(F254,サイズ!$E$3:$F$11,2,1))","v":""},null,null,null,"",null,"","","",{"$f":"IF(G254=\"\",\"\",VLOOKUP(G254,サイズ!$H$3:$I$17,2,1))","v":""}]
[null,null,null,null,null,null,null,{"$f":"IF(F255=\"\",\"\",VLOOKUP(F255,サイズ!$E$3:$F$11,2,1))","v":""},null,null,null,{"$f":"IF(K255=\"\",\"\",K255)","v":""},null,{"$f":"IF(M255=\"\",\"\",1)","v":""},{"$f":"IF(M255=\"\",\"\",1)","v":""},{"$f":"IF(M255=\"\",\"\",1)","v":""},{"$f":"IF(G255=\"\",\"\",VLOOKUP(G255,サイズ!$H$3:$I$17,2,1))","v":""}]
[null,null,null,null,null,null,null,{"$f":"IF(F256=\"\",\"\",VLOOKUP(F256,サイズ!$E$3:$F$11,2,1))","v":""},null,null,null,"",null,"","","",{"$f":"IF(G256=\"\",\"\",VLOOKUP(G256,サイズ!$H$3:$I$17,2,1))","v":""}]
[null,null,null,null,null,null,null,{"$f":"IF(F257=\"\",\"\",VLOOKUP(F257,サイズ!$E$3:$F$11,2,1))","v":""},null,null,null,"",null,"","","",{"$f":"IF(G257=\"\",\"\",VLOOKUP(G257,サイズ!$H$3:$I$17,2,1))","v":""}]
[null,null,null,null,null,null,null,{"$f":"IF(F258=\"\",\"\",VLOOKUP(F258,サイズ!$E$3:$F$11,2,1))","v":""},null,null,null,"",null,"","","",{"$f":"IF(G258=\"\",\"\",VLOOKUP(G258,サイズ!$H$3:$I$17,2,1))","v":""}]
[null,null,null,null,null,null,null,{"$f":"IF(F259=\"\",\"\",VLOOKUP(F259,サイズ!$E$3:$F$11,2,1))","v":""},null,null,null,"",null,"","","",{"$f":"IF(G259=\"\",\"\",VLOOKUP(G259,サイズ!$H$3:$I$17,2,1))","v":""}]
[null,null,null,null,null,null,null,{"$f":"IF(F260=\"\",\"\",VLOOKUP(F260,サイズ!$E$3:$F$11,2,1))","v":""},null,null,null,"",null,"","","",{"$f":"IF(G260=\"\",\"\",VLOOKUP(G260,サイズ!$H$3:$I$17,2,1))","v":""}]
[null,null,null,null,null,null,null,{"$f":"IF(F261=\"\",\"\",VLOOKUP(F261,サイズ!$E$3:$F$11,2,1))","v":""},null,null,null,"",null,"","","",{"$f":"IF(G261=\"\",\"\",VLOOKUP(G261,サイズ!$H$3:$I$17,2,1))","v":""}]
[null,null,null,null,null,null,null,{"$f":"IF(F262=\"\",\"\",VLOOKUP(F262,サイズ!$E$3:$F$11,2,1))","v":""},null,null,null,"",null,"","","",{"$f":"IF(G262=\"\",\"\",VLOOKUP(G262,サイズ!$H$3:$I$17,2,1))","v":""}]
[null,null,null,null,null,null,null,{"$f":"IF(F263=\"\",\"\",VLOOKUP(F263,サイズ!$E$3:$F$11,2,1))","v":""},null,null,null,"",null,"","","",{"$f":"IF(G263=\"\",\"\",VLOOKUP(G263,サイズ!$H$3:$I$17,2,1))","v":""}]
[null,null,null,null,null,null,null,{"$f":"IF(F264=\"\",\"\",VLOOKUP(F264,サイズ!$E$3:$F$11,2,1))","v":""},null,null,null,"",null,"","","",{"$f":"IF(G264=\"\",\"\",VLOOKUP(G264,サイズ!$H$3:$I$17,2,1))","v":""}]
[null,null,null,null,null,null,null,{"$f":"IF(F265=\"\",\"\",VLOOKUP(F265,サイズ!$E$3:$F$11,2,1))","v":""},null,null,null,"",null,"","","",{"$f":"IF(G265=\"\",\"\",VLOOKUP(G265,サイズ!$H$3:$I$17,2,1))","v":""}]
[null,null,null,null,null,null,null,{"$f":"IF(F266=\"\",\"\",VLOOKUP(F266,サイズ!$E$3:$F$11,2,1))","v":""},null,null,null,"",null,"","","",{"$f":"IF(G266=\"\",\"\",VLOOKUP(G266,サイズ!$H$3:$I$17,2,1))","v":""}]
[null,null,null,null,null,null,null,{"$f":"IF(F267=\"\",\"\",VLOOKUP(F267,サイズ!$E$3:$F$11,2,1))","v":""},null,null,null,"",null,"","","",{"$f":"IF(G267=\"\",\"\",VLOOKUP(G267,サイズ!$H$3:$I$17,2,1))","v":""}]
[null,null,null,null,null,null,null,{"$f":"IF(F268=\"\",\"\",VLOOKUP(F268,サイズ!$E$3:$F$11,2,1))","v":""},null,null,null,"",null,"","","",{"$f":"IF(G268=\"\",\"\",VLOOKUP(G268,サイズ!$H$3:$I$17,2,1))","v":""}]
[null,null,null,null,null,null,null,{"$f":"IF(F269=\"\",\"\",VLOOKUP(F269,サイズ!$E$3:$F$11,2,1))","v":""},null,null,null,"",null,"","","",{"$f":"IF(G269=\"\",\"\",VLOOKUP(G269,サイズ!$H$3:$I$17,2,1))","v":""}]
[null,null,null,null,null,null,null,{"$f":"IF(F270=\"\",\"\",VLOOKUP(F270,サイズ!$E$3:$F$11,2,1))","v":""},null,null,null,"",null,"","","",{"$f":"IF(G270=\"\",\"\",VLOOKUP(G270,サイズ!$H$3:$I$17,2,1))","v":""}]
[null,null,null,null,null,null,null,{"$f":"IF(F271=\"\",\"\",VLOOKUP(F271,サイズ!$E$3:$F$11,2,1))","v":""},null,null,null,"",null,"","","",{"$f":"IF(G271=\"\",\"\",VLOOKUP(G271,サイズ!$H$3:$I$17,2,1))","v":""}]
[null,null,null,null,null,null,null,{"$f":"IF(F272=\"\",\"\",VLOOKUP(F272,サイズ!$E$3:$F$11,2,1))","v":""},null,null,null,"",null,"","","",{"$f":"IF(G272=\"\",\"\",VLOOKUP(G272,サイズ!$H$3:$I$17,2,1))","v":""}]
[null,null,null,null,null,null,null,{"$f":"IF(F273=\"\",\"\",VLOOKUP(F273,サイズ!$E$3:$F$11,2,1))","v":""},null,null,null,"",null,"","","",{"$f":"IF(G273=\"\",\"\",VLOOKUP(G273,サイズ!$H$3:$I$17,2,1))","v":""}]
[null,null,null,null,null,null,null,{"$f":"IF(F274=\"\",\"\",VLOOKUP(F274,サイズ!$E$3:$F$11,2,1))","v":""},null,null,null,"",null,"","","",{"$f":"IF(G274=\"\",\"\",VLOOKUP(G274,サイズ!$H$3:$I$17,2,1))","v":""}]
[null,null,null,null,null,null,null,{"$f":"IF(F275=\"\",\"\",VLOOKUP(F275,サイズ!$E$3:$F$11,2,1))","v":""},null,null,null,"",null,"","","",{"$f":"IF(G275=\"\",\"\",VLOOKUP(G275,サイズ!$H$3:$I$17,2,1))","v":""}]
[null,null,null,null,null,null,null,{"$f":"IF(F276=\"\",\"\",VLOOKUP(F276,サイズ!$E$3:$F$11,2,1))","v":""},null,null,null,"",null,"","","",{"$f":"IF(G276=\"\",\"\",VLOOKUP(G276,サイズ!$H$3:$I$17,2,1))","v":""}]
[null,null,null,null,null,null,null,{"$f":"IF(F277=\"\",\"\",VLOOKUP(F277,サイズ!$E$3:$F$11,2,1))","v":""},null,null,null,"",null,"","","",{"$f":"IF(G277=\"\",\"\",VLOOKUP(G277,サイズ!$H$3:$I$17,2,1))","v":""}]
[null,null,null,null,null,null,null,{"$f":"IF(F278=\"\",\"\",VLOOKUP(F278,サイズ!$E$3:$F$11,2,1))","v":""},null,null,null,"",null,"","","",{"$f":"IF(G278=\"\",\"\",VLOOKUP(G278,サイズ!$H$3:$I$17,2,1))","v":""}]
[null,null,null,null,null,null,null,{"$f":"IF(F279=\"\",\"\",VLOOKUP(F279,サイズ!$E$3:$F$11,2,1))","v":""},null,null,null,"",null,"","","",{"$f":"IF(G279=\"\",\"\",VLOOKUP(G279,サイズ!$H$3:$I$17,2,1))","v":""}]
[null,null,null,null,null,null,null,{"$f":"IF(F280=\"\",\"\",VLOOKUP(F280,サイズ!$E$3:$F$11,2,1))","v":""},null,null,null,"",null,"","","",{"$f":"IF(G280=\"\",\"\",VLOOKUP(G280,サイズ!$H$3:$I$17,2,1))","v":""}]
[null,null,null,null,null,null,null,{"$f":"IF(F281=\"\",\"\",VLOOKUP(F281,サイズ!$E$3:$F$11,2,1))","v":""},null,null,null,"",null,"","","",{"$f":"IF(G281=\"\",\"\",VLOOKUP(G281,サイズ!$H$3:$I$17,2,1))","v":""}]
[null,null,null,null,null,null,null,{"$f":"IF(F282=\"\",\"\",VLOOKUP(F282,サイズ!$E$3:$F$11,2,1))","v":""},null,null,null,"",null,"","","",{"$f":"IF(G282=\"\",\"\",VLOOKUP(G282,サイズ!$H$3:$I$17,2,1))","v":""}]
[null,null,null,null,null,null,null,{"$f":"IF(F283=\"\",\"\",VLOOKUP(F283,サイズ!$E$3:$F$11,2,1))","v":""},null,null,null,"",null,"","","",{"$f":"IF(G283=\"\",\"\",VLOOKUP(G283,サイズ!$H$3:$I$17,2,1))","v":""}]
[null,null,null,null,null,null,null,{"$f":"IF(F284=\"\",\"\",VLOOKUP(F284,サイズ!$E$3:$F$11,2,1))","v":""},null,null,null,"",null,"","","",{"$f":"IF(G284=\"\",\"\",VLOOKUP(G284,サイズ!$H$3:$I$17,2,1))","v":""}]
[null,null,null,null,null,null,null,{"$f":"IF(F285=\"\",\"\",VLOOKUP(F285,サイズ!$E$3:$F$11,2,1))","v":""},null,null,null,"",null,"","","",{"$f":"IF(G285=\"\",\"\",VLOOKUP(G285,サイズ!$H$3:$I$17,2,1))","v":""}]
[null,null,null,null,null,null,null,{"$f":"IF(F286=\"\",\"\",VLOOKUP(F286,サイズ!$E$3:$F$11,2,1))","v":""},null,null,null,"",null,"","","",{"$f":"IF(G286=\"\",\"\",VLOOKUP(G286,サイズ!$H$3:$I$17,2,1))","v":""}]
[null,null,null,null,null,null,null,{"$f":"IF(F287=\"\",\"\",VLOOKUP(F287,サイズ!$E$3:$F$11,2,1))","v":""},null,null,null,"",null,"","","",{"$f":"IF(G287=\"\",\"\",VLOOKUP(G287,サイズ!$H$3:$I$17,2,1))","v":""}]
[null,null,null,null,null,null,null,{"$f":"IF(F288=\"\",\"\",VLOOKUP(F288,サイズ!$E$3:$F$11,2,1))","v":""},null,null,null,"",null,"","","",{"$f":"IF(G288=\"\",\"\",VLOOKUP(G288,サイズ!$H$3:$I$17,2,1))","v":""}]
[null,null,null,null,null,null,null,{"$f":"IF(F289=\"\",\"\",VLOOKUP(F289,サイズ!$E$3:$F$11,2,1))","v":""},null,null,null,"",null,"","","",{"$f":"IF(G289=\"\",\"\",VLOOKUP(G289,サイズ!$H$3:$I$17,2,1))","v":""}]
[null,null,null,null,null,null,null,{"$f":"IF(F290=\"\",\"\",VLOOKUP(F290,サイズ!$E$3:$F$11,2,1))","v":""},null,null,null,"",null,"","","",{"$f":"IF(G290=\"\",\"\",VLOOKUP(G290,サイズ!$H$3:$I$17,2,1))","v":""}]
[null,null,null,null,null,null,null,{"$f":"IF(F291=\"\",\"\",VLOOKUP(F291,サイズ!$E$3:$F$11,2,1))","v":""},null,null,null,"",null,"","","",{"$f":"IF(G291=\"\",\"\",VLOOKUP(G291,サイズ!$H$3:$I$17,2,1))","v":""}]
[null,null,null,null,null,null,null,{"$f":"IF(F292=\"\",\"\",VLOOKUP(F292,サイズ!$E$3:$F$11,2,1))","v":""},null,null,null,"",null,"","","",{"$f":"IF(G292=\"\",\"\",VLOOKUP(G292,サイズ!$H$3:$I$17,2,1))","v":""}]
[null,null,null,null,null,null,null,{"$f":"IF(F293=\"\",\"\",VLOOKUP(F293,サイズ!$E$3:$F$11,2,1))","v":""},null,null,null,"",null,"","","",{"$f":"IF(G293=\"\",\"\",VLOOKUP(G293,サイズ!$H$3:$I$17,2,1))","v":""}]
[null,null,null,null,null,null,null,{"$f":"IF(F294=\"\",\"\",VLOOKUP(F294,サイズ!$E$3:$F$11,2,1))","v":""},null,null,null,"",null,"","","",{"$f":"IF(G294=\"\",\"\",VLOOKUP(G294,サイズ!$H$3:$I$17,2,1))","v":""}]
[null,null,null,null,null,null,null,{"$f":"IF(F295=\"\",\"\",VLOOKUP(F295,サイズ!$E$3:$F$11,2,1))","v":""},null,null,null,"",null,"","","",{"$f":"IF(G295=\"\",\"\",VLOOKUP(G295,サイズ!$H$3:$I$17,2,1))","v":""}]
[null,null,null,null,null,null,null,{"$f":"IF(F296=\"\",\"\",VLOOKUP(F296,サイズ!$E$3:$F$11,2,1))","v":""},null,null,null,"",null,"","","",{"$f":"IF(G296=\"\",\"\",VLOOKUP(G296,サイズ!$H$3:$I$17,2,1))","v":""}]
[null,null,null,null,null,null,null,{"$f":"IF(F297=\"\",\"\",VLOOKUP(F297,サイズ!$E$3:$F$11,2,1))","v":""},null,null,null,"",null,"","","",{"$f":"IF(G297=\"\",\"\",VLOOKUP(G297,サイズ!$H$3:$I$17,2,1))","v":""}]
[null,null,null,null,null,null,null,{"$f":"IF(F298=\"\",\"\",VLOOKUP(F298,サイズ!$E$3:$F$11,2,1))","v":""},null,null,null,"",null,"","","",{"$f":"IF(G298=\"\",\"\",VLOOKUP(G298,サイズ!$H$3:$I$17,2,1))","v":""}]
[null,null,null,null,null,null,null,{"$f":"IF(F299=\"\",\"\",VLOOKUP(F299,サイズ!$E$3:$F$11,2,1))","v":""},null,null,null,"",null,"","","",{"$f":"IF(G299=\"\",\"\",VLOOKUP(G299,サイズ!$H$3:$I$17,2,1))","v":""}]
[null,null,null,null,null,null,null,{"$f":"IF(F300=\"\",\"\",VLOOKUP(F300,サイズ!$E$3:$F$11,2,1))","v":""},null,null,null,"",null,"","","",{"$f":"IF(G300=\"\",\"\",VLOOKUP(G300,サイズ!$H$3:$I$17,2,1))","v":""}]
[null,null,null,null,null,null,null,{"$f":"IF(F301=\"\",\"\",VLOOKUP(F301,サイズ!$E$3:$F$11,2,1))","v":""},null,null,null,"",null,"","","",{"$f":"IF(G301=\"\",\"\",VLOOKUP(G301,サイズ!$H$3:$I$17,2,1))","v":""}]
[null,null,null,null,null,null,null,{"$f":"IF(F302=\"\",\"\",VLOOKUP(F302,サイズ!$E$3:$F$11,2,1))","v":""},null,null,null,"",null,"","","",{"$f":"IF(G302=\"\",\"\",VLOOKUP(G302,サイズ!$H$3:$I$17,2,1))","v":""}]
[null,null,null,null,null,null,null,{"$f":"IF(F303=\"\",\"\",VLOOKUP(F303,サイズ!$E$3:$F$11,2,1))","v":""},null,null,null,"",null,"","","",{"$f":"IF(G303=\"\",\"\",VLOOKUP(G303,サイズ!$H$3:$I$17,2,1))","v":""}]
[null,null,null,null,null,null,null,{"$f":"IF(F304=\"\",\"\",VLOOKUP(F304,サイズ!$E$3:$F$11,2,1))","v":""},null,null,null,"",null,"","","",{"$f":"IF(G304=\"\",\"\",VLOOKUP(G304,サイズ!$H$3:$I$17,2,1))","v":""}]
[null,null,null,null,null,null,null,{"$f":"IF(F305=\"\",\"\",VLOOKUP(F305,サイズ!$E$3:$F$11,2,1))","v":""},null,null,null,"",null,"","","",{"$f":"IF(G305=\"\",\"\",VLOOKUP(G305,サイズ!$H$3:$I$17,2,1))","v":""}]
[null,null,null,null,null,null,null,{"$f":"IF(F306=\"\",\"\",VLOOKUP(F306,サイズ!$E$3:$F$11,2,1))","v":""},null,null,null,"",null,"","","",{"$f":"IF(G306=\"\",\"\",VLOOKUP(G306,サイズ!$H$3:$I$17,2,1))","v":""}]
[null,null,null,null,null,null,null,{"$f":"IF(F307=\"\",\"\",VLOOKUP(F307,サイズ!$E$3:$F$11,2,1))","v":""},null,null,null,"",null,"","","",{"$f":"IF(G307=\"\",\"\",VLOOKUP(G307,サイズ!$H$3:$I$17,2,1))","v":""}]
[null,null,null,null,null,null,null,{"$f":"IF(F308=\"\",\"\",VLOOKUP(F308,サイズ!$E$3:$F$11,2,1))","v":""},null,null,null,"",null,"","","",{"$f":"IF(G308=\"\",\"\",VLOOKUP(G308,サイズ!$H$3:$I$17,2,1))","v":""}]
[null,null,null,null,null,null,null,{"$f":"IF(F309=\"\",\"\",VLOOKUP(F309,サイズ!$E$3:$F$11,2,1))","v":""},null,null,null,"",null,"","","",{"$f":"IF(G309=\"\",\"\",VLOOKUP(G309,サイズ!$H$3:$I$17,2,1))","v":""}]
[null,null,null,null,null,null,null,{"$f":"IF(F310=\"\",\"\",VLOOKUP(F310,サイズ!$E$3:$F$11,2,1))","v":""},null,null,null,"",null,"","","",{"$f":"IF(G310=\"\",\"\",VLOOKUP(G310,サイズ!$H$3:$I$17,2,1))","v":""}]
[null,null,null,null,null,null,null,{"$f":"IF(F311=\"\",\"\",VLOOKUP(F311,サイズ!$E$3:$F$11,2,1))","v":""},null,null,null,"",null,"","","",{"$f":"IF(G311=\"\",\"\",VLOOKUP(G311,サイズ!$H$3:$I$17,2,1))","v":""}]
[null,null,null,null,null,null,null,{"$f":"IF(F312=\"\",\"\",VLOOKUP(F312,サイズ!$E$3:$F$11,2,1))","v":""},null,null,null,"",null,"","","",{"$f":"IF(G312=\"\",\"\",VLOOKUP(G312,サイズ!$H$3:$I$17,2,1))","v":""}]
[null,null,null,null,null,null,null,{"$f":"IF(F313=\"\",\"\",VLOOKUP(F313,サイズ!$E$3:$F$11,2,1))","v":""},null,null,null,"",null,"","","",{"$f":"IF(G313=\"\",\"\",VLOOKUP(G313,サイズ!$H$3:$I$17,2,1))","v":""}]
[null,null,null,null,null,null,null,{"$f":"IF(F314=\"\",\"\",VLOOKUP(F314,サイズ!$E$3:$F$11,2,1))","v":""},null,null,null,"",null,"","","",{"$f":"IF(G314=\"\",\"\",VLOOKUP(G314,サイズ!$H$3:$I$17,2,1))","v":""}]
[null,null,null,null,null,null,null,{"$f":"IF(F315=\"\",\"\",VLOOKUP(F315,サイズ!$E$3:$F$11,2,1))","v":""},null,null,null,"",null,"","","",{"$f":"IF(G315=\"\",\"\",VLOOKUP(G315,サイズ!$H$3:$I$17,2,1))","v":""}]
[null,null,null,null,null,null,null,{"$f":"IF(F316=\"\",\"\",VLOOKUP(F316,サイズ!$E$3:$F$11,2,1))","v":""},null,null,null,"",null,"","","",{"$f":"IF(G316=\"\",\"\",VLOOKUP(G316,サイズ!$H$3:$I$17,2,1))","v":""}]
[null,null,null,null,null,null,null,{"$f":"IF(F317=\"\",\"\",VLOOKUP(F317,サイズ!$E$3:$F$11,2,1))","v":""},null,null,null,"",null,"","","",{"$f":"IF(G317=\"\",\"\",VLOOKUP(G317,サイズ!$H$3:$I$17,2,1))","v":""}]
[null,null,null,null,null,null,null,{"$f":"IF(F318=\"\",\"\",VLOOKUP(F318,サイズ!$E$3:$F$11,2,1))","v":""},null,null,null,"",null,"","","",{"$f":"IF(G318=\"\",\"\",VLOOKUP(G318,サイズ!$H$3:$I$17,2,1))","v":""}]
[null,null,null,null,null,null,null,{"$f":"IF(F319=\"\",\"\",VLOOKUP(F319,サイズ!$E$3:$F$11,2,1))","v":""},null,null,null,{"$f":"IF(K319=\"\",\"\",K319)","v":""},null,{"$f":"IF(M319=\"\",\"\",1)","v":""},{"$f":"IF(M319=\"\",\"\",1)","v":""},{"$f":"IF(M319=\"\",\"\",1)","v":""},{"$f":"IF(G319=\"\",\"\",VLOOKUP(G319,サイズ!$H$3:$I$17,2,1))","v":""}]
[null,null,null,null,null,null,null,{"$f":"IF(F320=\"\",\"\",VLOOKUP(F320,サイズ!$E$3:$F$11,2,1))","v":""},null,null,null,"",null,"","","",{"$f":"IF(G320=\"\",\"\",VLOOKUP(G320,サイズ!$H$3:$I$17,2,1))","v":""}]
[null,null,null,null,null,null,null,{"$f":"IF(F321=\"\",\"\",VLOOKUP(F321,サイズ!$E$3:$F$11,2,1))","v":""},null,null,null,"",null,"","","",{"$f":"IF(G321=\"\",\"\",VLOOKUP(G321,サイズ!$H$3:$I$17,2,1))","v":""}]
[null,null,null,null,null,null,null,{"$f":"IF(F322=\"\",\"\",VLOOKUP(F322,サイズ!$E$3:$F$11,2,1))","v":""},null,null,null,"",null,"","","",{"$f":"IF(G322=\"\",\"\",VLOOKUP(G322,サイズ!$H$3:$I$17,2,1))","v":""}]
[null,null,null,null,null,null,null,{"$f":"IF(F323=\"\",\"\",VLOOKUP(F323,サイズ!$E$3:$F$11,2,1))","v":""},null,null,null,"",null,"","","",{"$f":"IF(G323=\"\",\"\",VLOOKUP(G323,サイズ!$H$3:$I$17,2,1))","v":""}]
[null,null,null,null,null,null,null,{"$f":"IF(F324=\"\",\"\",VLOOKUP(F324,サイズ!$E$3:$F$11,2,1))","v":""},null,null,null,"",null,"","","",{"$f":"IF(G324=\"\",\"\",VLOOKUP(G324,サイズ!$H$3:$I$17,2,1))","v":""}]
[null,null,null,null,null,null,null,{"$f":"IF(F325=\"\",\"\",VLOOKUP(F325,サイズ!$E$3:$F$11,2,1))","v":""},null,null,null,"",null,"","","",{"$f":"IF(G325=\"\",\"\",VLOOKUP(G325,サイズ!$H$3:$I$17,2,1))","v":""}]
[null,null,null,null,null,null,null,{"$f":"IF(F326=\"\",\"\",VLOOKUP(F326,サイズ!$E$3:$F$11,2,1))","v":""},null,null,null,"",null,"","","",{"$f":"IF(G326=\"\",\"\",VLOOKUP(G326,サイズ!$H$3:$I$17,2,1))","v":""}]
[null,null,null,null,null,null,null,{"$f":"IF(F327=\"\",\"\",VLOOKUP(F327,サイズ!$E$3:$F$11,2,1))","v":""},null,null,null,"",null,"","","",{"$f":"IF(G327=\"\",\"\",VLOOKUP(G327,サイズ!$H$3:$I$17,2,1))","v":""}]
[null,null,null,null,null,null,null,{"$f":"IF(F328=\"\",\"\",VLOOKUP(F328,サイズ!$E$3:$F$11,2,1))","v":""},null,null,null,"",null,"","","",{"$f":"IF(G328=\"\",\"\",VLOOKUP(G328,サイズ!$H$3:$I$17,2,1))","v":""}]
[null,null,null,null,null,null,null,{"$f":"IF(F329=\"\",\"\",VLOOKUP(F329,サイズ!$E$3:$F$11,2,1))","v":""},null,null,null,"",null,"","","",{"$f":"IF(G329=\"\",\"\",VLOOKUP(G329,サイズ!$H$3:$I$17,2,1))","v":""}]
[null,null,null,null,null,null,null,{"$f":"IF(F330=\"\",\"\",VLOOKUP(F330,サイズ!$E$3:$F$11,2,1))","v":""},null,null,null,"",null,"","","",{"$f":"IF(G330=\"\",\"\",VLOOKUP(G330,サイズ!$H$3:$I$17,2,1))","v":""}]
[null,null,null,null,null,null,null,{"$f":"IF(F331=\"\",\"\",VLOOKUP(F331,サイズ!$E$3:$F$11,2,1))","v":""},null,null,null,"",null,"","","",{"$f":"IF(G331=\"\",\"\",VLOOKUP(G331,サイズ!$H$3:$I$17,2,1))","v":""}]
[null,null,null,null,null,null,null,{"$f":"IF(F332=\"\",\"\",VLOOKUP(F332,サイズ!$E$3:$F$11,2,1))","v":""},null,null,null,"",null,"","","",{"$f":"IF(G332=\"\",\"\",VLOOKUP(G332,サイズ!$H$3:$I$17,2,1))","v":""}]
[null,null,null,null,null,null,null,{"$f":"IF(F333=\"\",\"\",VLOOKUP(F333,サイズ!$E$3:$F$11,2,1))","v":""},null,null,null,"",null,"","","",{"$f":"IF(G333=\"\",\"\",VLOOKUP(G333,サイズ!$H$3:$I$17,2,1))","v":""}]
[null,null,null,null,null,null,null,{"$f":"IF(F334=\"\",\"\",VLOOKUP(F334,サイズ!$E$3:$F$11,2,1))","v":""},null,null,null,"",null,"","","",{"$f":"IF(G334=\"\",\"\",VLOOKUP(G334,サイズ!$H$3:$I$17,2,1))","v":""}]
[null,null,null,null,null,null,null,{"$f":"IF(F335=\"\",\"\",VLOOKUP(F335,サイズ!$E$3:$F$11,2,1))","v":""},null,null,null,"",null,"","","",{"$f":"IF(G335=\"\",\"\",VLOOKUP(G335,サイズ!$H$3:$I$17,2,1))","v":""}]
[null,null,null,null,null,null,null,{"$f":"IF(F336=\"\",\"\",VLOOKUP(F336,サイズ!$E$3:$F$11,2,1))","v":""},null,null,null,"",null,"","","",{"$f":"IF(G336=\"\",\"\",VLOOKUP(G336,サイズ!$H$3:$I$17,2,1))","v":""}]
[null,null,null,null,null,null,null,{"$f":"IF(F337=\"\",\"\",VLOOKUP(F337,サイズ!$E$3:$F$11,2,1))","v":""},null,null,null,"",null,"","","",{"$f":"IF(G337=\"\",\"\",VLOOKUP(G337,サイズ!$H$3:$I$17,2,1))","v":""}]
[null,null,null,null,null,null,null,{"$f":"IF(F338=\"\",\"\",VLOOKUP(F338,サイズ!$E$3:$F$11,2,1))","v":""},null,null,null,"",null,"","","",{"$f":"IF(G338=\"\",\"\",VLOOKUP(G338,サイズ!$H$3:$I$17,2,1))","v":""}]
[null,null,null,null,null,null,null,{"$f":"IF(F339=\"\",\"\",VLOOKUP(F339,サイズ!$E$3:$F$11,2,1))","v":""},null,null,null,"",null,"","","",{"$f":"IF(G339=\"\",\"\",VLOOKUP(G339,サイズ!$H$3:$I$17,2,1))","v":""}]
[null,null,null,null,null,null,null,{"$f":"IF(F340=\"\",\"\",VLOOKUP(F340,サイズ!$E$3:$F$11,2,1))","v":""},null,null,null,"",null,"","","",{"$f":"IF(G340=\"\",\"\",VLOOKUP(G340,サイズ!$H$3:$I$17,2,1))","v":""}]
[null,null,null,null,null,null,null,{"$f":"IF(F341=\"\",\"\",VLOOKUP(F341,サイズ!$E$3:$F$11,2,1))","v":""},null,null,null,"",null,"","","",{"$f":"IF(G341=\"\",\"\",VLOOKUP(G341,サイズ!$H$3:$I$17,2,1))","v":""}]
[null,null,null,null,null,null,null,{"$f":"IF(F342=\"\",\"\",VLOOKUP(F342,サイズ!$E$3:$F$11,2,1))","v":""},null,null,null,"",null,"","","",{"$f":"IF(G342=\"\",\"\",VLOOKUP(G342,サイズ!$H$3:$I$17,2,1))","v":""}]
[null,null,null,null,null,null,null,{"$f":"IF(F343=\"\",\"\",VLOOKUP(F343,サイズ!$E$3:$F$11,2,1))","v":""},null,null,null,"",null,"","","",{"$f":"IF(G343=\"\",\"\",VLOOKUP(G343,サイズ!$H$3:$I$17,2,1))","v":""}]
[null,null,null,null,null,null,null,{"$f":"IF(F344=\"\",\"\",VLOOKUP(F344,サイズ!$E$3:$F$11,2,1))","v":""},null,null,null,"",null,"","","",{"$f":"IF(G344=\"\",\"\",VLOOKUP(G344,サイズ!$H$3:$I$17,2,1))","v":""}]
[null,null,null,null,null,null,null,{"$f":"IF(F345=\"\",\"\",VLOOKUP(F345,サイズ!$E$3:$F$11,2,1))","v":""},null,null,null,"",null,"","","",{"$f":"IF(G345=\"\",\"\",VLOOKUP(G345,サイズ!$H$3:$I$17,2,1))","v":""}]
[null,null,null,null,null,null,null,{"$f":"IF(F346=\"\",\"\",VLOOKUP(F346,サイズ!$E$3:$F$11,2,1))","v":""},null,null,null,"",null,"","","",{"$f":"IF(G346=\"\",\"\",VLOOKUP(G346,サイズ!$H$3:$I$17,2,1))","v":""}]
[null,null,null,null,null,null,null,{"$f":"IF(F347=\"\",\"\",VLOOKUP(F347,サイズ!$E$3:$F$11,2,1))","v":""},null,null,null,"",null,"","","",{"$f":"IF(G347=\"\",\"\",VLOOKUP(G347,サイズ!$H$3:$I$17,2,1))","v":""}]
[null,null,null,null,null,null,null,{"$f":"IF(F348=\"\",\"\",VLOOKUP(F348,サイズ!$E$3:$F$11,2,1))","v":""},null,null,null,"",null,"","","",{"$f":"IF(G348=\"\",\"\",VLOOKUP(G348,サイズ!$H$3:$I$17,2,1))","v":""}]
[null,null,null,null,null,null,null,{"$f":"IF(F349=\"\",\"\",VLOOKUP(F349,サイズ!$E$3:$F$11,2,1))","v":""},null,null,null,"",null,"","","",{"$f":"IF(G349=\"\",\"\",VLOOKUP(G349,サイズ!$H$3:$I$17,2,1))","v":""}]
[null,null,null,null,null,null,null,{"$f":"IF(F350=\"\",\"\",VLOOKUP(F350,サイズ!$E$3:$F$11,2,1))","v":""},null,null,null,"",null,"","","",{"$f":"IF(G350=\"\",\"\",VLOOKUP(G350,サイズ!$H$3:$I$17,2,1))","v":""}]
[null,null,null,null,null,null,null,{"$f":"IF(F351=\"\",\"\",VLOOKUP(F351,サイズ!$E$3:$F$11,2,1))","v":""},null,null,null,"",null,"","","",{"$f":"IF(G351=\"\",\"\",VLOOKUP(G351,サイズ!$H$3:$I$17,2,1))","v":""}]
[null,null,null,null,null,null,null,{"$f":"IF(F352=\"\",\"\",VLOOKUP(F352,サイズ!$E$3:$F$11,2,1))","v":""},null,null,null,"",null,"","","",{"$f":"IF(G352=\"\",\"\",VLOOKUP(G352,サイズ!$H$3:$I$17,2,1))","v":""}]
[null,null,null,null,null,null,null,{"$f":"IF(F353=\"\",\"\",VLOOKUP(F353,サイズ!$E$3:$F$11,2,1))","v":""},null,null,null,"",null,"","","",{"$f":"IF(G353=\"\",\"\",VLOOKUP(G353,サイズ!$H$3:$I$17,2,1))","v":""}]
[null,null,null,null,null,null,null,{"$f":"IF(F354=\"\",\"\",VLOOKUP(F354,サイズ!$E$3:$F$11,2,1))","v":""},null,null,null,"",null,"","","",{"$f":"IF(G354=\"\",\"\",VLOOKUP(G354,サイズ!$H$3:$I$17,2,1))","v":""}]
[null,null,null,null,null,null,null,{"$f":"IF(F355=\"\",\"\",VLOOKUP(F355,サイズ!$E$3:$F$11,2,1))","v":""},null,null,null,"",null,"","","",{"$f":"IF(G355=\"\",\"\",VLOOKUP(G355,サイズ!$H$3:$I$17,2,1))","v":""}]
[null,null,null,null,null,null,null,{"$f":"IF(F356=\"\",\"\",VLOOKUP(F356,サイズ!$E$3:$F$11,2,1))","v":""},null,null,null,"",null,"","","",{"$f":"IF(G356=\"\",\"\",VLOOKUP(G356,サイズ!$H$3:$I$17,2,1))","v":""}]
[null,null,null,null,null,null,null,{"$f":"IF(F357=\"\",\"\",VLOOKUP(F357,サイズ!$E$3:$F$11,2,1))","v":""},null,null,null,"",null,"","","",{"$f":"IF(G357=\"\",\"\",VLOOKUP(G357,サイズ!$H$3:$I$17,2,1))","v":""}]
[null,null,null,null,null,null,null,{"$f":"IF(F358=\"\",\"\",VLOOKUP(F358,サイズ!$E$3:$F$11,2,1))","v":""},null,null,null,"",null,"","","",{"$f":"IF(G358=\"\",\"\",VLOOKUP(G358,サイズ!$H$3:$I$17,2,1))","v":""}]
[null,null,null,null,null,null,null,{"$f":"IF(F359=\"\",\"\",VLOOKUP(F359,サイズ!$E$3:$F$11,2,1))","v":""},null,null,null,"",null,"","","",{"$f":"IF(G359=\"\",\"\",VLOOKUP(G359,サイズ!$H$3:$I$17,2,1))","v":""}]
[null,null,null,null,null,null,null,{"$f":"IF(F360=\"\",\"\",VLOOKUP(F360,サイズ!$E$3:$F$11,2,1))","v":""},null,null,null,"",null,"","","",{"$f":"IF(G360=\"\",\"\",VLOOKUP(G360,サイズ!$H$3:$I$17,2,1))","v":""}]
[null,null,null,null,null,null,null,{"$f":"IF(F361=\"\",\"\",VLOOKUP(F361,サイズ!$E$3:$F$11,2,1))","v":""},null,null,null,"",null,"","","",{"$f":"IF(G361=\"\",\"\",VLOOKUP(G361,サイズ!$H$3:$I$17,2,1))","v":""}]
[null,null,null,null,null,null,null,{"$f":"IF(F362=\"\",\"\",VLOOKUP(F362,サイズ!$E$3:$F$11,2,1))","v":""},null,null,null,"",null,"","","",{"$f":"IF(G362=\"\",\"\",VLOOKUP(G362,サイズ!$H$3:$I$17,2,1))","v":""}]
[null,null,null,null,null,null,null,{"$f":"IF(F363=\"\",\"\",VLOOKUP(F363,サイズ!$E$3:$F$11,2,1))","v":""},null,null,null,"",null,"","","",{"$f":"IF(G363=\"\",\"\",VLOOKUP(G363,サイズ!$H$3:$I$17,2,1))","v":""}]
[null,null,null,null,null,null,null,{"$f":"IF(F364=\"\",\"\",VLOOKUP(F364,サイズ!$E$3:$F$11,2,1))","v":""},null,null,null,"",null,"","","",{"$f":"IF(G364=\"\",\"\",VLOOKUP(G364,サイズ!$H$3:$I$17,2,1))","v":""}]
[null,null,null,null,null,null,null,{"$f":"IF(F365=\"\",\"\",VLOOKUP(F365,サイズ!$E$3:$F$11,2,1))","v":""},null,null,null,"",null,"","","",{"$f":"IF(G365=\"\",\"\",VLOOKUP(G365,サイズ!$H$3:$I$17,2,1))","v":""}]
[null,null,null,null,null,null,null,{"$f":"IF(F366=\"\",\"\",VLOOKUP(F366,サイズ!$E$3:$F$11,2,1))","v":""},null,null,null,"",null,"","","",{"$f":"IF(G366=\"\",\"\",VLOOKUP(G366,サイズ!$H$3:$I$17,2,1))","v":""}]
[null,null,null,null,null,null,null,{"$f":"IF(F367=\"\",\"\",VLOOKUP(F367,サイズ!$E$3:$F$11,2,1))","v":""},null,null,null,"",null,"","","",{"$f":"IF(G367=\"\",\"\",VLOOKUP(G367,サイズ!$H$3:$I$17,2,1))","v":""}]
[null,null,null,null,null,null,null,{"$f":"IF(F368=\"\",\"\",VLOOKUP(F368,サイズ!$E$3:$F$11,2,1))","v":""},null,null,null,"",null,"","","",{"$f":"IF(G368=\"\",\"\",VLOOKUP(G368,サイズ!$H$3:$I$17,2,1))","v":""}]
[null,null,null,null,null,null,null,{"$f":"IF(F369=\"\",\"\",VLOOKUP(F369,サイズ!$E$3:$F$11,2,1))","v":""},null,null,null,"",null,"","","",{"$f":"IF(G369=\"\",\"\",VLOOKUP(G369,サイズ!$H$3:$I$17,2,1))","v":""}]
[null,null,null,null,null,null,null,{"$f":"IF(F370=\"\",\"\",VLOOKUP(F370,サイズ!$E$3:$F$11,2,1))","v":""},null,null,null,"",null,"","","",{"$f":"IF(G370=\"\",\"\",VLOOKUP(G370,サイズ!$H$3:$I$17,2,1))","v":""}]
[null,null,null,null,null,null,null,{"$f":"IF(F371=\"\",\"\",VLOOKUP(F371,サイズ!$E$3:$F$11,2,1))","v":""},null,null,null,"",null,"","","",{"$f":"IF(G371=\"\",\"\",VLOOKUP(G371,サイズ!$H$3:$I$17,2,1))","v":""}]
[null,null,null,null,null,null,null,{"$f":"IF(F372=\"\",\"\",VLOOKUP(F372,サイズ!$E$3:$F$11,2,1))","v":""},null,null,null,"",null,"","","",{"$f":"IF(G372=\"\",\"\",VLOOKUP(G372,サイズ!$H$3:$I$17,2,1))","v":""}]
[null,null,null,null,null,null,null,{"$f":"IF(F373=\"\",\"\",VLOOKUP(F373,サイズ!$E$3:$F$11,2,1))","v":""},null,null,null,"",null,"","","",{"$f":"IF(G373=\"\",\"\",VLOOKUP(G373,サイズ!$H$3:$I$17,2,1))","v":""}]
[null,null,null,null,null,null,null,{"$f":"IF(F374=\"\",\"\",VLOOKUP(F374,サイズ!$E$3:$F$11,2,1))","v":""},null,null,null,"",null,"","","",{"$f":"IF(G374=\"\",\"\",VLOOKUP(G374,サイズ!$H$3:$I$17,2,1))","v":""}]
[null,null,null,null,null,null,null,{"$f":"IF(F375=\"\",\"\",VLOOKUP(F375,サイズ!$E$3:$F$11,2,1))","v":""},null,null,null,"",null,"","","",{"$f":"IF(G375=\"\",\"\",VLOOKUP(G375,サイズ!$H$3:$I$17,2,1))","v":""}]
[null,null,null,null,null,null,null,{"$f":"IF(F376=\"\",\"\",VLOOKUP(F376,サイズ!$E$3:$F$11,2,1))","v":""},null,null,null,"",null,"","","",{"$f":"IF(G376=\"\",\"\",VLOOKUP(G376,サイズ!$H$3:$I$17,2,1))","v":""}]
[null,null,null,null,null,null,null,{"$f":"IF(F377=\"\",\"\",VLOOKUP(F377,サイズ!$E$3:$F$11,2,1))","v":""},null,null,null,"",null,"","","",{"$f":"IF(G377=\"\",\"\",VLOOKUP(G377,サイズ!$H$3:$I$17,2,1))","v":""}]
[null,null,null,null,null,null,null,{"$f":"IF(F378=\"\",\"\",VLOOKUP(F378,サイズ!$E$3:$F$11,2,1))","v":""},null,null,null,"",null,"","","",{"$f":"IF(G378=\"\",\"\",VLOOKUP(G378,サイズ!$H$3:$I$17,2,1))","v":""}]
[null,null,null,null,null,null,null,{"$f":"IF(F379=\"\",\"\",VLOOKUP(F379,サイズ!$E$3:$F$11,2,1))","v":""},null,null,null,"",null,"","","",{"$f":"IF(G379=\"\",\"\",VLOOKUP(G379,サイズ!$H$3:$I$17,2,1))","v":""}]
[null,null,null,null,null,null,null,{"$f":"IF(F380=\"\",\"\",VLOOKUP(F380,サイズ!$E$3:$F$11,2,1))","v":""},null,null,null,"",null,"","","",{"$f":"IF(G380=\"\",\"\",VLOOKUP(G380,サイズ!$H$3:$I$17,2,1))","v":""}]
[null,null,null,null,null,null,null,{"$f":"IF(F381=\"\",\"\",VLOOKUP(F381,サイズ!$E$3:$F$11,2,1))","v":""},null,null,null,"",null,"","","",{"$f":"IF(G381=\"\",\"\",VLOOKUP(G381,サイズ!$H$3:$I$17,2,1))","v":""}]
[null,null,null,null,null,null,null,{"$f":"IF(F382=\"\",\"\",VLOOKUP(F382,サイズ!$E$3:$F$11,2,1))","v":""},null,null,null,"",null,"","","",{"$f":"IF(G382=\"\",\"\",VLOOKUP(G382,サイズ!$H$3:$I$17,2,1))","v":""}]
[null,null,null,null,null,null,null,{"$f":"IF(F383=\"\",\"\",VLOOKUP(F383,サイズ!$E$3:$F$11,2,1))","v":""},null,null,null,{"$f":"IF(K383=\"\",\"\",K383)","v":""},null,{"$f":"IF(M383=\"\",\"\",1)","v":""},{"$f":"IF(M383=\"\",\"\",1)","v":""},{"$f":"IF(M383=\"\",\"\",1)","v":""},{"$f":"IF(G383=\"\",\"\",VLOOKUP(G383,サイズ!$H$3:$I$17,2,1))","v":""}]
[null,null,null,null,null,null,null,{"$f":"IF(F384=\"\",\"\",VLOOKUP(F384,サイズ!$E$3:$F$11,2,1))","v":""},null,null,null,"",null,"","","",{"$f":"IF(G384=\"\",\"\",VLOOKUP(G384,サイズ!$H$3:$I$17,2,1))","v":""}]
[null,null,null,null,null,null,null,{"$f":"IF(F385=\"\",\"\",VLOOKUP(F385,サイズ!$E$3:$F$11,2,1))","v":""},null,null,null,"",null,"","","",{"$f":"IF(G385=\"\",\"\",VLOOKUP(G385,サイズ!$H$3:$I$17,2,1))","v":""}]
[null,null,null,null,null,null,null,{"$f":"IF(F386=\"\",\"\",VLOOKUP(F386,サイズ!$E$3:$F$11,2,1))","v":""},null,null,null,"",null,"","","",{"$f":"IF(G386=\"\",\"\",VLOOKUP(G386,サイズ!$H$3:$I$17,2,1))","v":""}]
[null,null,null,null,null,null,null,{"$f":"IF(F387=\"\",\"\",VLOOKUP(F387,サイズ!$E$3:$F$11,2,1))","v":""},null,null,null,"",null,"","","",{"$f":"IF(G387=\"\",\"\",VLOOKUP(G387,サイズ!$H$3:$I$17,2,1))","v":""}]
[null,null,null,null,null,null,null,{"$f":"IF(F388=\"\",\"\",VLOOKUP(F388,サイズ!$E$3:$F$11,2,1))","v":""},null,null,null,"",null,"","","",{"$f":"IF(G388=\"\",\"\",VLOOKUP(G388,サイズ!$H$3:$I$17,2,1))","v":""}]
[null,null,null,null,null,null,null,{"$f":"IF(F389=\"\",\"\",VLOOKUP(F389,サイズ!$E$3:$F$11,2,1))","v":""},null,null,null,"",null,"","","",{"$f":"IF(G389=\"\",\"\",VLOOKUP(G389,サイズ!$H$3:$I$17,2,1))","v":""}]
[null,null,null,null,null,null,null,{"$f":"IF(F390=\"\",\"\",VLOOKUP(F390,サイズ!$E$3:$F$11,2,1))","v":""},null,null,null,"",null,"","","",{"$f":"IF(G390=\"\",\"\",VLOOKUP(G390,サイズ!$H$3:$I$17,2,1))","v":""}]
[null,null,null,null,null,null,null,{"$f":"IF(F391=\"\",\"\",VLOOKUP(F391,サイズ!$E$3:$F$11,2,1))","v":""},null,null,null,"",null,"","","",{"$f":"IF(G391=\"\",\"\",VLOOKUP(G391,サイズ!$H$3:$I$17,2,1))","v":""}]
[null,null,null,null,null,null,null,{"$f":"IF(F392=\"\",\"\",VLOOKUP(F392,サイズ!$E$3:$F$11,2,1))","v":""},null,null,null,"",null,"","","",{"$f":"IF(G392=\"\",\"\",VLOOKUP(G392,サイズ!$H$3:$I$17,2,1))","v":""}]
[null,null,null,null,null,null,null,{"$f":"IF(F393=\"\",\"\",VLOOKUP(F393,サイズ!$E$3:$F$11,2,1))","v":""},null,null,null,"",null,"","","",{"$f":"IF(G393=\"\",\"\",VLOOKUP(G393,サイズ!$H$3:$I$17,2,1))","v":""}]
[null,null,null,null,null,null,null,{"$f":"IF(F394=\"\",\"\",VLOOKUP(F394,サイズ!$E$3:$F$11,2,1))","v":""},null,null,null,"",null,"","","",{"$f":"IF(G394=\"\",\"\",VLOOKUP(G394,サイズ!$H$3:$I$17,2,1))","v":""}]
[null,null,null,null,null,null,null,{"$f":"IF(F395=\"\",\"\",VLOOKUP(F395,サイズ!$E$3:$F$11,2,1))","v":""},null,null,null,"",null,"","","",{"$f":"IF(G395=\"\",\"\",VLOOKUP(G395,サイズ!$H$3:$I$17,2,1))","v":""}]
[null,null,null,null,null,null,null,{"$f":"IF(F396=\"\",\"\",VLOOKUP(F396,サイズ!$E$3:$F$11,2,1))","v":""},null,null,null,"",null,"","","",{"$f":"IF(G396=\"\",\"\",VLOOKUP(G396,サイズ!$H$3:$I$17,2,1))","v":""}]
[null,null,null,null,null,null,null,{"$f":"IF(F397=\"\",\"\",VLOOKUP(F397,サイズ!$E$3:$F$11,2,1))","v":""},null,null,null,"",null,"","","",{"$f":"IF(G397=\"\",\"\",VLOOKUP(G397,サイズ!$H$3:$I$17,2,1))","v":""}]
[null,null,null,null,null,null,null,{"$f":"IF(F398=\"\",\"\",VLOOKUP(F398,サイズ!$E$3:$F$11,2,1))","v":""},null,null,null,"",null,"","","",{"$f":"IF(G398=\"\",\"\",VLOOKUP(G398,サイズ!$H$3:$I$17,2,1))","v":""}]
[null,null,null,null,null,null,null,{"$f":"IF(F399=\"\",\"\",VLOOKUP(F399,サイズ!$E$3:$F$11,2,1))","v":""},null,null,null,"",null,"","","",{"$f":"IF(G399=\"\",\"\",VLOOKUP(G399,サイズ!$H$3:$I$17,2,1))","v":""}]
[null,null,null,null,null,null,null,{"$f":"IF(F400=\"\",\"\",VLOOKUP(F400,サイズ!$E$3:$F$11,2,1))","v":""},null,null,null,"",null,"","","",{"$f":"IF(G400=\"\",\"\",VLOOKUP(G400,サイズ!$H$3:$I$17,2,1))","v":""}]
[null,null,null,null,null,null,null,{"$f":"IF(F401=\"\",\"\",VLOOKUP(F401,サイズ!$E$3:$F$11,2,1))","v":""},null,null,null,"",null,"","","",{"$f":"IF(G401=\"\",\"\",VLOOKUP(G401,サイズ!$H$3:$I$17,2,1))","v":""}]
[null,null,null,null,null,null,null,{"$f":"IF(F402=\"\",\"\",VLOOKUP(F402,サイズ!$E$3:$F$11,2,1))","v":""},null,null,null,"",null,"","","",{"$f":"IF(G402=\"\",\"\",VLOOKUP(G402,サイズ!$H$3:$I$17,2,1))","v":""}]
[null,null,null,null,null,null,null,{"$f":"IF(F403=\"\",\"\",VLOOKUP(F403,サイズ!$E$3:$F$11,2,1))","v":""},null,null,null,"",null,"","","",{"$f":"IF(G403=\"\",\"\",VLOOKUP(G403,サイズ!$H$3:$I$17,2,1))","v":""}]
[null,null,null,null,null,null,null,{"$f":"IF(F404=\"\",\"\",VLOOKUP(F404,サイズ!$E$3:$F$11,2,1))","v":""},null,null,null,"",null,"","","",{"$f":"IF(G404=\"\",\"\",VLOOKUP(G404,サイズ!$H$3:$I$17,2,1))","v":""}]
[null,null,null,null,null,null,null,{"$f":"IF(F405=\"\",\"\",VLOOKUP(F405,サイズ!$E$3:$F$11,2,1))","v":""},null,null,null,"",null,"","","",{"$f":"IF(G405=\"\",\"\",VLOOKUP(G405,サイズ!$H$3:$I$17,2,1))","v":""}]
[null,null,null,null,null,null,null,{"$f":"IF(F406=\"\",\"\",VLOOKUP(F406,サイズ!$E$3:$F$11,2,1))","v":""},null,null,null,"",null,"","","",{"$f":"IF(G406=\"\",\"\",VLOOKUP(G406,サイズ!$H$3:$I$17,2,1))","v":""}]
[null,null,null,null,null,null,null,{"$f":"IF(F407=\"\",\"\",VLOOKUP(F407,サイズ!$E$3:$F$11,2,1))","v":""},null,null,null,"",null,"","","",{"$f":"IF(G407=\"\",\"\",VLOOKUP(G407,サイズ!$H$3:$I$17,2,1))","v":""}]
[null,null,null,null,null,null,null,{"$f":"IF(F408=\"\",\"\",VLOOKUP(F408,サイズ!$E$3:$F$11,2,1))","v":""},null,null,null,"",null,"","","",{"$f":"IF(G408=\"\",\"\",VLOOKUP(G408,サイズ!$H$3:$I$17,2,1))","v":""}]
[null,null,null,null,null,null,null,{"$f":"IF(F409=\"\",\"\",VLOOKUP(F409,サイズ!$E$3:$F$11,2,1))","v":""},null,null,null,"",null,"","","",{"$f":"IF(G409=\"\",\"\",VLOOKUP(G409,サイズ!$H$3:$I$17,2,1))","v":""}]

{"sheet":"靴ラベル","index":2,"n_rows":384,"n_cols":15,"rows_kept":384,"cut":false,"hidden":false,"merged":[[382,0,382,3],[382,5,382,8],[382,10,382,13],[383,2,383,3],[383,7,383,8],[383,12,383,13],[377,2,377,3],[377,7,377,8],[377,12,377,13],[379,0,379,3],[379,5,379,8],[379,10,379,13],[380,2,380,3],[380,7,380,8],[380,12,380,13],[373,0,373,3],[373,5,373,8],[373,10,373,13],[374,2,374,3],[374,7,374,8],[374,12,374,13],[376,0,376,3],[376,5,376,8],[376,10,376,13],[368,2,368,3],[368,7,368,8],[368,12,368,13],[370,0,370,3],[370,5,370,8],[370,10,370,13],[371,2,371,3],[371,7,371,8],[371,12,371,13],[364,0,364,3],[364,5,364,8],[364,10,364,13],[365,2,365,3],[365,7,365,8],[365,12,365,13],[367,0,367,3],[367,5,367,8],[367,10,367,13],[359,2,359,3],[359,7,359,8],[359,12,359,13],[361,0,361,3],[361,5,361,8],[361,10,361,13],[362,2,362,3],[362,7,362,8],[362,12,362,13],[355,0,355,3],[355,5,355,8],[355,10,355,13],[356,2,356,3],[356,7,356,8],[356,12,356,13],[358,0,358,3],[358,5,358,8],[358,10,358,13],[350,2,350,3],[350,7,350,8],[350,12,350,13],[352,0,352,3],[352,5,352,8],[352,10,352,13],[353,2,353,3],[353,7,353,8],[353,12,353,13],[346,0,346,3],[346,5,346,8],[346,10,346,13],[347,2,347,3],[347,7,347,8],[347,12,347,13],[349,0,349,3],[349,5,349,8],[349,10,349,13],[341,2,341,3],[341,7,341,8],[341,12,341,13],[343,0,343,3],[343,5,343,8],[343,10,343,13],[344,2,344,3],[344,7,344,8],[344,12,344,13],[337,0,337,3],[337,5,337,8],[337,10,337,13],[338,2,338,3],[338,7,338,8],[338,12,338,13],[340,0,340,3],[340,5,340,8],[340,10,340,13],[332,2,332,3],[332,7,332,8],[332,12,332,13],[334,0,334,3],[334,5,334,8],[334,10,334,13],[335,2,335,3],[335,7,335,8],[335,12,335,13],[328,0,328,3],[328,5,328,8],[328,10,328,13],[329,2,329,3],[329,7,329,8],[329,12,329,13],[331,0,331,3],[331,5,331,8],[331,10,331,13],[323,2,323,3],[323,7,323,8],[323,12,323,13],[325,0,325,3],[325,5,325,8],[325,10,325,13],[326,2,326,3],[326,7,326,8],[326,12,326,13],[319,0,319,3],[319,5,319,8],[319,10,319,13],[320,2,320,3],[320,7,320,8],[320,12,320,13],[322,0,322,3],[322,5,322,8],[322,10,322,13],[314,2,314,3],[314,7,314,8],[314,12,314,13],[316,0,316,3],[316,5,316,8],[316,10,316,13],[317,2,317,3],[317,7,317,8],[317,12,317,13],[310,0,310,3],[310,5,310,8],[310,10,310,13],[311,2,311,3],[311,7,311,8],[311,12,311,13],[313,0,313,3],[313,5,313,8],[313,10,313,13],[305,2,305,3],[305,7,305,8],[305,12,305,13],[307,0,307,3],[307,5,307,8],[307,10,307,13],[308,2,308,3],[308,7,308,8],[308,12,308,13],[301,0,301,3],[301,5,301,8],[301,10,301,13],[302,2,302,3],[302,7,302,8],[302,12,302,13],[304,0,304,3],[304,5,304,8],[304,10,304,13],[296,2,296,3],[296,7,296,8],[296,12,296,13],[298,0,298,3],[298,5,298,8],[298,10,298,13],[299,2,299,3],[299,7,299,8],[299,12,299,13],[292,0,292,3],[292,5,292,8],[292,10,292,13],[293,2,293,3],[293,7,293,8],[293,12,293,13],[295,0,295,3],[295,5,295,8],[295,10,295,13],[287,2,287,3],[287,7,287,8],[287,12,287,13],[289,0,289,3],[289,5,289,8],[289,10,289,13],[290,2,290,3],[290,7,290,8],[290,12,290,13],[283,0,283,3],[283,5,283,8],[283,10,283,13],[284,2,284,3],[284,7,284,8],[284,12,284,13],[286,0,286,3],[286,5,286,8],[286,10,286,13],[278,2,278,3],[278,7,278,8],[278,12,278,13],[280,0,280,3],[280,5,280,8],[280,10,280,13],[281,2,281,3],[281,7,281,8],[281,12,281,13],[274,0,274,3],[274,5,274,8],[274,10,274,13],[275,2,275,3],[275,7,275,8],[275,12,275,13],[277,0,277,3],[277,5,277,8],[277,10,277,13],[269,2,269,3],[269,7,269,8],[269,12,269,13],[271,0,271,3],[271,5,271,8],[271,10,271,13],[272,2,272,3],[272,7,272,8],[272,12,272,13],[265,0,265,3],[265,5,265,8],[265,10,265,13],[266,2,266,3],[266,7,266,8],[266,12,266,13],[268,0,268,3],[268,5,268,8],[268,10,268,13],[260,2,260,3],[260,7,260,8],[260,12,260,13],[262,0,262,3],[262,5,262,8],[262,10,262,13],[263,2,263,3],[263,7,263,8],[263,12,263,13],[256,0,256,3],[256,5,256,8],[256,10,256,13],[257,2,257,3],[257,7,257,8],[257,12,257,13],[259,0,259,3],[259,5,259,8],[259,10,259,13],[251,2,251,3],[251,7,251,8],[251,12,251,13],[253,0,253,3],[253,5,253,8],[253,10,253,13],[254,2,254,3],[254,7,254,8],[254,12,254,13],[247,0,247,3],[247,5,247,8],[247,10,247,13],[248,2,248,3],[248,7,248,8],[248,12,248,13],[250,0,250,3],[250,5,250,8],[250,10,250,13],[242,2,242,3],[242,7,242,8],[242,12,242,13],[244,0,244,3],[244,5,244,8],[244,10,244,13],[245,2,245,3],[245,7,245,8],[245,12,245,13],[238,0,238,3],[238,5,238,8],[238,10,238,13],[239,2,239,3],[239,7,239,8],[239,12,239,13],[241,0,241,3],[241,5,241,8],[241,10,241,13],[233,2,233,3],[233,7,233,8],[233,12,233,13],[235,0,235,3],[235,5,235,8],[235,10,235,13],[236,2,236,3],[236,7,236,8],[236,12,236,13],[229,0,229,3],[229,5,229,8],[229,10,229,13],[230,2,230,3],[230,7,230,8],[230,12,230,13],[232,0,232,3],[232,5,232,8],[232,10,232,13],[224,2,224,3],[224,7,224,8],[224,12,224,13],[226,0,226,3],[226,5,226,8],[226,10,226,13],[227,2,227,3],[227,7,227,8],[227,12,227,13],[220,0,220,3],[220,5,220,8],[220,10,220,13],[221,2,221,3],[221,7,221,8],[221,12,221,13],[223,0,223,3],[223,5,223,8],[223,10,223,13],[215,2,215,3],[215,7,215,8],[215,12,215,13],[217,0,217,3],[217,5,217,8],[217,10,217,13],[218,2,218,3],[218,7,218,8],[218,12,218,13],[211,0,211,3],[211,5,211,8],[211,10,211,13],[212,2,212,3],[212,7,212,8],[212,12,212,13],[214,0,214,3],[214,5,214,8],[214,10,214,13],[206,2,206,3],[206,7,206,8],[206,12,206,13],[208,0,208,3],[208,5,208,8],[208,10,208,13],[209,2,209,3],[209,7,209,8],[209,12,209,13],[202,0,202,3],[202,5,202,8],[202,10,202,13],[203,2,203,3],[203,7,203,8],[203,12,203,13],[205,0,205,3],[205,5,205,8],[205,10,205,13],[197,2,197,3],[197,7,197,8],[197,12,197,13],[199,0,199,3],[199,5,199,8],[199,10,199,13],[200,2,200,3],[200,7,200,8],[200,12,200,13],[193,0,193,3],[193,5,193,8],[193,10,193,13],[194,2,194,3],[194,7,194,8],[194,12,194,13],[196,0,196,3],[196,5,196,8],[196,10,196,13],[188,2,188,3],[188,7,188,8],[188,12,188,13],[190,0,190,3],[190,5,190,8],[190,10,190,13],[191,2,191,3],[191,7,191,8],[191,12,191,13],[184,0,184,3],[184,5,184,8],[184,10,184,13],[185,2,185,3],[185,7,185,8],[185,12,185,13],[187,0,187,3],[187,5,187,8],[187,10,187,13],[179,2,179,3],[179,7,179,8],[179,12,179,13],[181,0,181,3],[181,5,181,8],[181,10,181,13],[182,2,182,3],[182,7,182,8],[182,12,182,13],[175,0,175,3],[175,5,175,8],[175,10,175,13],[176,2,176,3],[176,7,176,8],[176,12,176,13],[178,0,178,3],[178,5,178,8],[178,10,178,13],[170,2,170,3],[170,7,170,8],[170,12,170,13],[172,0,172,3],[172,5,172,8],[172,10,172,13],[173,2,173,3],[173,7,173,8],[173,12,173,13],[166,0,166,3],[166,5,166,8],[166,10,166,13],[167,2,167,3],[167,7,167,8],[167,12,167,13],[169,0,169,3],[169,5,169,8],[169,10,169,13],[161,2,161,3],[161,7,161,8],[161,12,161,13],[163,0,163,3],[163,5,163,8],[163,10,163,13],[164,2,164,3],[164,7,164,8],[164,12,164,13],[157,0,157,3],[157,5,157,8],[157,10,157,13],[158,2,158,3],[158,7,158,8],[158,12,158,13],[160,0,160,3],[160,5,160,8],[160,10,160,13],[152,2,152,3],[152,7,152,8],[152,12,152,13],[154,0,154,3],[154,5,154,8],[154,10,154,13],[155,2,155,3],[155,7,155,8],[155,12,155,13],[148,0,148,3],[148,5,148,8],[148,10,148,13],[149,2,149,3],[149,7,149,8],[149,12,149,13],[151,0,151,3],[151,5,151,8],[151,10,151,13],[143,2,143,3],[143,7,143,8],[143,12,143,13],[145,0,145,3],[145,5,145,8],[145,10,145,13],[146,2,146,3],[146,7,146,8],[146,12,146,13],[139,0,139,3],[139,5,139,8],[139,10,139,13],[140,2,140,3],[140,7,140,8],[140,12,140,13],[142,0,142,3],[142,5,142,8],[142,10,142,13],[134,2,134,3],[134,7,134,8],[134,12,134,13],[136,0,136,3],[136,5,136,8],[136,10,136,13],[137,2,137,3],[137,7,137,8],[137,12,137,13],[130,0,130,3],[130,5,130,8],[130,10,130,13],[131,2,131,3],[131,7,131,8],[131,12,131,13],[133,0,133,3],[133,5,133,8],[133,10,133,13],[125,2,125,3],[125,7,125,8],[125,12,125,13],[127,0,127,3],[127,5,127,8],[127,10,127,13],[128,2,128,3],[128,7,128,8],[128,12,128,13],[121,0,121,3],[121,5,121,8],[121,10,121,13],[122,2,122,3],[122,7,122,8],[122,12,122,13],[124,0,124,3],[124,5,124,8],[124,10,124,13],[5,2,5,3],[19,0,19,3],[19,5,19,8],[19,10,19,13],[20,2,20,3],[20,7,20,8],[20,12,20,13],[5,7,5,8],[5,12,5,13],[7,0,7,3],[7,5,7,8],[7,10,7,13],[10,5,10,8],[10,10,10,13],[11,2,11,3],[11,7,11,8],[11,12,11,13],[13,0,13,3],[13,5,13,8],[13,10,13,13],[14,2,14,3],[14,7,14,8],[14,12,14,13],[16,0,16,3],[1,0,1,3],[2,2,2,3],[1,5,1,8],[2,7,2,8],[1,10,1,13],[2,12,2,13],[4,0,4,3],[4,5,4,8],[4,10,4,13],[22,0,22,3],[22,5,22,8],[22,10,22,13],[23,2,23,3],[23,7,23,8],[23,12,23,13],[8,2,8,3],[8,7,8,8],[8,12,8,13],[10,0,10,3],[16,5,16,8],[16,10,16,13],[17,2,17,3],[17,7,17,8],[17,12,17,13],[28,0,28,3],[28,5,28,8],[28,10,28,13],[29,2,29,3],[29,7,29,8],[29,12,29,13],[25,0,25,3],[25,5,25,8],[25,10,25,13],[26,2,26,3],[26,7,26,8],[26,12,26,13],[34,0,34,3],[34,5,34,8],[34,10,34,13],[35,2,35,3],[35,7,35,8],[35,12,35,13],[31,0,31,3],[31,5,31,8],[31,10,31,13],[32,2,32,3],[32,7,32,8],[32,12,32,13],[40,0,40,3],[40,5,40,8],[40,10,40,13],[41,2,41,3],[41,7,41,8],[41,12,41,13],[37,0,37,3],[37,5,37,8],[37,10,37,13],[38,2,38,3],[38,7,38,8],[38,12,38,13],[46,0,46,3],[46,5,46,8],[46,10,46,13],[47,2,47,3],[47,7,47,8],[47,12,47,13],[43,0,43,3],[43,5,43,8],[43,10,43,13],[44,2,44,3],[44,7,44,8],[44,12,44,13],[52,0,52,3],[52,5,52,8],[52,10,52,13],[53,2,53,3],[53,7,53,8],[53,12,53,13],[49,0,49,3],[49,5,49,8],[49,10,49,13],[50,2,50,3],[50,7,50,8],[50,12,50,13],[58,0,58,3],[58,5,58,8],[58,10,58,13],[59,2,59,3],[59,7,59,8],[59,12,59,13],[55,0,55,3],[55,5,55,8],[55,10,55,13],[56,2,56,3],[56,7,56,8],[56,12,56,13],[64,0,64,3],[64,5,64,8],[64,10,64,13],[65,2,65,3],[65,7,65,8],[65,12,65,13],[61,0,61,3],[61,5,61,8],[61,10,61,13],[62,2,62,3],[62,7,62,8],[62,12,62,13],[70,0,70,3],[70,5,70,8],[70,10,70,13],[71,2,71,3],[71,7,71,8],[71,12,71,13],[67,0,67,3],[67,5,67,8],[67,10,67,13],[68,2,68,3],[68,7,68,8],[68,12,68,13],[76,0,76,3],[76,5,76,8],[76,10,76,13],[77,2,77,3],[77,7,77,8],[77,12,77,13],[73,0,73,3],[73,5,73,8],[73,10,73,13],[74,2,74,3],[74,7,74,8],[74,12,74,13],[82,0,82,3],[82,5,82,8],[82,10,82,13],[83,2,83,3],[83,7,83,8],[83,12,83,13],[79,0,79,3],[79,5,79,8],[79,10,79,13],[80,2,80,3],[80,7,80,8],[80,12,80,13],[88,0,88,3],[88,5,88,8],[88,10,88,13],[89,2,89,3],[89,7,89,8],[89,12,89,13],[85,0,85,3],[85,5,85,8],[85,10,85,13],[86,2,86,3],[86,7,86,8],[86,12,86,13],[94,0,94,3],[94,5,94,8],[94,10,94,13],[95,2,95,3],[95,7,95,8],[95,12,95,13],[91,0,91,3],[91,5,91,8],[91,10,91,13],[92,2,92,3],[92,7,92,8],[92,12,92,13],[100,0,100,3],[100,5,100,8],[100,10,100,13],[101,2,101,3],[101,7,101,8],[101,12,101,13],[97,0,97,3],[97,5,97,8],[97,10,97,13],[98,2,98,3],[98,7,98,8],[98,12,98,13],[106,0,106,3],[106,5,106,8],[106,10,106,13],[107,2,107,3],[107,7,107,8],[107,12,107,13],[103,0,103,3],[103,5,103,8],[103,10,103,13],[104,2,104,3],[104,7,104,8],[104,12,104,13],[112,0,112,3],[112,5,112,8],[112,10,112,13],[113,2,113,3],[113,7,113,8],[113,12,113,13],[109,0,109,3],[109,5,109,8],[109,10,109,13],[110,2,110,3],[110,7,110,8],[110,12,110,13],[118,0,118,3],[118,5,118,8],[118,10,118,13],[119,2,119,3],[119,7,119,8],[119,12,119,13],[115,0,115,3],[115,5,115,8],[115,10,115,13],[116,2,116,3],[116,7,116,8],[116,12,116,13]]}
[{"$f":"入力!$E$1","v":"villa中"},{"$f":"INDEX(入力!$A:$A,D1+2,1)","v":1},{"$f":"INDEX(入力!$B:$B,D1+2,1)","v":1},1,null,{"$f":"入力!$E$1","v":"villa中"},{"$f":"INDEX(入力!$A:$A,I1+2,1)","v":0},{"$f":"INDEX(入力!$B:$B,I1+2,1)","v":0},{"$f":"1+D1","v":2},null,{"$f":"入力!$E$1","v":"villa中"},{"$f":"INDEX(入力!$A:$A,N1+2,1)","v":0},{"$f":"INDEX(入力!$B:$B,N1+2,1)","v":0},{"$f":"1+I1","v":3}]
[{"$f":"INDEX(入力!$E:$E,D1+2,1)","v":"磐梯たろう"},null,null,null,{"$f":"INDEX(入力!$Q:$Q,D1+2,1)","v":"D"},{"$f":"INDEX(入力!$E:$E,I1+2,1)","v":0},null,null,null,{"$f":"INDEX(入力!$Q:$Q,I1+2,1)","v":""},{"$f":"INDEX(入力!$E:$E,N1+2,1)","v":0},null,null,null,{"$f":"INDEX(入力!$Q:$Q,N1+2,1)","v":""}]
[null,null,"様",null,{"$f":"INDEX(入力!$G:$G,D1+2,1)","v":24},null,null,"様",null,{"$f":"INDEX(入力!$G:$G,I1+2,1)","v":0},null,null,"様",null,{"$f":"INDEX(入力!$G:$G,N1+2,1)","v":0}]
[{"$f":"入力!$E$1","v":"villa中"},{"$f":"INDEX(入力!$A:$A,D4+2,1)","v":0},{"$f":"INDEX(入力!$B:$B,D4+2,1)","v":0},{"$f":"D1+3","v":4},null,{"$f":"入力!$E$1","v":"villa中"},{"$f":"INDEX(入力!$A:$A,I4+2,1)","v":0},{"$f":"INDEX(入力!$B:$B,I4+2,1)","v":0},{"$f":"1+D4","v":5},null,{"$f":"入力!$E$1","v":"villa中"},{"$f":"INDEX(入力!$A:$A,N4+2,1)","v":0},{"$f":"INDEX(入力!$B:$B,N4+2,1)","v":0},{"$f":"1+I4","v":6}]
[{"$f":"INDEX(入力!$E:$E,D4+2,1)","v":0},null,null,null,{"$f":"INDEX(入力!$Q:$Q,D4+2,1)","v":""},{"$f":"INDEX(入力!$E:$E,I4+2,1)","v":0},null,null,null,{"$f":"INDEX(入力!$Q:$Q,I4+2,1)","v":""},{"$f":"INDEX(入力!$E:$E,N4+2,1)","v":0},null,null,null,{"$f":"INDEX(入力!$Q:$Q,N4+2,1)","v":""}]
[null,null,"様",null,{"$f":"INDEX(入力!$G:$G,D4+2,1)","v":0},null,null,"様",null,{"$f":"INDEX(入力!$G:$G,I4+2,1)","v":0},null,null,"様",null,{"$f":"INDEX(入力!$G:$G,N4+2,1)","v":0}]
[{"$f":"入力!$E$1","v":"villa中"},{"$f":"INDEX(入力!$A:$A,D7+2,1)","v":0},{"$f":"INDEX(入力!$B:$B,D7+2,1)","v":0},{"$f":"D4+3","v":7},null,{"$f":"入力!$E$1","v":"villa中"},{"$f":"INDEX(入力!$A:$A,I7+2,1)","v":0},{"$f":"INDEX(入力!$B:$B,I7+2,1)","v":0},{"$f":"1+D7","v":8},null,{"$f":"入力!$E$1","v":"villa中"},{"$f":"INDEX(入力!$A:$A,N7+2,1)","v":0},{"$f":"INDEX(入力!$B:$B,N7+2,1)","v":0},{"$f":"1+I7","v":9}]
[{"$f":"INDEX(入力!$E:$E,D7+2,1)","v":0},null,null,null,{"$f":"INDEX(入力!$Q:$Q,D7+2,1)","v":""},{"$f":"INDEX(入力!$E:$E,I7+2,1)","v":0},null,null,null,{"$f":"INDEX(入力!$Q:$Q,I7+2,1)","v":""},{"$f":"INDEX(入力!$E:$E,N7+2,1)","v":0},null,null,null,{"$f":"INDEX(入力!$Q:$Q,N7+2,1)","v":""}]
[null,null,"様",null,{"$f":"INDEX(入力!$G:$G,D7+2,1)","v":0},null,null,"様",null,{"$f":"INDEX(入力!$G:$G,I7+2,1)","v":0},null,null,"様",null,{"$f":"INDEX(入力!$G:$G,N7+2,1)","v":0}]
[{"$f":"入力!$E$1","v":"villa中"},{"$f":"INDEX(入力!$A:$A,D10+2,1)","v":0},{"$f":"INDEX(入力!$B:$B,D10+2,1)","v":0},{"$f":"D7+3","v":10},null,{"$f":"入力!$E$1","v":"villa中"},{"$f":"INDEX(入力!$A:$A,I10+2,1)","v":0},{"$f":"INDEX(入力!$B:$B,I10+2,1)","v":0},{"$f":"1+D10","v":11},null,{"$f":"入力!$E$1","v":"villa中"},{"$f":"INDEX(入力!$A:$A,N10+2,1)","v":0},{"$f":"INDEX(入力!$B:$B,N10+2,1)","v":0},{"$f":"1+I10","v":12}]
[{"$f":"INDEX(入力!$E:$E,D10+2,1)","v":0},null,null,null,{"$f":"INDEX(入力!$Q:$Q,D10+2,1)","v":""},{"$f":"INDEX(入力!$E:$E,I10+2,1)","v":0},null,null,null,{"$f":"INDEX(入力!$Q:$Q,I10+2,1)","v":""},{"$f":"INDEX(入力!$E:$E,N10+2,1)","v":0},null,null,null,{"$f":"INDEX(入力!$Q:$Q,N10+2,1)","v":""}]
[null,null,"様",null,{"$f":"INDEX(入力!$G:$G,D10+2,1)","v":0},null,null,"様",null,{"$f":"INDEX(入力!$G:$G,I10+2,1)","v":0},null,null,"様",null,{"$f":"INDEX(入力!$G:$G,N10+2,1)","v":0}]
[{"$f":"入力!$E$1","v":"villa中"},{"$f":"INDEX(入力!$A:$A,D13+2,1)","v":0},{"$f":"INDEX(入力!$B:$B,D13+2,1)","v":0},{"$f":"D10+3","v":13},null,{"$f":"入力!$E$1","v":"villa中"},{"$f":"INDEX(入力!$A:$A,I13+2,1)","v":0},{"$f":"INDEX(入力!$B:$B,I13+2,1)","v":0},{"$f":"1+D13","v":14},null,{"$f":"入力!$E$1","v":"villa中"},{"$f":"INDEX(入力!$A:$A,N13+2,1)","v":0},{"$f":"INDEX(入力!$B:$B,N13+2,1)","v":0},{"$f":"1+I13","v":15}]
[{"$f":"INDEX(入力!$E:$E,D13+2,1)","v":0},null,null,null,{"$f":"INDEX(入力!$Q:$Q,D13+2,1)","v":""},{"$f":"INDEX(入力!$E:$E,I13+2,1)","v":0},null,null,null,{"$f":"INDEX(入力!$Q:$Q,I13+2,1)","v":""},{"$f":"INDEX(入力!$E:$E,N13+2,1)","v":0},null,null,null,{"$f":"INDEX(入力!$Q:$Q,N13+2,1)","v":""}]
[null,null,"様",null,{"$f":"INDEX(入力!$G:$G,D13+2,1)","v":0},null,null,"様",null,{"$f":"INDEX(入力!$G:$G,I13+2,1)","v":0},null,null,"様",null,{"$f":"INDEX(入力!$G:$G,N13+2,1)","v":0}]
[{"$f":"入力!$E$1","v":"villa中"},{"$f":"INDEX(入力!$A:$A,D16+2,1)","v":0},{"$f":"INDEX(入力!$B:$B,D16+2,1)","v":0},{"$f":"D13+3","v":16},null,{"$f":"入力!$E$1","v":"villa中"},{"$f":"INDEX(入力!$A:$A,I16+2,1)","v":0},{"$f":"INDEX(入力!$B:$B,I16+2,1)","v":0},{"$f":"1+D16","v":17},null,{"$f":"入力!$E$1","v":"villa中"},{"$f":"INDEX(入力!$A:$A,N16+2,1)","v":0},{"$f":"INDEX(入力!$B:$B,N16+2,1)","v":0},{"$f":"1+I16","v":18}]
[{"$f":"INDEX(入力!$E:$E,D16+2,1)","v":0},null,null,null,{"$f":"INDEX(入力!$Q:$Q,D16+2,1)","v":""},{"$f":"INDEX(入力!$E:$E,I16+2,1)","v":0},null,null,null,{"$f":"INDEX(入力!$Q:$Q,I16+2,1)","v":""},{"$f":"INDEX(入力!$E:$E,N16+2,1)","v":0},null,null,null,{"$f":"INDEX(入力!$Q:$Q,N16+2,1)","v":""}]
[null,null,"様",null,{"$f":"INDEX(入力!$G:$G,D16+2,1)","v":0},null,null,"様",null,{"$f":"INDEX(入力!$G:$G,I16+2,1)","v":0},null,null,"様",null,{"$f":"INDEX(入力!$G:$G,N16+2,1)","v":0}]
[{"$f":"入力!$E$1","v":"villa中"},{"$f":"INDEX(入力!$A:$A,D19+2,1)","v":0},{"$f":"INDEX(入力!$B:$B,D19+2,1)","v":0},{"$f":"D16+3","v":19},null,{"$f":"入力!$E$1","v":"villa中"},{"$f":"INDEX(入力!$A:$A,I19+2,1)","v":0},{"$f":"INDEX(入力!$B:$B,I19+2,1)","v":0},{"$f":"1+D19","v":20},null,{"$f":"入力!$E$1","v":"villa中"},{"$f":"INDEX(入力!$A:$A,N19+2,1)","v":0},{"$f":"INDEX(入力!$B:$B,N19+2,1)","v":0},{"$f":"1+I19","v":21}]
[{"$f":"INDEX(入力!$E:$E,D19+2,1)","v":0},null,null,null,{"$f":"INDEX(入力!$Q:$Q,D19+2,1)","v":""},{"$f":"INDEX(入力!$E:$E,I19+2,1)","v":0},null,null,null,{"$f":"INDEX(入力!$Q:$Q,I19+2,1)","v":""},{"$f":"INDEX(入力!$E:$E,N19+2,1)","v":0},null,null,null,{"$f":"INDEX(入力!$Q:$Q,N19+2,1)","v":""}]
[null,null,"様",null,{"$f":"INDEX(入力!$G:$G,D19+2,1)","v":0},null,null,"様",null,{"$f":"INDEX(入力!$G:$G,I19+2,1)","v":0},null,null,"様",null,{"$f":"INDEX(入力!$G:$G,N19+2,1)","v":0}]
[{"$f":"入力!$E$1","v":"villa中"},{"$f":"INDEX(入力!$A:$A,D22+2,1)","v":0},{"$f":"INDEX(入力!$B:$B,D22+2,1)","v":0},{"$f":"D19+3","v":22},null,{"$f":"入力!$E$1","v":"villa中"},{"$f":"INDEX(入力!$A:$A,I22+2,1)","v":0},{"$f":"INDEX(入力!$B:$B,I22+2,1)","v":0},{"$f":"1+D22","v":23},null,{"$f":"入力!$E$1","v":"villa中"},{"$f":"INDEX(入力!$A:$A,N22+2,1)","v":0},{"$f":"INDEX(入力!$B:$B,N22+2,1)","v":0},{"$f":"1+I22","v":24}]
[{"$f":"INDEX(入力!$E:$E,D22+2,1)","v":0},null,null,null,{"$f":"INDEX(入力!$Q:$Q,D22+2,1)","v":""},{"$f":"INDEX(入力!$E:$E,I22+2,1)","v":0},null,null,null,{"$f":"INDEX(入力!$Q:$Q,I22+2,1)","v":""},{"$f":"INDEX(入力!$E:$E,N22+2,1)","v":0},null,null,null,{"$f":"INDEX(入力!$Q:$Q,N22+2,1)","v":""}]
[null,null,"様",null,{"$f":"INDEX(入力!$G:$G,D22+2,1)","v":0},null,null,"様",null,{"$f":"INDEX(入力!$G:$G,I22+2,1)","v":0},null,null,"様",null,{"$f":"INDEX(入力!$G:$G,N22+2,1)","v":0}]
[{"$f":"入力!$E$1","v":"villa中"},{"$f":"INDEX(入力!$A:$A,D25+2,1)","v":0},{"$f":"INDEX(入力!$B:$B,D25+2,1)","v":0},{"$f":"D22+3","v":25},null,{"$f":"入力!$E$1","v":"villa中"},{"$f":"INDEX(入力!$A:$A,I25+2,1)","v":0},{"$f":"INDEX(入力!$B:$B,I25+2,1)","v":0},{"$f":"1+D25","v":26},null,{"$f":"入力!$E$1","v":"villa中"},{"$f":"INDEX(入力!$A:$A,N25+2,1)","v":0},{"$f":"INDEX(入力!$B:$B,N25+2,1)","v":0},{"$f":"1+I25","v":27}]
[{"$f":"INDEX(入力!$E:$E,D25+2,1)","v":0},null,null,null,{"$f":"INDEX(入力!$Q:$Q,D25+2,1)","v":""},{"$f":"INDEX(入力!$E:$E,I25+2,1)","v":0},null,null,null,{"$f":"INDEX(入力!$Q:$Q,I25+2,1)","v":""},{"$f":"INDEX(入力!$E:$E,N25+2,1)","v":0},null,null,null,{"$f":"INDEX(入力!$Q:$Q,N25+2,1)","v":""}]
[null,null,"様",null,{"$f":"INDEX(入力!$G:$G,D25+2,1)","v":0},null,null,"様",null,{"$f":"INDEX(入力!$G:$G,I25+2,1)","v":0},null,null,"様",null,{"$f":"INDEX(入力!$G:$G,N25+2,1)","v":0}]
[{"$f":"入力!$E$1","v":"villa中"},{"$f":"INDEX(入力!$A:$A,D28+2,1)","v":0},{"$f":"INDEX(入力!$B:$B,D28+2,1)","v":0},{"$f":"D25+3","v":28},null,{"$f":"入力!$E$1","v":"villa中"},{"$f":"INDEX(入力!$A:$A,I28+2,1)","v":0},{"$f":"INDEX(入力!$B:$B,I28+2,1)","v":0},{"$f":"1+D28","v":29},null,{"$f":"入力!$E$1","v":"villa中"},{"$f":"INDEX(入力!$A:$A,N28+2,1)","v":0},{"$f":"INDEX(入力!$B:$B,N28+2,1)","v":0},{"$f":"1+I28","v":30}]
[{"$f":"INDEX(入力!$E:$E,D28+2,1)","v":0},null,null,null,{"$f":"INDEX(入力!$Q:$Q,D28+2,1)","v":""},{"$f":"INDEX(入力!$E:$E,I28+2,1)","v":0},null,null,null,{"$f":"INDEX(入力!$Q:$Q,I28+2,1)","v":""},{"$f":"INDEX(入力!$E:$E,N28+2,1)","v":0},null,null,null,{"$f":"INDEX(入力!$Q:$Q,N28+2,1)","v":""}]
[null,null,"様",null,{"$f":"INDEX(入力!$G:$G,D28+2,1)","v":0},null,null,"様",null,{"$f":"INDEX(入力!$G:$G,I28+2,1)","v":0},null,null,"様",null,{"$f":"INDEX(入力!$G:$G,N28+2,1)","v":0}]
[{"$f":"入力!$E$1","v":"villa中"},{"$f":"INDEX(入力!$A:$A,D31+2,1)","v":0},{"$f":"INDEX(入力!$B:$B,D31+2,1)","v":0},{"$f":"D28+3","v":31},null,{"$f":"入力!$E$1","v":"villa中"},{"$f":"INDEX(入力!$A:$A,I31+2,1)","v":0},{"$f":"INDEX(入力!$B:$B,I31+2,1)","v":0},{"$f":"1+D31","v":32},null,{"$f":"入力!$E$1","v":"villa中"},{"$f":"INDEX(入力!$A:$A,N31+2,1)","v":0},{"$f":"INDEX(入力!$B:$B,N31+2,1)","v":0},{"$f":"1+I31","v":33}]
[{"$f":"INDEX(入力!$E:$E,D31+2,1)","v":0},null,null,null,{"$f":"INDEX(入力!$Q:$Q,D31+2,1)","v":""},{"$f":"INDEX(入力!$E:$E,I31+2,1)","v":0},null,null,null,{"$f":"INDEX(入力!$Q:$Q,I31+2,1)","v":""},{"$f":"INDEX(入力!$E:$E,N31+2,1)","v":0},null,null,null,{"$f":"INDEX(入力!$Q:$Q,N31+2,1)","v":""}]
[null,null,"様",null,{"$f":"INDEX(入力!$G:$G,D31+2,1)","v":0},null,null,"様",null,{"$f":"INDEX(入力!$G:$G,I31+2,1)","v":0},null,null,"様",null,{"$f":"INDEX(入力!$G:$G,N31+2,1)","v":0}]
[{"$f":"入力!$E$1","v":"villa中"},{"$f":"INDEX(入力!$A:$A,D34+2,1)","v":0},{"$f":"INDEX(入力!$B:$B,D34+2,1)","v":0},{"$f":"D31+3","v":34},null,{"$f":"入力!$E$1","v":"villa中"},{"$f":"INDEX(入力!$A:$A,I34+2,1)","v":0},{"$f":"INDEX(入力!$B:$B,I34+2,1)","v":0},{"$f":"1+D34","v":35},null,{"$f":"入力!$E$1","v":"villa中"},{"$f":"INDEX(入力!$A:$A,N34+2,1)","v":0},{"$f":"INDEX(入力!$B:$B,N34+2,1)","v":0},{"$f":"1+I34","v":36}]
[{"$f":"INDEX(入力!$E:$E,D34+2,1)","v":0},null,null,null,{"$f":"INDEX(入力!$Q:$Q,D34+2,1)","v":""},{"$f":"INDEX(入力!$E:$E,I34+2,1)","v":0},null,null,null,{"$f":"INDEX(入力!$Q:$Q,I34+2,1)","v":""},{"$f":"INDEX(入力!$E:$E,N34+2,1)","v":0},null,null,null,{"$f":"INDEX(入力!$Q:$Q,N34+2,1)","v":""}]
[null,null,"様",null,{"$f":"INDEX(入力!$G:$G,D34+2,1)","v":0},null,null,"様",null,{"$f":"INDEX(入力!$G:$G,I34+2,1)","v":0},null,null,"様",null,{"$f":"INDEX(入力!$G:$G,N34+2,1)","v":0}]
[{"$f":"入力!$E$1","v":"villa中"},{"$f":"INDEX(入力!$A:$A,D37+2,1)","v":0},{"$f":"INDEX(入力!$B:$B,D37+2,1)","v":0},{"$f":"D34+3","v":37},null,{"$f":"入力!$E$1","v":"villa中"},{"$f":"INDEX(入力!$A:$A,I37+2,1)","v":0},{"$f":"INDEX(入力!$B:$B,I37+2,1)","v":0},{"$f":"1+D37","v":38},null,{"$f":"入力!$E$1","v":"villa中"},{"$f":"INDEX(入力!$A:$A,N37+2,1)","v":0},{"$f":"INDEX(入力!$B:$B,N37+2,1)","v":0},{"$f":"1+I37","v":39}]
[{"$f":"INDEX(入力!$E:$E,D37+2,1)","v":0},null,null,null,{"$f":"INDEX(入力!$Q:$Q,D37+2,1)","v":""},{"$f":"INDEX(入力!$E:$E,I37+2,1)","v":0},null,null,null,{"$f":"INDEX(入力!$Q:$Q,I37+2,1)","v":""},{"$f":"INDEX(入力!$E:$E,N37+2,1)","v":0},null,null,null,{"$f":"INDEX(入力!$Q:$Q,N37+2,1)","v":""}]
[null,null,"様",null,{"$f":"INDEX(入力!$G:$G,D37+2,1)","v":0},null,null,"様",null,{"$f":"INDEX(入力!$G:$G,I37+2,1)","v":0},null,null,"様",null,{"$f":"INDEX(入力!$G:$G,N37+2,1)","v":0}]
[{"$f":"入力!$E$1","v":"villa中"},{"$f":"INDEX(入力!$A:$A,D40+2,1)","v":0},{"$f":"INDEX(入力!$B:$B,D40+2,1)","v":0},{"$f":"D37+3","v":40},null,{"$f":"入力!$E$1","v":"villa中"},{"$f":"INDEX(入力!$A:$A,I40+2,1)","v":0},{"$f":"INDEX(入力!$B:$B,I40+2,1)","v":0},{"$f":"1+D40","v":41},null,{"$f":"入力!$E$1","v":"villa中"},{"$f":"INDEX(入力!$A:$A,N40+2,1)","v":0},{"$f":"INDEX(入力!$B:$B,N40+2,1)","v":0},{"$f":"1+I40","v":42}]
[{"$f":"INDEX(入力!$E:$E,D40+2,1)","v":0},null,null,null,{"$f":"INDEX(入力!$Q:$Q,D40+2,1)","v":""},{"$f":"INDEX(入力!$E:$E,I40+2,1)","v":0},null,null,null,{"$f":"INDEX(入力!$Q:$Q,I40+2,1)","v":""},{"$f":"INDEX(入力!$E:$E,N40+2,1)","v":0},null,null,null,{"$f":"INDEX(入力!$Q:$Q,N40+2,1)","v":""}]
[null,null,"様",null,{"$f":"INDEX(入力!$G:$G,D40+2,1)","v":0},null,null,"様",null,{"$f":"INDEX(入力!$G:$G,I40+2,1)","v":0},null,null,"様",null,{"$f":"INDEX(入力!$G:$G,N40+2,1)","v":0}]
[{"$f":"入力!$E$1","v":"villa中"},{"$f":"INDEX(入力!$A:$A,D43+2,1)","v":0},{"$f":"INDEX(入力!$B:$B,D43+2,1)","v":0},{"$f":"D40+3","v":43},null,{"$f":"入力!$E$1","v":"villa中"},{"$f":"INDEX(入力!$A:$A,I43+2,1)","v":0},{"$f":"INDEX(入力!$B:$B,I43+2,1)","v":0},{"$f":"1+D43","v":44},null,{"$f":"入力!$E$1","v":"villa中"},{"$f":"INDEX(入力!$A:$A,N43+2,1)","v":0},{"$f":"INDEX(入力!$B:$B,N43+2,1)","v":0},{"$f":"1+I43","v":45}]
[{"$f":"INDEX(入力!$E:$E,D43+2,1)","v":0},null,null,null,{"$f":"INDEX(入力!$Q:$Q,D43+2,1)","v":""},{"$f":"INDEX(入力!$E:$E,I43+2,1)","v":0},null,null,null,{"$f":"INDEX(入力!$Q:$Q,I43+2,1)","v":""},{"$f":"INDEX(入力!$E:$E,N43+2,1)","v":0},null,null,null,{"$f":"INDEX(入力!$Q:$Q,N43+2,1)","v":""}]
[null,null,"様",null,{"$f":"INDEX(入力!$G:$G,D43+2,1)","v":0},null,null,"様",null,{"$f":"INDEX(入力!$G:$G,I43+2,1)","v":0},null,null,"様",null,{"$f":"INDEX(入力!$G:$G,N43+2,1)","v":0}]
[{"$f":"入力!$E$1","v":"villa中"},{"$f":"INDEX(入力!$A:$A,D46+2,1)","v":0},{"$f":"INDEX(入力!$B:$B,D46+2,1)","v":0},{"$f":"D43+3","v":46},null,{"$f":"入力!$E$1","v":"villa中"},{"$f":"INDEX(入力!$A:$A,I46+2,1)","v":0},{"$f":"INDEX(入力!$B:$B,I46+2,1)","v":0},{"$f":"1+D46","v":47},null,{"$f":"入力!$E$1","v":"villa中"},{"$f":"INDEX(入力!$A:$A,N46+2,1)","v":0},{"$f":"INDEX(入力!$B:$B,N46+2,1)","v":0},{"$f":"1+I46","v":48}]
[{"$f":"INDEX(入力!$E:$E,D46+2,1)","v":0},null,null,null,{"$f":"INDEX(入力!$Q:$Q,D46+2,1)","v":""},{"$f":"INDEX(入力!$E:$E,I46+2,1)","v":0},null,null,null,{"$f":"INDEX(入力!$Q:$Q,I46+2,1)","v":""},{"$f":"INDEX(入力!$E:$E,N46+2,1)","v":0},null,null,null,{"$f":"INDEX(入力!$Q:$Q,N46+2,1)","v":""}]
[null,null,"様",null,{"$f":"INDEX(入力!$G:$G,D46+2,1)","v":0},null,null,"様",null,{"$f":"INDEX(入力!$G:$G,I46+2,1)","v":0},null,null,"様",null,{"$f":"INDEX(入力!$G:$G,N46+2,1)","v":0}]
[{"$f":"入力!$E$1","v":"villa中"},{"$f":"INDEX(入力!$A:$A,D49+2,1)","v":0},{"$f":"INDEX(入力!$B:$B,D49+2,1)","v":0},{"$f":"D46+3","v":49},null,{"$f":"入力!$E$1","v":"villa中"},{"$f":"INDEX(入力!$A:$A,I49+2,1)","v":0},{"$f":"INDEX(入力!$B:$B,I49+2,1)","v":0},{"$f":"1+D49","v":50},null,{"$f":"入力!$E$1","v":"villa中"},{"$f":"INDEX(入力!$A:$A,N49+2,1)","v":0},{"$f":"INDEX(入力!$B:$B,N49+2,1)","v":0},{"$f":"1+I49","v":51}]
[{"$f":"INDEX(入力!$E:$E,D49+2,1)","v":0},null,null,null,{"$f":"INDEX(入力!$Q:$Q,D49+2,1)","v":""},{"$f":"INDEX(入力!$E:$E,I49+2,1)","v":0},null,null,null,{"$f":"INDEX(入力!$Q:$Q,I49+2,1)","v":""},{"$f":"INDEX(入力!$E:$E,N49+2,1)","v":0},null,null,null,{"$f":"INDEX(入力!$Q:$Q,N49+2,1)","v":""}]
[null,null,"様",null,{"$f":"INDEX(入力!$G:$G,D49+2,1)","v":0},null,null,"様",null,{"$f":"INDEX(入力!$G:$G,I49+2,1)","v":0},null,null,"様",null,{"$f":"INDEX(入力!$G:$G,N49+2,1)","v":0}]
[{"$f":"入力!$E$1","v":"villa中"},{"$f":"INDEX(入力!$A:$A,D52+2,1)","v":0},{"$f":"INDEX(入力!$B:$B,D52+2,1)","v":0},{"$f":"D49+3","v":52},null,{"$f":"入力!$E$1","v":"villa中"},{"$f":"INDEX(入力!$A:$A,I52+2,1)","v":0},{"$f":"INDEX(入力!$B:$B,I52+2,1)","v":0},{"$f":"1+D52","v":53},null,{"$f":"入力!$E$1","v":"villa中"},{"$f":"INDEX(入力!$A:$A,N52+2,1)","v":0},{"$f":"INDEX(入力!$B:$B,N52+2,1)","v":0},{"$f":"1+I52","v":54}]
[{"$f":"INDEX(入力!$E:$E,D52+2,1)","v":0},null,null,null,{"$f":"INDEX(入力!$Q:$Q,D52+2,1)","v":""},{"$f":"INDEX(入力!$E:$E,I52+2,1)","v":0},null,null,null,{"$f":"INDEX(入力!$Q:$Q,I52+2,1)","v":""},{"$f":"INDEX(入力!$E:$E,N52+2,1)","v":0},null,null,null,{"$f":"INDEX(入力!$Q:$Q,N52+2,1)","v":""}]
[null,null,"様",null,{"$f":"INDEX(入力!$G:$G,D52+2,1)","v":0},null,null,"様",null,{"$f":"INDEX(入力!$G:$G,I52+2,1)","v":0},null,null,"様",null,{"$f":"INDEX(入力!$G:$G,N52+2,1)","v":0}]
[{"$f":"入力!$E$1","v":"villa中"},{"$f":"INDEX(入力!$A:$A,D55+2,1)","v":0},{"$f":"INDEX(入力!$B:$B,D55+2,1)","v":0},{"$f":"D52+3","v":55},null,{"$f":"入力!$E$1","v":"villa中"},{"$f":"INDEX(入力!$A:$A,I55+2,1)","v":0},{"$f":"INDEX(入力!$B:$B,I55+2,1)","v":0},{"$f":"1+D55","v":56},null,{"$f":"入力!$E$1","v":"villa中"},{"$f":"INDEX(入力!$A:$A,N55+2,1)","v":0},{"$f":"INDEX(入力!$B:$B,N55+2,1)","v":0},{"$f":"1+I55","v":57}]
[{"$f":"INDEX(入力!$E:$E,D55+2,1)","v":0},null,null,null,{"$f":"INDEX(入力!$Q:$Q,D55+2,1)","v":""},{"$f":"INDEX(入力!$E:$E,I55+2,1)","v":0},null,null,null,{"$f":"INDEX(入力!$Q:$Q,I55+2,1)","v":""},{"$f":"INDEX(入力!$E:$E,N55+2,1)","v":0},null,null,null,{"$f":"INDEX(入力!$Q:$Q,N55+2,1)","v":""}]
[null,null,"様",null,{"$f":"INDEX(入力!$G:$G,D55+2,1)","v":0},null,null,"様",null,{"$f":"INDEX(入力!$G:$G,I55+2,1)","v":0},null,null,"様",null,{"$f":"INDEX(入力!$G:$G,N55+2,1)","v":0}]
[{"$f":"入力!$E$1","v":"villa中"},{"$f":"INDEX(入力!$A:$A,D58+2,1)","v":0},{"$f":"INDEX(入力!$B:$B,D58+2,1)","v":0},{"$f":"D55+3","v":58},null,{"$f":"入力!$E$1","v":"villa中"},{"$f":"INDEX(入力!$A:$A,I58+2,1)","v":0},{"$f":"INDEX(入力!$B:$B,I58+2,1)","v":0},{"$f":"1+D58","v":59},null,{"$f":"入力!$E$1","v":"villa中"},{"$f":"INDEX(入力!$A:$A,N58+2,1)","v":0},{"$f":"INDEX(入力!$B:$B,N58+2,1)","v":0},{"$f":"1+I58","v":60}]
[{"$f":"INDEX(入力!$E:$E,D58+2,1)","v":0},null,null,null,{"$f":"INDEX(入力!$Q:$Q,D58+2,1)","v":""},{"$f":"INDEX(入力!$E:$E,I58+2,1)","v":0},null,null,null,{"$f":"INDEX(入力!$Q:$Q,I58+2,1)","v":""},{"$f":"INDEX(入力!$E:$E,N58+2,1)","v":0},null,null,null,{"$f":"INDEX(入力!$Q:$Q,N58+2,1)","v":""}]
[null,null,"様",null,{"$f":"INDEX(入力!$G:$G,D58+2,1)","v":0},null,null,"様",null,{"$f":"INDEX(入力!$G:$G,I58+2,1)","v":0},null,null,"様",null,{"$f":"INDEX(入力!$G:$G,N58+2,1)","v":0}]
[{"$f":"入力!$E$1","v":"villa中"},{"$f":"INDEX(入力!$A:$A,D61+2,1)","v":0},{"$f":"INDEX(入力!$B:$B,D61+2,1)","v":0},{"$f":"D58+3","v":61},null,{"$f":"入力!$E$1","v":"villa中"},{"$f":"INDEX(入力!$A:$A,I61+2,1)","v":0},{"$f":"INDEX(入力!$B:$B,I61+2,1)","v":0},{"$f":"1+D61","v":62},null,{"$f":"入力!$E$1","v":"villa中"},{"$f":"INDEX(入力!$A:$A,N61+2,1)","v":0},{"$f":"INDEX(入力!$B:$B,N61+2,1)","v":0},{"$f":"1+I61","v":63}]
[{"$f":"INDEX(入力!$E:$E,D61+2,1)","v":0},null,null,null,{"$f":"INDEX(入力!$Q:$Q,D61+2,1)","v":""},{"$f":"INDEX(入力!$E:$E,I61+2,1)","v":0},null,null,null,{"$f":"INDEX(入力!$Q:$Q,I61+2,1)","v":""},{"$f":"INDEX(入力!$E:$E,N61+2,1)","v":0},null,null,null,{"$f":"INDEX(入力!$Q:$Q,N61+2,1)","v":""}]
[null,null,"様",null,{"$f":"INDEX(入力!$G:$G,D61+2,1)","v":0},null,null,"様",null,{"$f":"INDEX(入力!$G:$G,I61+2,1)","v":0},null,null,"様",null,{"$f":"INDEX(入力!$G:$G,N61+2,1)","v":0}]
[{"$f":"入力!$E$1","v":"villa中"},{"$f":"INDEX(入力!$A:$A,D64+2,1)","v":0},{"$f":"INDEX(入力!$B:$B,D64+2,1)","v":0},{"$f":"D61+3","v":64},null,{"$f":"入力!$E$1","v":"villa中"},{"$f":"INDEX(入力!$A:$A,I64+2,1)","v":0},{"$f":"INDEX(入力!$B:$B,I64+2,1)","v":0},{"$f":"1+D64","v":65},null,{"$f":"入力!$E$1","v":"villa中"},{"$f":"INDEX(入力!$A:$A,N64+2,1)","v":0},{"$f":"INDEX(入力!$B:$B,N64+2,1)","v":0},{"$f":"1+I64","v":66}]
[{"$f":"INDEX(入力!$E:$E,D64+2,1)","v":0},null,null,null,{"$f":"INDEX(入力!$Q:$Q,D64+2,1)","v":""},{"$f":"INDEX(入力!$E:$E,I64+2,1)","v":0},null,null,null,{"$f":"INDEX(入力!$Q:$Q,I64+2,1)","v":""},{"$f":"INDEX(入力!$E:$E,N64+2,1)","v":0},null,null,null,{"$f":"INDEX(入力!$Q:$Q,N64+2,1)","v":""}]
[null,null,"様",null,{"$f":"INDEX(入力!$G:$G,D64+2,1)","v":0},null,null,"様",null,{"$f":"INDEX(入力!$G:$G,I64+2,1)","v":0},null,null,"様",null,{"$f":"INDEX(入力!$G:$G,N64+2,1)","v":0}]
[{"$f":"入力!$E$1","v":"villa中"},{"$f":"INDEX(入力!$A:$A,D67+2,1)","v":0},{"$f":"INDEX(入力!$B:$B,D67+2,1)","v":0},{"$f":"D64+3","v":67},null,{"$f":"入力!$E$1","v":"villa中"},{"$f":"INDEX(入力!$A:$A,I67+2,1)","v":0},{"$f":"INDEX(入力!$B:$B,I67+2,1)","v":0},{"$f":"1+D67","v":68},null,{"$f":"入力!$E$1","v":"villa中"},{"$f":"INDEX(入力!$A:$A,N67+2,1)","v":0},{"$f":"INDEX(入力!$B:$B,N67+2,1)","v":0},{"$f":"1+I67","v":69}]
[{"$f":"INDEX(入力!$E:$E,D67+2,1)","v":0},null,null,null,{"$f":"INDEX(入力!$Q:$Q,D67+2,1)","v":""},{"$f":"INDEX(入力!$E:$E,I67+2,1)","v":0},null,null,null,{"$f":"INDEX(入力!$Q:$Q,I67+2,1)","v":""},{"$f":"INDEX(入力!$E:$E,N67+2,1)","v":0},null,null,null,{"$f":"INDEX(入力!$Q:$Q,N67+2,1)","v":""}]
[null,null,"様",null,{"$f":"INDEX(入力!$G:$G,D67+2,1)","v":0},null,null,"様",null,{"$f":"INDEX(入力!$G:$G,I67+2,1)","v":0},null,null,"様",null,{"$f":"INDEX(入力!$G:$G,N67+2,1)","v":0}]
[{"$f":"入力!$E$1","v":"villa中"},{"$f":"INDEX(入力!$A:$A,D70+2,1)","v":0},{"$f":"INDEX(入力!$B:$B,D70+2,1)","v":0},{"$f":"D67+3","v":70},null,{"$f":"入力!$E$1","v":"villa中"},{"$f":"INDEX(入力!$A:$A,I70+2,1)","v":0},{"$f":"INDEX(入力!$B:$B,I70+2,1)","v":0},{"$f":"1+D70","v":71},null,{"$f":"入力!$E$1","v":"villa中"},{"$f":"INDEX(入力!$A:$A,N70+2,1)","v":0},{"$f":"INDEX(入力!$B:$B,N70+2,1)","v":0},{"$f":"1+I70","v":72}]
[{"$f":"INDEX(入力!$E:$E,D70+2,1)","v":0},null,null,null,{"$f":"INDEX(入力!$Q:$Q,D70+2,1)","v":""},{"$f":"INDEX(入力!$E:$E,I70+2,1)","v":0},null,null,null,{"$f":"INDEX(入力!$Q:$Q,I70+2,1)","v":""},{"$f":"INDEX(入力!$E:$E,N70+2,1)","v":0},null,null,null,{"$f":"INDEX(入力!$Q:$Q,N70+2,1)","v":""}]
[null,null,"様",null,{"$f":"INDEX(入力!$G:$G,D70+2,1)","v":0},null,null,"様",null,{"$f":"INDEX(入力!$G:$G,I70+2,1)","v":0},null,null,"様",null,{"$f":"INDEX(入力!$G:$G,N70+2,1)","v":0}]
[{"$f":"入力!$E$1","v":"villa中"},{"$f":"INDEX(入力!$A:$A,D73+2,1)","v":0},{"$f":"INDEX(入力!$B:$B,D73+2,1)","v":0},{"$f":"D70+3","v":73},null,{"$f":"入力!$E$1","v":"villa中"},{"$f":"INDEX(入力!$A:$A,I73+2,1)","v":0},{"$f":"INDEX(入力!$B:$B,I73+2,1)","v":0},{"$f":"1+D73","v":74},null,{"$f":"入力!$E$1","v":"villa中"},{"$f":"INDEX(入力!$A:$A,N73+2,1)","v":0},{"$f":"INDEX(入力!$B:$B,N73+2,1)","v":0},{"$f":"1+I73","v":75}]
[{"$f":"INDEX(入力!$E:$E,D73+2,1)","v":0},null,null,null,{"$f":"INDEX(入力!$Q:$Q,D73+2,1)","v":""},{"$f":"INDEX(入力!$E:$E,I73+2,1)","v":0},null,null,null,{"$f":"INDEX(入力!$Q:$Q,I73+2,1)","v":""},{"$f":"INDEX(入力!$E:$E,N73+2,1)","v":0},null,null,null,{"$f":"INDEX(入力!$Q:$Q,N73+2,1)","v":""}]
[null,null,"様",null,{"$f":"INDEX(入力!$G:$G,D73+2,1)","v":0},null,null,"様",null,{"$f":"INDEX(入力!$G:$G,I73+2,1)","v":0},null,null,"様",null,{"$f":"INDEX(入力!$G:$G,N73+2,1)","v":0}]
[{"$f":"入力!$E$1","v":"villa中"},{"$f":"INDEX(入力!$A:$A,D76+2,1)","v":0},{"$f":"INDEX(入力!$B:$B,D76+2,1)","v":0},{"$f":"D73+3","v":76},null,{"$f":"入力!$E$1","v":"villa中"},{"$f":"INDEX(入力!$A:$A,I76+2,1)","v":0},{"$f":"INDEX(入力!$B:$B,I76+2,1)","v":0},{"$f":"1+D76","v":77},null,{"$f":"入力!$E$1","v":"villa中"},{"$f":"INDEX(入力!$A:$A,N76+2,1)","v":0},{"$f":"INDEX(入力!$B:$B,N76+2,1)","v":0},{"$f":"1+I76","v":78}]
[{"$f":"INDEX(入力!$E:$E,D76+2,1)","v":0},null,null,null,{"$f":"INDEX(入力!$Q:$Q,D76+2,1)","v":""},{"$f":"INDEX(入力!$E:$E,I76+2,1)","v":0},null,null,null,{"$f":"INDEX(入力!$Q:$Q,I76+2,1)","v":""},{"$f":"INDEX(入力!$E:$E,N76+2,1)","v":0},null,null,null,{"$f":"INDEX(入力!$Q:$Q,N76+2,1)","v":""}]
[null,null,"様",null,{"$f":"INDEX(入力!$G:$G,D76+2,1)","v":0},null,null,"様",null,{"$f":"INDEX(入力!$G:$G,I76+2,1)","v":0},null,null,"様",null,{"$f":"INDEX(入力!$G:$G,N76+2,1)","v":0}]
[{"$f":"入力!$E$1","v":"villa中"},{"$f":"INDEX(入力!$A:$A,D79+2,1)","v":0},{"$f":"INDEX(入力!$B:$B,D79+2,1)","v":0},{"$f":"D76+3","v":79},null,{"$f":"入力!$E$1","v":"villa中"},{"$f":"INDEX(入力!$A:$A,I79+2,1)","v":0},{"$f":"INDEX(入力!$B:$B,I79+2,1)","v":0},{"$f":"1+D79","v":80},null,{"$f":"入力!$E$1","v":"villa中"},{"$f":"INDEX(入力!$A:$A,N79+2,1)","v":0},{"$f":"INDEX(入力!$B:$B,N79+2,1)","v":0},{"$f":"1+I79","v":81}]
[{"$f":"INDEX(入力!$E:$E,D79+2,1)","v":0},null,null,null,{"$f":"INDEX(入力!$Q:$Q,D79+2,1)","v":""},{"$f":"INDEX(入力!$E:$E,I79+2,1)","v":0},null,null,null,{"$f":"INDEX(入力!$Q:$Q,I79+2,1)","v":""},{"$f":"INDEX(入力!$E:$E,N79+2,1)","v":0},null,null,null,{"$f":"INDEX(入力!$Q:$Q,N79+2,1)","v":""}]
[null,null,"様",null,{"$f":"INDEX(入力!$G:$G,D79+2,1)","v":0},null,null,"様",null,{"$f":"INDEX(入力!$G:$G,I79+2,1)","v":0},null,null,"様",null,{"$f":"INDEX(入力!$G:$G,N79+2,1)","v":0}]
[{"$f":"入力!$E$1","v":"villa中"},{"$f":"INDEX(入力!$A:$A,D82+2,1)","v":0},{"$f":"INDEX(入力!$B:$B,D82+2,1)","v":0},{"$f":"D79+3","v":82},null,{"$f":"入力!$E$1","v":"villa中"},{"$f":"INDEX(入力!$A:$A,I82+2,1)","v":0},{"$f":"INDEX(入力!$B:$B,I82+2,1)","v":0},{"$f":"1+D82","v":83},null,{"$f":"入力!$E$1","v":"villa中"},{"$f":"INDEX(入力!$A:$A,N82+2,1)","v":0},{"$f":"INDEX(入力!$B:$B,N82+2,1)","v":0},{"$f":"1+I82","v":84}]
[{"$f":"INDEX(入力!$E:$E,D82+2,1)","v":0},null,null,null,{"$f":"INDEX(入力!$Q:$Q,D82+2,1)","v":""},{"$f":"INDEX(入力!$E:$E,I82+2,1)","v":0},null,null,null,{"$f":"INDEX(入力!$Q:$Q,I82+2,1)","v":""},{"$f":"INDEX(入力!$E:$E,N82+2,1)","v":0},null,null,null,{"$f":"INDEX(入力!$Q:$Q,N82+2,1)","v":""}]
[null,null,"様",null,{"$f":"INDEX(入力!$G:$G,D82+2,1)","v":0},null,null,"様",null,{"$f":"INDEX(入力!$G:$G,I82+2,1)","v":0},null,null,"様",null,{"$f":"INDEX(入力!$G:$G,N82+2,1)","v":0}]
[{"$f":"入力!$E$1","v":"villa中"},{"$f":"INDEX(入力!$A:$A,D85+2,1)","v":0},{"$f":"INDEX(入力!$B:$B,D85+2,1)","v":0},{"$f":"D82+3","v":85},null,{"$f":"入力!$E$1","v":"villa中"},{"$f":"INDEX(入力!$A:$A,I85+2,1)","v":0},{"$f":"INDEX(入力!$B:$B,I85+2,1)","v":0},{"$f":"1+D85","v":86},null,{"$f":"入力!$E$1","v":"villa中"},{"$f":"INDEX(入力!$A:$A,N85+2,1)","v":0},{"$f":"INDEX(入力!$B:$B,N85+2,1)","v":0},{"$f":"1+I85","v":87}]
[{"$f":"INDEX(入力!$E:$E,D85+2,1)","v":0},null,null,null,{"$f":"INDEX(入力!$Q:$Q,D85+2,1)","v":""},{"$f":"INDEX(入力!$E:$E,I85+2,1)","v":0},null,null,null,{"$f":"INDEX(入力!$Q:$Q,I85+2,1)","v":""},{"$f":"INDEX(入力!$E:$E,N85+2,1)","v":0},null,null,null,{"$f":"INDEX(入力!$Q:$Q,N85+2,1)","v":""}]
[null,null,"様",null,{"$f":"INDEX(入力!$G:$G,D85+2,1)","v":0},null,null,"様",null,{"$f":"INDEX(入力!$G:$G,I85+2,1)","v":0},null,null,"様",null,{"$f":"INDEX(入力!$G:$G,N85+2,1)","v":0}]
[{"$f":"入力!$E$1","v":"villa中"},{"$f":"INDEX(入力!$A:$A,D88+2,1)","v":0},{"$f":"INDEX(入力!$B:$B,D88+2,1)","v":0},{"$f":"D85+3","v":88},null,{"$f":"入力!$E$1","v":"villa中"},{"$f":"INDEX(入力!$A:$A,I88+2,1)","v":0},{"$f":"INDEX(入力!$B:$B,I88+2,1)","v":0},{"$f":"1+D88","v":89},null,{"$f":"入力!$E$1","v":"villa中"},{"$f":"INDEX(入力!$A:$A,N88+2,1)","v":0},{"$f":"INDEX(入力!$B:$B,N88+2,1)","v":0},{"$f":"1+I88","v":90}]
[{"$f":"INDEX(入力!$E:$E,D88+2,1)","v":0},null,null,null,{"$f":"INDEX(入力!$Q:$Q,D88+2,1)","v":""},{"$f":"INDEX(入力!$E:$E,I88+2,1)","v":0},null,null,null,{"$f":"INDEX(入力!$Q:$Q,I88+2,1)","v":""},{"$f":"INDEX(入力!$E:$E,N88+2,1)","v":0},null,null,null,{"$f":"INDEX(入力!$Q:$Q,N88+2,1)","v":""}]
[null,null,"様",null,{"$f":"INDEX(入力!$G:$G,D88+2,1)","v":0},null,null,"様",null,{"$f":"INDEX(入力!$G:$G,I88+2,1)","v":0},null,null,"様",null,{"$f":"INDEX(入力!$G:$G,N88+2,1)","v":0}]
[{"$f":"入力!$E$1","v":"villa中"},{"$f":"INDEX(入力!$A:$A,D91+2,1)","v":0},{"$f":"INDEX(入力!$B:$B,D91+2,1)","v":0},{"$f":"D88+3","v":91},null,{"$f":"入力!$E$1","v":"villa中"},{"$f":"INDEX(入力!$A:$A,I91+2,1)","v":0},{"$f":"INDEX(入力!$B:$B,I91+2,1)","v":0},{"$f":"1+D91","v":92},null,{"$f":"入力!$E$1","v":"villa中"},{"$f":"INDEX(入力!$A:$A,N91+2,1)","v":0},{"$f":"INDEX(入力!$B:$B,N91+2,1)","v":0},{"$f":"1+I91","v":93}]
[{"$f":"INDEX(入力!$E:$E,D91+2,1)","v":0},null,null,null,{"$f":"INDEX(入力!$Q:$Q,D91+2,1)","v":""},{"$f":"INDEX(入力!$E:$E,I91+2,1)","v":0},null,null,null,{"$f":"INDEX(入力!$Q:$Q,I91+2,1)","v":""},{"$f":"INDEX(入力!$E:$E,N91+2,1)","v":0},null,null,null,{"$f":"INDEX(入力!$Q:$Q,N91+2,1)","v":""}]
[null,null,"様",null,{"$f":"INDEX(入力!$G:$G,D91+2,1)","v":0},null,null,"様",null,{"$f":"INDEX(入力!$G:$G,I91+2,1)","v":0},null,null,"様",null,{"$f":"INDEX(入力!$G:$G,N91+2,1)","v":0}]
[{"$f":"入力!$E$1","v":"villa中"},{"$f":"INDEX(入力!$A:$A,D94+2,1)","v":0},{"$f":"INDEX(入力!$B:$B,D94+2,1)","v":0},{"$f":"D91+3","v":94},null,{"$f":"入力!$E$1","v":"villa中"},{"$f":"INDEX(入力!$A:$A,I94+2,1)","v":0},{"$f":"INDEX(入力!$B:$B,I94+2,1)","v":0},{"$f":"1+D94","v":95},null,{"$f":"入力!$E$1","v":"villa中"},{"$f":"INDEX(入力!$A:$A,N94+2,1)","v":0},{"$f":"INDEX(入力!$B:$B,N94+2,1)","v":0},{"$f":"1+I94","v":96}]
[{"$f":"INDEX(入力!$E:$E,D94+2,1)","v":0},null,null,null,{"$f":"INDEX(入力!$Q:$Q,D94+2,1)","v":""},{"$f":"INDEX(入力!$E:$E,I94+2,1)","v":0},null,null,null,{"$f":"INDEX(入力!$Q:$Q,I94+2,1)","v":""},{"$f":"INDEX(入力!$E:$E,N94+2,1)","v":0},null,null,null,{"$f":"INDEX(入力!$Q:$Q,N94+2,1)","v":""}]
[null,null,"様",null,{"$f":"INDEX(入力!$G:$G,D94+2,1)","v":0},null,null,"様",null,{"$f":"INDEX(入力!$G:$G,I94+2,1)","v":0},null,null,"様",null,{"$f":"INDEX(入力!$G:$G,N94+2,1)","v":0}]
[{"$f":"入力!$E$1","v":"villa中"},{"$f":"INDEX(入力!$A:$A,D97+2,1)","v":0},{"$f":"INDEX(入力!$B:$B,D97+2,1)","v":0},{"$f":"D94+3","v":97},null,{"$f":"入力!$E$1","v":"villa中"},{"$f":"INDEX(入力!$A:$A,I97+2,1)","v":0},{"$f":"INDEX(入力!$B:$B,I97+2,1)","v":0},{"$f":"1+D97","v":98},null,{"$f":"入力!$E$1","v":"villa中"},{"$f":"INDEX(入力!$A:$A,N97+2,1)","v":0},{"$f":"INDEX(入力!$B:$B,N97+2,1)","v":0},{"$f":"1+I97","v":99}]
[{"$f":"INDEX(入力!$E:$E,D97+2,1)","v":0},null,null,null,{"$f":"INDEX(入力!$Q:$Q,D97+2,1)","v":""},{"$f":"INDEX(入力!$E:$E,I97+2,1)","v":0},null,null,null,{"$f":"INDEX(入力!$Q:$Q,I97+2,1)","v":""},{"$f":"INDEX(入力!$E:$E,N97+2,1)","v":0},null,null,null,{"$f":"INDEX(入力!$Q:$Q,N97+2,1)","v":""}]
[null,null,"様",null,{"$f":"INDEX(入力!$G:$G,D97+2,1)","v":0},null,null,"様",null,{"$f":"INDEX(入力!$G:$G,I97+2,1)","v":0},null,null,"様",null,{"$f":"INDEX(入力!$G:$G,N97+2,1)","v":0}]
[{"$f":"入力!$E$1","v":"villa中"},{"$f":"INDEX(入力!$A:$A,D100+2,1)","v":0},{"$f":"INDEX(入力!$B:$B,D100+2,1)","v":0},{"$f":"D97+3","v":100},null,{"$f":"入力!$E$1","v":"villa中"},{"$f":"INDEX(入力!$A:$A,I100+2,1)","v":0},{"$f":"INDEX(入力!$B:$B,I100+2,1)","v":0},{"$f":"1+D100","v":101},null,{"$f":"入力!$E$1","v":"villa中"},{"$f":"INDEX(入力!$A:$A,N100+2,1)","v":0},{"$f":"INDEX(入力!$B:$B,N100+2,1)","v":0},{"$f":"1+I100","v":102}]
[{"$f":"INDEX(入力!$E:$E,D100+2,1)","v":0},null,null,null,{"$f":"INDEX(入力!$Q:$Q,D100+2,1)","v":""},{"$f":"INDEX(入力!$E:$E,I100+2,1)","v":0},null,null,null,{"$f":"INDEX(入力!$Q:$Q,I100+2,1)","v":""},{"$f":"INDEX(入力!$E:$E,N100+2,1)","v":0},null,null,null,{"$f":"INDEX(入力!$Q:$Q,N100+2,1)","v":""}]
[null,null,"様",null,{"$f":"INDEX(入力!$G:$G,D100+2,1)","v":0},null,null,"様",null,{"$f":"INDEX(入力!$G:$G,I100+2,1)","v":0},null,null,"様",null,{"$f":"INDEX(入力!$G:$G,N100+2,1)","v":0}]
[{"$f":"入力!$E$1","v":"villa中"},{"$f":"INDEX(入力!$A:$A,D103+2,1)","v":0},{"$f":"INDEX(入力!$B:$B,D103+2,1)","v":0},{"$f":"D100+3","v":103},null,{"$f":"入力!$E$1","v":"villa中"},{"$f":"INDEX(入力!$A:$A,I103+2,1)","v":0},{"$f":"INDEX(入力!$B:$B,I103+2,1)","v":0},{"$f":"1+D103","v":104},null,{"$f":"入力!$E$1","v":"villa中"},{"$f":"INDEX(入力!$A:$A,N103+2,1)","v":0},{"$f":"INDEX(入力!$B:$B,N103+2,1)","v":0},{"$f":"1+I103","v":105}]
[{"$f":"INDEX(入力!$E:$E,D103+2,1)","v":0},null,null,null,{"$f":"INDEX(入力!$Q:$Q,D103+2,1)","v":""},{"$f":"INDEX(入力!$E:$E,I103+2,1)","v":0},null,null,null,{"$f":"INDEX(入力!$Q:$Q,I103+2,1)","v":""},{"$f":"INDEX(入力!$E:$E,N103+2,1)","v":0},null,null,null,{"$f":"INDEX(入力!$Q:$Q,N103+2,1)","v":""}]
[null,null,"様",null,{"$f":"INDEX(入力!$G:$G,D103+2,1)","v":0},null,null,"様",null,{"$f":"INDEX(入力!$G:$G,I103+2,1)","v":0},null,null,"様",null,{"$f":"INDEX(入力!$G:$G,N103+2,1)","v":0}]
[{"$f":"入力!$E$1","v":"villa中"},{"$f":"INDEX(入力!$A:$A,D106+2,1)","v":0},{"$f":"INDEX(入力!$B:$B,D106+2,1)","v":0},{"$f":"D103+3","v":106},null,{"$f":"入力!$E$1","v":"villa中"},{"$f":"INDEX(入力!$A:$A,I106+2,1)","v":0},{"$f":"INDEX(入力!$B:$B,I106+2,1)","v":0},{"$f":"1+D106","v":107},null,{"$f":"入力!$E$1","v":"villa中"},{"$f":"INDEX(入力!$A:$A,N106+2,1)","v":0},{"$f":"INDEX(入力!$B:$B,N106+2,1)","v":0},{"$f":"1+I106","v":108}]
[{"$f":"INDEX(入力!$E:$E,D106+2,1)","v":0},null,null,null,{"$f":"INDEX(入力!$Q:$Q,D106+2,1)","v":""},{"$f":"INDEX(入力!$E:$E,I106+2,1)","v":0},null,null,null,{"$f":"INDEX(入力!$Q:$Q,I106+2,1)","v":""},{"$f":"INDEX(入力!$E:$E,N106+2,1)","v":0},null,null,null,{"$f":"INDEX(入力!$Q:$Q,N106+2,1)","v":""}]
[null,null,"様",null,{"$f":"INDEX(入力!$G:$G,D106+2,1)","v":0},null,null,"様",null,{"$f":"INDEX(入力!$G:$G,I106+2,1)","v":0},null,null,"様",null,{"$f":"INDEX(入力!$G:$G,N106+2,1)","v":0}]
[{"$f":"入力!$E$1","v":"villa中"},{"$f":"INDEX(入力!$A:$A,D109+2,1)","v":0},{"$f":"INDEX(入力!$B:$B,D109+2,1)","v":0},{"$f":"D106+3","v":109},null,{"$f":"入力!$E$1","v":"villa中"},{"$f":"INDEX(入力!$A:$A,I109+2,1)","v":0},{"$f":"INDEX(入力!$B:$B,I109+2,1)","v":0},{"$f":"1+D109","v":110},null,{"$f":"入力!$E$1","v":"villa中"},{"$f":"INDEX(入力!$A:$A,N109+2,1)","v":0},{"$f":"INDEX(入力!$B:$B,N109+2,1)","v":0},{"$f":"1+I109","v":111}]
[{"$f":"INDEX(入力!$E:$E,D109+2,1)","v":0},null,null,null,{"$f":"INDEX(入力!$Q:$Q,D109+2,1)","v":""},{"$f":"INDEX(入力!$E:$E,I109+2,1)","v":0},null,null,null,{"$f":"INDEX(入力!$Q:$Q,I109+2,1)","v":""},{"$f":"INDEX(入力!$E:$E,N109+2,1)","v":0},null,null,null,{"$f":"INDEX(入力!$Q:$Q,N109+2,1)","v":""}]
[null,null,"様",null,{"$f":"INDEX(入力!$G:$G,D109+2,1)","v":0},null,null,"様",null,{"$f":"INDEX(入力!$G:$G,I109+2,1)","v":0},null,null,"様",null,{"$f":"INDEX(入力!$G:$G,N109+2,1)","v":0}]
[{"$f":"入力!$E$1","v":"villa中"},{"$f":"INDEX(入力!$A:$A,D112+2,1)","v":0},{"$f":"INDEX(入力!$B:$B,D112+2,1)","v":0},{"$f":"D109+3","v":112},null,{"$f":"入力!$E$1","v":"villa中"},{"$f":"INDEX(入力!$A:$A,I112+2,1)","v":0},{"$f":"INDEX(入力!$B:$B,I112+2,1)","v":0},{"$f":"1+D112","v":113},null,{"$f":"入力!$E$1","v":"villa中"},{"$f":"INDEX(入力!$A:$A,N112+2,1)","v":0},{"$f":"INDEX(入力!$B:$B,N112+2,1)","v":0},{"$f":"1+I112","v":114}]
[{"$f":"INDEX(入力!$E:$E,D112+2,1)","v":0},null,null,null,{"$f":"INDEX(入力!$Q:$Q,D112+2,1)","v":""},{"$f":"INDEX(入力!$E:$E,I112+2,1)","v":0},null,null,null,{"$f":"INDEX(入力!$Q:$Q,I112+2,1)","v":""},{"$f":"INDEX(入力!$E:$E,N112+2,1)","v":0},null,null,null,{"$f":"INDEX(入力!$Q:$Q,N112+2,1)","v":""}]
[null,null,"様",null,{"$f":"INDEX(入力!$G:$G,D112+2,1)","v":0},null,null,"様",null,{"$f":"INDEX(入力!$G:$G,I112+2,1)","v":0},null,null,"様",null,{"$f":"INDEX(入力!$G:$G,N112+2,1)","v":0}]
[{"$f":"入力!$E$1","v":"villa中"},{"$f":"INDEX(入力!$A:$A,D115+2,1)","v":0},{"$f":"INDEX(入力!$B:$B,D115+2,1)","v":0},{"$f":"D112+3","v":115},null,{"$f":"入力!$E$1","v":"villa中"},{"$f":"INDEX(入力!$A:$A,I115+2,1)","v":0},{"$f":"INDEX(入力!$B:$B,I115+2,1)","v":0},{"$f":"1+D115","v":116},null,{"$f":"入力!$E$1","v":"villa中"},{"$f":"INDEX(入力!$A:$A,N115+2,1)","v":0},{"$f":"INDEX(入力!$B:$B,N115+2,1)","v":0},{"$f":"1+I115","v":117}]
[{"$f":"INDEX(入力!$E:$E,D115+2,1)","v":0},null,null,null,{"$f":"INDEX(入力!$Q:$Q,D115+2,1)","v":""},{"$f":"INDEX(入力!$E:$E,I115+2,1)","v":0},null,null,null,{"$f":"INDEX(入力!$Q:$Q,I115+2,1)","v":""},{"$f":"INDEX(入力!$E:$E,N115+2,1)","v":0},null,null,null,{"$f":"INDEX(入力!$Q:$Q,N115+2,1)","v":""}]
[null,null,"様",null,{"$f":"INDEX(入力!$G:$G,D115+2,1)","v":0},null,null,"様",null,{"$f":"INDEX(入力!$G:$G,I115+2,1)","v":0},null,null,"様",null,{"$f":"INDEX(入力!$G:$G,N115+2,1)","v":0}]
[{"$f":"入力!$E$1","v":"villa中"},{"$f":"INDEX(入力!$A:$A,D118+2,1)","v":0},{"$f":"INDEX(入力!$B:$B,D118+2,1)","v":0},{"$f":"D115+3","v":118},null,{"$f":"入力!$E$1","v":"villa中"},{"$f":"INDEX(入力!$A:$A,I118+2,1)","v":0},{"$f":"INDEX(入力!$B:$B,I118+2,1)","v":0},{"$f":"1+D118","v":119},null,{"$f":"入力!$E$1","v":"villa中"},{"$f":"INDEX(入力!$A:$A,N118+2,1)","v":0},{"$f":"INDEX(入力!$B:$B,N118+2,1)","v":0},{"$f":"1+I118","v":120}]
[{"$f":"INDEX(入力!$E:$E,D118+2,1)","v":0},null,null,null,{"$f":"INDEX(入力!$Q:$Q,D118+2,1)","v":""},{"$f":"INDEX(入力!$E:$E,I118+2,1)","v":0},null,null,null,{"$f":"INDEX(入力!$Q:$Q,I118+2,1)","v":""},{"$f":"INDEX(入力!$E:$E,N118+2,1)","v":0},null,null,null,{"$f":"INDEX(入力!$Q:$Q,N118+2,1)","v":""}]
[null,null,"様",null,{"$f":"INDEX(入力!$G:$G,D118+2,1)","v":0},null,null,"様",null,{"$f":"INDEX(入力!$G:$G,I118+2,1)","v":0},null,null,"様",null,{"$f":"INDEX(入力!$G:$G,N118+2,1)","v":0}]
[{"$f":"入力!$E$1","v":"villa中"},{"$f":"INDEX(入力!$A:$A,D121+2,1)","v":0},{"$f":"INDEX(入力!$B:$B,D121+2,1)","v":0},{"$f":"D118+3","v":121},null,{"$f":"入力!$E$1","v":"villa中"},{"$f":"INDEX(入力!$A:$A,I121+2,1)","v":0},{"$f":"INDEX(入力!$B:$B,I121+2,1)","v":0},{"$f":"1+D121","v":122},null,{"$f":"入力!$E$1","v":"villa中"},{"$f":"INDEX(入力!$A:$A,N121+2,1)","v":0},{"$f":"INDEX(入力!$B:$B,N121+2,1)","v":0},{"$f":"1+I121","v":123}]
[{"$f":"INDEX(入力!$E:$E,D121+2,1)","v":0},null,null,null,{"$f":"INDEX(入力!$Q:$Q,D121+2,1)","v":""},{"$f":"INDEX(入力!$E:$E,I121+2,1)","v":0},null,null,null,{"$f":"INDEX(入力!$Q:$Q,I121+2,1)","v":""},{"$f":"INDEX(入力!$E:$E,N121+2,1)","v":0},null,null,null,{"$f":"INDEX(入力!$Q:$Q,N121+2,1)","v":""}]
[null,null,"様",null,{"$f":"INDEX(入力!$G:$G,D121+2,1)","v":0},null,null,"様",null,{"$f":"INDEX(入力!$G:$G,I121+2,1)","v":0},null,null,"様",null,{"$f":"INDEX(入力!$G:$G,N121+2,1)","v":0}]
[{"$f":"入力!$E$1","v":"villa中"},{"$f":"INDEX(入力!$A:$A,D124+2,1)","v":0},{"$f":"INDEX(入力!$B:$B,D124+2,1)","v":0},{"$f":"D121+3","v":124},null,{"$f":"入力!$E$1","v":"villa中"},{"$f":"INDEX(入力!$A:$A,I124+2,1)","v":0},{"$f":"INDEX(入力!$B:$B,I124+2,1)","v":0},{"$f":"1+D124","v":125},null,{"$f":"入力!$E$1","v":"villa中"},{"$f":"INDEX(入力!$A:$A,N124+2,1)","v":0},{"$f":"INDEX(入力!$B:$B,N124+2,1)","v":0},{"$f":"1+I124","v":126}]
[{"$f":"INDEX(入力!$E:$E,D124+2,1)","v":0},null,null,null,{"$f":"INDEX(入力!$Q:$Q,D124+2,1)","v":""},{"$f":"INDEX(入力!$E:$E,I124+2,1)","v":0},null,null,null,{"$f":"INDEX(入力!$Q:$Q,I124+2,1)","v":""},{"$f":"INDEX(入力!$E:$E,N124+2,1)","v":0},null,null,null,{"$f":"INDEX(入力!$Q:$Q,N124+2,1)","v":""}]
[null,null,"様",null,{"$f":"INDEX(入力!$G:$G,D124+2,1)","v":0},null,null,"様",null,{"$f":"INDEX(入力!$G:$G,I124+2,1)","v":0},null,null,"様",null,{"$f":"INDEX(入力!$G:$G,N124+2,1)","v":0}]
[{"$f":"入力!$E$1","v":"villa中"},{"$f":"INDEX(入力!$A:$A,D127+2,1)","v":0},{"$f":"INDEX(入力!$B:$B,D127+2,1)","v":0},{"$f":"D124+3","v":127},null,{"$f":"入力!$E$1","v":"villa中"},{"$f":"INDEX(入力!$A:$A,I127+2,1)","v":0},{"$f":"INDEX(入力!$B:$B,I127+2,1)","v":0},{"$f":"1+D127","v":128},null,{"$f":"入力!$E$1","v":"villa中"},{"$f":"INDEX(入力!$A:$A,N127+2,1)","v":0},{"$f":"INDEX(入力!$B:$B,N127+2,1)","v":0},{"$f":"1+I127","v":129}]
[{"$f":"INDEX(入力!$E:$E,D127+2,1)","v":0},null,null,null,{"$f":"INDEX(入力!$Q:$Q,D127+2,1)","v":""},{"$f":"INDEX(入力!$E:$E,I127+2,1)","v":0},null,null,null,{"$f":"INDEX(入力!$Q:$Q,I127+2,1)","v":""},{"$f":"INDEX(入力!$E:$E,N127+2,1)","v":0},null,null,null,{"$f":"INDEX(入力!$Q:$Q,N127+2,1)","v":""}]
[null,null,"様",null,{"$f":"INDEX(入力!$G:$G,D127+2,1)","v":0},null,null,"様",null,{"$f":"INDEX(入力!$G:$G,I127+2,1)","v":0},null,null,"様",null,{"$f":"INDEX(入力!$G:$G,N127+2,1)","v":0}]
[{"$f":"入力!$E$1","v":"villa中"},{"$f":"INDEX(入力!$A:$A,D130+2,1)","v":0},{"$f":"INDEX(入力!$B:$B,D130+2,1)","v":0},{"$f":"D127+3","v":130},null,{"$f":"入力!$E$1","v":"villa中"},{"$f":"INDEX(入力!$A:$A,I130+2,1)","v":0},{"$f":"INDEX(入力!$B:$B,I130+2,1)","v":0},{"$f":"1+D130","v":131},null,{"$f":"入力!$E$1","v":"villa中"},{"$f":"INDEX(入力!$A:$A,N130+2,1)","v":0},{"$f":"INDEX(入力!$B:$B,N130+2,1)","v":0},{"$f":"1+I130","v":132}]
[{"$f":"INDEX(入力!$E:$E,D130+2,1)","v":0},null,null,null,{"$f":"INDEX(入力!$Q:$Q,D130+2,1)","v":""},{"$f":"INDEX(入力!$E:$E,I130+2,1)","v":0},null,null,null,{"$f":"INDEX(入力!$Q:$Q,I130+2,1)","v":""},{"$f":"INDEX(入力!$E:$E,N130+2,1)","v":0},null,null,null,{"$f":"INDEX(入力!$Q:$Q,N130+2,1)","v":""}]
[null,null,"様",null,{"$f":"INDEX(入力!$G:$G,D130+2,1)","v":0},null,null,"様",null,{"$f":"INDEX(入力!$G:$G,I130+2,1)","v":0},null,null,"様",null,{"$f":"INDEX(入力!$G:$G,N130+2,1)","v":0}]
[{"$f":"入力!$E$1","v":"villa中"},{"$f":"INDEX(入力!$A:$A,D133+2,1)","v":0},{"$f":"INDEX(入力!$B:$B,D133+2,1)","v":0},{"$f":"D130+3","v":133},null,{"$f":"入力!$E$1","v":"villa中"},{"$f":"INDEX(入力!$A:$A,I133+2,1)","v":0},{"$f":"INDEX(入力!$B:$B,I133+2,1)","v":0},{"$f":"1+D133","v":134},null,{"$f":"入力!$E$1","v":"villa中"},{"$f":"INDEX(入力!$A:$A,N133+2,1)","v":0},{"$f":"INDEX(入力!$B:$B,N133+2,1)","v":0},{"$f":"1+I133","v":135}]
[{"$f":"INDEX(入力!$E:$E,D133+2,1)","v":0},null,null,null,{"$f":"INDEX(入力!$Q:$Q,D133+2,1)","v":""},{"$f":"INDEX(入力!$E:$E,I133+2,1)","v":0},null,null,null,{"$f":"INDEX(入力!$Q:$Q,I133+2,1)","v":""},{"$f":"INDEX(入力!$E:$E,N133+2,1)","v":0},null,null,null,{"$f":"INDEX(入力!$Q:$Q,N133+2,1)","v":""}]
[null,null,"様",null,{"$f":"INDEX(入力!$G:$G,D133+2,1)","v":0},null,null,"様",null,{"$f":"INDEX(入力!$G:$G,I133+2,1)","v":0},null,null,"様",null,{"$f":"INDEX(入力!$G:$G,N133+2,1)","v":0}]
[{"$f":"入力!$E$1","v":"villa中"},{"$f":"INDEX(入力!$A:$A,D136+2,1)","v":0},{"$f":"INDEX(入力!$B:$B,D136+2,1)","v":0},{"$f":"D133+3","v":136},null,{"$f":"入力!$E$1","v":"villa中"},{"$f":"INDEX(入力!$A:$A,I136+2,1)","v":0},{"$f":"INDEX(入力!$B:$B,I136+2,1)","v":0},{"$f":"1+D136","v":137},null,{"$f":"入力!$E$1","v":"villa中"},{"$f":"INDEX(入力!$A:$A,N136+2,1)","v":0},{"$f":"INDEX(入力!$B:$B,N136+2,1)","v":0},{"$f":"1+I136","v":138}]
[{"$f":"INDEX(入力!$E:$E,D136+2,1)","v":0},null,null,null,{"$f":"INDEX(入力!$Q:$Q,D136+2,1)","v":""},{"$f":"INDEX(入力!$E:$E,I136+2,1)","v":0},null,null,null,{"$f":"INDEX(入力!$Q:$Q,I136+2,1)","v":""},{"$f":"INDEX(入力!$E:$E,N136+2,1)","v":0},null,null,null,{"$f":"INDEX(入力!$Q:$Q,N136+2,1)","v":""}]
[null,null,"様",null,{"$f":"INDEX(入力!$G:$G,D136+2,1)","v":0},null,null,"様",null,{"$f":"INDEX(入力!$G:$G,I136+2,1)","v":0},null,null,"様",null,{"$f":"INDEX(入力!$G:$G,N136+2,1)","v":0}]
[{"$f":"入力!$E$1","v":"villa中"},{"$f":"INDEX(入力!$A:$A,D139+2,1)","v":0},{"$f":"INDEX(入力!$B:$B,D139+2,1)","v":0},{"$f":"D136+3","v":139},null,{"$f":"入力!$E$1","v":"villa中"},{"$f":"INDEX(入力!$A:$A,I139+2,1)","v":0},{"$f":"INDEX(入力!$B:$B,I139+2,1)","v":0},{"$f":"1+D139","v":140},null,{"$f":"入力!$E$1","v":"villa中"},{"$f":"INDEX(入力!$A:$A,N139+2,1)","v":0},{"$f":"INDEX(入力!$B:$B,N139+2,1)","v":0},{"$f":"1+I139","v":141}]
[{"$f":"INDEX(入力!$E:$E,D139+2,1)","v":0},null,null,null,{"$f":"INDEX(入力!$Q:$Q,D139+2,1)","v":""},{"$f":"INDEX(入力!$E:$E,I139+2,1)","v":0},null,null,null,{"$f":"INDEX(入力!$Q:$Q,I139+2,1)","v":""},{"$f":"INDEX(入力!$E:$E,N139+2,1)","v":0},null,null,null,{"$f":"INDEX(入力!$Q:$Q,N139+2,1)","v":""}]
[null,null,"様",null,{"$f":"INDEX(入力!$G:$G,D139+2,1)","v":0},null,null,"様",null,{"$f":"INDEX(入力!$G:$G,I139+2,1)","v":0},null,null,"様",null,{"$f":"INDEX(入力!$G:$G,N139+2,1)","v":0}]
[{"$f":"入力!$E$1","v":"villa中"},{"$f":"INDEX(入力!$A:$A,D142+2,1)","v":0},{"$f":"INDEX(入力!$B:$B,D142+2,1)","v":0},{"$f":"D139+3","v":142},null,{"$f":"入力!$E$1","v":"villa中"},{"$f":"INDEX(入力!$A:$A,I142+2,1)","v":0},{"$f":"INDEX(入力!$B:$B,I142+2,1)","v":0},{"$f":"1+D142","v":143},null,{"$f":"入力!$E$1","v":"villa中"},{"$f":"INDEX(入力!$A:$A,N142+2,1)","v":0},{"$f":"INDEX(入力!$B:$B,N142+2,1)","v":0},{"$f":"1+I142","v":144}]
[{"$f":"INDEX(入力!$E:$E,D142+2,1)","v":0},null,null,null,{"$f":"INDEX(入力!$Q:$Q,D142+2,1)","v":""},{"$f":"INDEX(入力!$E:$E,I142+2,1)","v":0},null,null,null,{"$f":"INDEX(入力!$Q:$Q,I142+2,1)","v":""},{"$f":"INDEX(入力!$E:$E,N142+2,1)","v":0},null,null,null,{"$f":"INDEX(入力!$Q:$Q,N142+2,1)","v":""}]
[null,null,"様",null,{"$f":"INDEX(入力!$G:$G,D142+2,1)","v":0},null,null,"様",null,{"$f":"INDEX(入力!$G:$G,I142+2,1)","v":0},null,null,"様",null,{"$f":"INDEX(入力!$G:$G,N142+2,1)","v":0}]
[{"$f":"入力!$E$1","v":"villa中"},{"$f":"INDEX(入力!$A:$A,D145+2,1)","v":0},{"$f":"INDEX(入力!$B:$B,D145+2,1)","v":0},{"$f":"D142+3","v":145},null,{"$f":"入力!$E$1","v":"villa中"},{"$f":"INDEX(入力!$A:$A,I145+2,1)","v":0},{"$f":"INDEX(入力!$B:$B,I145+2,1)","v":0},{"$f":"1+D145","v":146},null,{"$f":"入力!$E$1","v":"villa中"},{"$f":"INDEX(入力!$A:$A,N145+2,1)","v":0},{"$f":"INDEX(入力!$B:$B,N145+2,1)","v":0},{"$f":"1+I145","v":147}]
[{"$f":"INDEX(入力!$E:$E,D145+2,1)","v":0},null,null,null,{"$f":"INDEX(入力!$Q:$Q,D145+2,1)","v":""},{"$f":"INDEX(入力!$E:$E,I145+2,1)","v":0},null,null,null,{"$f":"INDEX(入力!$Q:$Q,I145+2,1)","v":""},{"$f":"INDEX(入力!$E:$E,N145+2,1)","v":0},null,null,null,{"$f":"INDEX(入力!$Q:$Q,N145+2,1)","v":""}]
[null,null,"様",null,{"$f":"INDEX(入力!$G:$G,D145+2,1)","v":0},null,null,"様",null,{"$f":"INDEX(入力!$G:$G,I145+2,1)","v":0},null,null,"様",null,{"$f":"INDEX(入力!$G:$G,N145+2,1)","v":0}]
[{"$f":"入力!$E$1","v":"villa中"},{"$f":"INDEX(入力!$A:$A,D148+2,1)","v":0},{"$f":"INDEX(入力!$B:$B,D148+2,1)","v":0},{"$f":"D145+3","v":148},null,{"$f":"入力!$E$1","v":"villa中"},{"$f":"INDEX(入力!$A:$A,I148+2,1)","v":0},{"$f":"INDEX(入力!$B:$B,I148+2,1)","v":0},{"$f":"1+D148","v":149},null,{"$f":"入力!$E$1","v":"villa中"},{"$f":"INDEX(入力!$A:$A,N148+2,1)","v":0},{"$f":"INDEX(入力!$B:$B,N148+2,1)","v":0},{"$f":"1+I148","v":150}]
[{"$f":"INDEX(入力!$E:$E,D148+2,1)","v":0},null,null,null,{"$f":"INDEX(入力!$Q:$Q,D148+2,1)","v":""},{"$f":"INDEX(入力!$E:$E,I148+2,1)","v":0},null,null,null,{"$f":"INDEX(入力!$Q:$Q,I148+2,1)","v":""},{"$f":"INDEX(入力!$E:$E,N148+2,1)","v":0},null,null,null,{"$f":"INDEX(入力!$Q:$Q,N148+2,1)","v":""}]
[null,null,"様",null,{"$f":"INDEX(入力!$G:$G,D148+2,1)","v":0},null,null,"様",null,{"$f":"INDEX(入力!$G:$G,I148+2,1)","v":0},null,null,"様",null,{"$f":"INDEX(入力!$G:$G,N148+2,1)","v":0}]
[{"$f":"入力!$E$1","v":"villa中"},{"$f":"INDEX(入力!$A:$A,D151+2,1)","v":0},{"$f":"INDEX(入力!$B:$B,D151+2,1)","v":0},{"$f":"D148+3","v":151},null,{"$f":"入力!$E$1","v":"villa中"},{"$f":"INDEX(入力!$A:$A,I151+2,1)","v":0},{"$f":"INDEX(入力!$B:$B,I151+2,1)","v":0},{"$f":"1+D151","v":152},null,{"$f":"入力!$E$1","v":"villa中"},{"$f":"INDEX(入力!$A:$A,N151+2,1)","v":0},{"$f":"INDEX(入力!$B:$B,N151+2,1)","v":0},{"$f":"1+I151","v":153}]
[{"$f":"INDEX(入力!$E:$E,D151+2,1)","v":0},null,null,null,{"$f":"INDEX(入力!$Q:$Q,D151+2,1)","v":""},{"$f":"INDEX(入力!$E:$E,I151+2,1)","v":0},null,null,null,{"$f":"INDEX(入力!$Q:$Q,I151+2,1)","v":""},{"$f":"INDEX(入力!$E:$E,N151+2,1)","v":0},null,null,null,{"$f":"INDEX(入力!$Q:$Q,N151+2,1)","v":""}]
[null,null,"様",null,{"$f":"INDEX(入力!$G:$G,D151+2,1)","v":0},null,null,"様",null,{"$f":"INDEX(入力!$G:$G,I151+2,1)","v":0},null,null,"様",null,{"$f":"INDEX(入力!$G:$G,N151+2,1)","v":0}]
[{"$f":"入力!$E$1","v":"villa中"},{"$f":"INDEX(入力!$A:$A,D154+2,1)","v":0},{"$f":"INDEX(入力!$B:$B,D154+2,1)","v":0},{"$f":"D151+3","v":154},null,{"$f":"入力!$E$1","v":"villa中"},{"$f":"INDEX(入力!$A:$A,I154+2,1)","v":0},{"$f":"INDEX(入力!$B:$B,I154+2,1)","v":0},{"$f":"1+D154","v":155},null,{"$f":"入力!$E$1","v":"villa中"},{"$f":"INDEX(入力!$A:$A,N154+2,1)","v":0},{"$f":"INDEX(入力!$B:$B,N154+2,1)","v":0},{"$f":"1+I154","v":156}]
[{"$f":"INDEX(入力!$E:$E,D154+2,1)","v":0},null,null,null,{"$f":"INDEX(入力!$Q:$Q,D154+2,1)","v":""},{"$f":"INDEX(入力!$E:$E,I154+2,1)","v":0},null,null,null,{"$f":"INDEX(入力!$Q:$Q,I154+2,1)","v":""},{"$f":"INDEX(入力!$E:$E,N154+2,1)","v":0},null,null,null,{"$f":"INDEX(入力!$Q:$Q,N154+2,1)","v":""}]
[null,null,"様",null,{"$f":"INDEX(入力!$G:$G,D154+2,1)","v":0},null,null,"様",null,{"$f":"INDEX(入力!$G:$G,I154+2,1)","v":0},null,null,"様",null,{"$f":"INDEX(入力!$G:$G,N154+2,1)","v":0}]
[{"$f":"入力!$E$1","v":"villa中"},{"$f":"INDEX(入力!$A:$A,D157+2,1)","v":0},{"$f":"INDEX(入力!$B:$B,D157+2,1)","v":0},{"$f":"D154+3","v":157},null,{"$f":"入力!$E$1","v":"villa中"},{"$f":"INDEX(入力!$A:$A,I157+2,1)","v":0},{"$f":"INDEX(入力!$B:$B,I157+2,1)","v":0},{"$f":"1+D157","v":158},null,{"$f":"入力!$E$1","v":"villa中"},{"$f":"INDEX(入力!$A:$A,N157+2,1)","v":0},{"$f":"INDEX(入力!$B:$B,N157+2,1)","v":0},{"$f":"1+I157","v":159}]
[{"$f":"INDEX(入力!$E:$E,D157+2,1)","v":0},null,null,null,{"$f":"INDEX(入力!$Q:$Q,D157+2,1)","v":""},{"$f":"INDEX(入力!$E:$E,I157+2,1)","v":0},null,null,null,{"$f":"INDEX(入力!$Q:$Q,I157+2,1)","v":""},{"$f":"INDEX(入力!$E:$E,N157+2,1)","v":0},null,null,null,{"$f":"INDEX(入力!$Q:$Q,N157+2,1)","v":""}]
[null,null,"様",null,{"$f":"INDEX(入力!$G:$G,D157+2,1)","v":0},null,null,"様",null,{"$f":"INDEX(入力!$G:$G,I157+2,1)","v":0},null,null,"様",null,{"$f":"INDEX(入力!$G:$G,N157+2,1)","v":0}]
[{"$f":"入力!$E$1","v":"villa中"},{"$f":"INDEX(入力!$A:$A,D160+2,1)","v":0},{"$f":"INDEX(入力!$B:$B,D160+2,1)","v":0},{"$f":"D157+3","v":160},null,{"$f":"入力!$E$1","v":"villa中"},{"$f":"INDEX(入力!$A:$A,I160+2,1)","v":0},{"$f":"INDEX(入力!$B:$B,I160+2,1)","v":0},{"$f":"1+D160","v":161},null,{"$f":"入力!$E$1","v":"villa中"},{"$f":"INDEX(入力!$A:$A,N160+2,1)","v":0},{"$f":"INDEX(入力!$B:$B,N160+2,1)","v":0},{"$f":"1+I160","v":162}]
[{"$f":"INDEX(入力!$E:$E,D160+2,1)","v":0},null,null,null,{"$f":"INDEX(入力!$Q:$Q,D160+2,1)","v":""},{"$f":"INDEX(入力!$E:$E,I160+2,1)","v":0},null,null,null,{"$f":"INDEX(入力!$Q:$Q,I160+2,1)","v":""},{"$f":"INDEX(入力!$E:$E,N160+2,1)","v":0},null,null,null,{"$f":"INDEX(入力!$Q:$Q,N160+2,1)","v":""}]
[null,null,"様",null,{"$f":"INDEX(入力!$G:$G,D160+2,1)","v":0},null,null,"様",null,{"$f":"INDEX(入力!$G:$G,I160+2,1)","v":0},null,null,"様",null,{"$f":"INDEX(入力!$G:$G,N160+2,1)","v":0}]
[{"$f":"入力!$E$1","v":"villa中"},{"$f":"INDEX(入力!$A:$A,D163+2,1)","v":0},{"$f":"INDEX(入力!$B:$B,D163+2,1)","v":0},{"$f":"D160+3","v":163},null,{"$f":"入力!$E$1","v":"villa中"},{"$f":"INDEX(入力!$A:$A,I163+2,1)","v":0},{"$f":"INDEX(入力!$B:$B,I163+2,1)","v":0},{"$f":"1+D163","v":164},null,{"$f":"入力!$E$1","v":"villa中"},{"$f":"INDEX(入力!$A:$A,N163+2,1)","v":0},{"$f":"INDEX(入力!$B:$B,N163+2,1)","v":0},{"$f":"1+I163","v":165}]
[{"$f":"INDEX(入力!$E:$E,D163+2,1)","v":0},null,null,null,{"$f":"INDEX(入力!$Q:$Q,D163+2,1)","v":""},{"$f":"INDEX(入力!$E:$E,I163+2,1)","v":0},null,null,null,{"$f":"INDEX(入力!$Q:$Q,I163+2,1)","v":""},{"$f":"INDEX(入力!$E:$E,N163+2,1)","v":0},null,null,null,{"$f":"INDEX(入力!$Q:$Q,N163+2,1)","v":""}]
[null,null,"様",null,{"$f":"INDEX(入力!$G:$G,D163+2,1)","v":0},null,null,"様",null,{"$f":"INDEX(入力!$G:$G,I163+2,1)","v":0},null,null,"様",null,{"$f":"INDEX(入力!$G:$G,N163+2,1)","v":0}]
[{"$f":"入力!$E$1","v":"villa中"},{"$f":"INDEX(入力!$A:$A,D166+2,1)","v":0},{"$f":"INDEX(入力!$B:$B,D166+2,1)","v":0},{"$f":"D163+3","v":166},null,{"$f":"入力!$E$1","v":"villa中"},{"$f":"INDEX(入力!$A:$A,I166+2,1)","v":0},{"$f":"INDEX(入力!$B:$B,I166+2,1)","v":0},{"$f":"1+D166","v":167},null,{"$f":"入力!$E$1","v":"villa中"},{"$f":"INDEX(入力!$A:$A,N166+2,1)","v":0},{"$f":"INDEX(入力!$B:$B,N166+2,1)","v":0},{"$f":"1+I166","v":168}]
[{"$f":"INDEX(入力!$E:$E,D166+2,1)","v":0},null,null,null,{"$f":"INDEX(入力!$Q:$Q,D166+2,1)","v":""},{"$f":"INDEX(入力!$E:$E,I166+2,1)","v":0},null,null,null,{"$f":"INDEX(入力!$Q:$Q,I166+2,1)","v":""},{"$f":"INDEX(入力!$E:$E,N166+2,1)","v":0},null,null,null,{"$f":"INDEX(入力!$Q:$Q,N166+2,1)","v":""}]
[null,null,"様",null,{"$f":"INDEX(入力!$G:$G,D166+2,1)","v":0},null,null,"様",null,{"$f":"INDEX(入力!$G:$G,I166+2,1)","v":0},null,null,"様",null,{"$f":"INDEX(入力!$G:$G,N166+2,1)","v":0}]
[{"$f":"入力!$E$1","v":"villa中"},{"$f":"INDEX(入力!$A:$A,D169+2,1)","v":0},{"$f":"INDEX(入力!$B:$B,D169+2,1)","v":0},{"$f":"D166+3","v":169},null,{"$f":"入力!$E$1","v":"villa中"},{"$f":"INDEX(入力!$A:$A,I169+2,1)","v":0},{"$f":"INDEX(入力!$B:$B,I169+2,1)","v":0},{"$f":"1+D169","v":170},null,{"$f":"入力!$E$1","v":"villa中"},{"$f":"INDEX(入力!$A:$A,N169+2,1)","v":0},{"$f":"INDEX(入力!$B:$B,N169+2,1)","v":0},{"$f":"1+I169","v":171}]
[{"$f":"INDEX(入力!$E:$E,D169+2,1)","v":0},null,null,null,{"$f":"INDEX(入力!$Q:$Q,D169+2,1)","v":""},{"$f":"INDEX(入力!$E:$E,I169+2,1)","v":0},null,null,null,{"$f":"INDEX(入力!$Q:$Q,I169+2,1)","v":""},{"$f":"INDEX(入力!$E:$E,N169+2,1)","v":0},null,null,null,{"$f":"INDEX(入力!$Q:$Q,N169+2,1)","v":""}]
[null,null,"様",null,{"$f":"INDEX(入力!$G:$G,D169+2,1)","v":0},null,null,"様",null,{"$f":"INDEX(入力!$G:$G,I169+2,1)","v":0},null,null,"様",null,{"$f":"INDEX(入力!$G:$G,N169+2,1)","v":0}]
[{"$f":"入力!$E$1","v":"villa中"},{"$f":"INDEX(入力!$A:$A,D172+2,1)","v":0},{"$f":"INDEX(入力!$B:$B,D172+2,1)","v":0},{"$f":"D169+3","v":172},null,{"$f":"入力!$E$1","v":"villa中"},{"$f":"INDEX(入力!$A:$A,I172+2,1)","v":0},{"$f":"INDEX(入力!$B:$B,I172+2,1)","v":0},{"$f":"1+D172","v":173},null,{"$f":"入力!$E$1","v":"villa中"},{"$f":"INDEX(入力!$A:$A,N172+2,1)","v":0},{"$f":"INDEX(入力!$B:$B,N172+2,1)","v":0},{"$f":"1+I172","v":174}]
[{"$f":"INDEX(入力!$E:$E,D172+2,1)","v":0},null,null,null,{"$f":"INDEX(入力!$Q:$Q,D172+2,1)","v":""},{"$f":"INDEX(入力!$E:$E,I172+2,1)","v":0},null,null,null,{"$f":"INDEX(入力!$Q:$Q,I172+2,1)","v":""},{"$f":"INDEX(入力!$E:$E,N172+2,1)","v":0},null,null,null,{"$f":"INDEX(入力!$Q:$Q,N172+2,1)","v":""}]
[null,null,"様",null,{"$f":"INDEX(入力!$G:$G,D172+2,1)","v":0},null,null,"様",null,{"$f":"INDEX(入力!$G:$G,I172+2,1)","v":0},null,null,"様",null,{"$f":"INDEX(入力!$G:$G,N172+2,1)","v":0}]
[{"$f":"入力!$E$1","v":"villa中"},{"$f":"INDEX(入力!$A:$A,D175+2,1)","v":0},{"$f":"INDEX(入力!$B:$B,D175+2,1)","v":0},{"$f":"D172+3","v":175},null,{"$f":"入力!$E$1","v":"villa中"},{"$f":"INDEX(入力!$A:$A,I175+2,1)","v":0},{"$f":"INDEX(入力!$B:$B,I175+2,1)","v":0},{"$f":"1+D175","v":176},null,{"$f":"入力!$E$1","v":"villa中"},{"$f":"INDEX(入力!$A:$A,N175+2,1)","v":0},{"$f":"INDEX(入力!$B:$B,N175+2,1)","v":0},{"$f":"1+I175","v":177}]
[{"$f":"INDEX(入力!$E:$E,D175+2,1)","v":0},null,null,null,{"$f":"INDEX(入力!$Q:$Q,D175+2,1)","v":""},{"$f":"INDEX(入力!$E:$E,I175+2,1)","v":0},null,null,null,{"$f":"INDEX(入力!$Q:$Q,I175+2,1)","v":""},{"$f":"INDEX(入力!$E:$E,N175+2,1)","v":0},null,null,null,{"$f":"INDEX(入力!$Q:$Q,N175+2,1)","v":""}]
[null,null,"様",null,{"$f":"INDEX(入力!$G:$G,D175+2,1)","v":0},null,null,"様",null,{"$f":"INDEX(入力!$G:$G,I175+2,1)","v":0},null,null,"様",null,{"$f":"INDEX(入力!$G:$G,N175+2,1)","v":0}]
[{"$f":"入力!$E$1","v":"villa中"},{"$f":"INDEX(入力!$A:$A,D178+2,1)","v":0},{"$f":"INDEX(入力!$B:$B,D178+2,1)","v":0},{"$f":"D175+3","v":178},null,{"$f":"入力!$E$1","v":"villa中"},{"$f":"INDEX(入力!$A:$A,I178+2,1)","v":0},{"$f":"INDEX(入力!$B:$B,I178+2,1)","v":0},{"$f":"1+D178","v":179},null,{"$f":"入力!$E$1","v":"villa中"},{"$f":"INDEX(入力!$A:$A,N178+2,1)","v":0},{"$f":"INDEX(入力!$B:$B,N178+2,1)","v":0},{"$f":"1+I178","v":180}]
[{"$f":"INDEX(入力!$E:$E,D178+2,1)","v":0},null,null,null,{"$f":"INDEX(入力!$Q:$Q,D178+2,1)","v":""},{"$f":"INDEX(入力!$E:$E,I178+2,1)","v":0},null,null,null,{"$f":"INDEX(入力!$Q:$Q,I178+2,1)","v":""},{"$f":"INDEX(入力!$E:$E,N178+2,1)","v":0},null,null,null,{"$f":"INDEX(入力!$Q:$Q,N178+2,1)","v":""}]
[null,null,"様",null,{"$f":"INDEX(入力!$G:$G,D178+2,1)","v":0},null,null,"様",null,{"$f":"INDEX(入力!$G:$G,I178+2,1)","v":0},null,null,"様",null,{"$f":"INDEX(入力!$G:$G,N178+2,1)","v":0}]
[{"$f":"入力!$E$1","v":"villa中"},{"$f":"INDEX(入力!$A:$A,D181+2,1)","v":0},{"$f":"INDEX(入力!$B:$B,D181+2,1)","v":0},{"$f":"D178+3","v":181},null,{"$f":"入力!$E$1","v":"villa中"},{"$f":"INDEX(入力!$A:$A,I181+2,1)","v":0},{"$f":"INDEX(入力!$B:$B,I181+2,1)","v":0},{"$f":"1+D181","v":182},null,{"$f":"入力!$E$1","v":"villa中"},{"$f":"INDEX(入力!$A:$A,N181+2,1)","v":0},{"$f":"INDEX(入力!$B:$B,N181+2,1)","v":0},{"$f":"1+I181","v":183}]
[{"$f":"INDEX(入力!$E:$E,D181+2,1)","v":0},null,null,null,{"$f":"INDEX(入力!$Q:$Q,D181+2,1)","v":""},{"$f":"INDEX(入力!$E:$E,I181+2,1)","v":0},null,null,null,{"$f":"INDEX(入力!$Q:$Q,I181+2,1)","v":""},{"$f":"INDEX(入力!$E:$E,N181+2,1)","v":0},null,null,null,{"$f":"INDEX(入力!$Q:$Q,N181+2,1)","v":""}]
[null,null,"様",null,{"$f":"INDEX(入力!$G:$G,D181+2,1)","v":0},null,null,"様",null,{"$f":"INDEX(入力!$G:$G,I181+2,1)","v":0},null,null,"様",null,{"$f":"INDEX(入力!$G:$G,N181+2,1)","v":0}]
[{"$f":"入力!$E$1","v":"villa中"},{"$f":"INDEX(入力!$A:$A,D184+2,1)","v":0},{"$f":"INDEX(入力!$B:$B,D184+2,1)","v":0},{"$f":"D181+3","v":184},null,{"$f":"入力!$E$1","v":"villa中"},{"$f":"INDEX(入力!$A:$A,I184+2,1)","v":0},{"$f":"INDEX(入力!$B:$B,I184+2,1)","v":0},{"$f":"1+D184","v":185},null,{"$f":"入力!$E$1","v":"villa中"},{"$f":"INDEX(入力!$A:$A,N184+2,1)","v":0},{"$f":"INDEX(入力!$B:$B,N184+2,1)","v":0},{"$f":"1+I184","v":186}]
[{"$f":"INDEX(入力!$E:$E,D184+2,1)","v":0},null,null,null,{"$f":"INDEX(入力!$Q:$Q,D184+2,1)","v":""},{"$f":"INDEX(入力!$E:$E,I184+2,1)","v":0},null,null,null,{"$f":"INDEX(入力!$Q:$Q,I184+2,1)","v":""},{"$f":"INDEX(入力!$E:$E,N184+2,1)","v":0},null,null,null,{"$f":"INDEX(入力!$Q:$Q,N184+2,1)","v":""}]
[null,null,"様",null,{"$f":"INDEX(入力!$G:$G,D184+2,1)","v":0},null,null,"様",null,{"$f":"INDEX(入力!$G:$G,I184+2,1)","v":0},null,null,"様",null,{"$f":"INDEX(入力!$G:$G,N184+2,1)","v":0}]
[{"$f":"入力!$E$1","v":"villa中"},{"$f":"INDEX(入力!$A:$A,D187+2,1)","v":0},{"$f":"INDEX(入力!$B:$B,D187+2,1)","v":0},{"$f":"D184+3","v":187},null,{"$f":"入力!$E$1","v":"villa中"},{"$f":"INDEX(入力!$A:$A,I187+2,1)","v":0},{"$f":"INDEX(入力!$B:$B,I187+2,1)","v":0},{"$f":"1+D187","v":188},null,{"$f":"入力!$E$1","v":"villa中"},{"$f":"INDEX(入力!$A:$A,N187+2,1)","v":0},{"$f":"INDEX(入力!$B:$B,N187+2,1)","v":0},{"$f":"1+I187","v":189}]
[{"$f":"INDEX(入力!$E:$E,D187+2,1)","v":0},null,null,null,{"$f":"INDEX(入力!$Q:$Q,D187+2,1)","v":""},{"$f":"INDEX(入力!$E:$E,I187+2,1)","v":0},null,null,null,{"$f":"INDEX(入力!$Q:$Q,I187+2,1)","v":""},{"$f":"INDEX(入力!$E:$E,N187+2,1)","v":0},null,null,null,{"$f":"INDEX(入力!$Q:$Q,N187+2,1)","v":""}]
[null,null,"様",null,{"$f":"INDEX(入力!$G:$G,D187+2,1)","v":0},null,null,"様",null,{"$f":"INDEX(入力!$G:$G,I187+2,1)","v":0},null,null,"様",null,{"$f":"INDEX(入力!$G:$G,N187+2,1)","v":0}]
[{"$f":"入力!$E$1","v":"villa中"},{"$f":"INDEX(入力!$A:$A,D190+2,1)","v":0},{"$f":"INDEX(入力!$B:$B,D190+2,1)","v":0},{"$f":"D187+3","v":190},null,{"$f":"入力!$E$1","v":"villa中"},{"$f":"INDEX(入力!$A:$A,I190+2,1)","v":0},{"$f":"INDEX(入力!$B:$B,I190+2,1)","v":0},{"$f":"1+D190","v":191},null,{"$f":"入力!$E$1","v":"villa中"},{"$f":"INDEX(入力!$A:$A,N190+2,1)","v":0},{"$f":"INDEX(入力!$B:$B,N190+2,1)","v":0},{"$f":"1+I190","v":192}]
[{"$f":"INDEX(入力!$E:$E,D190+2,1)","v":0},null,null,null,{"$f":"INDEX(入力!$Q:$Q,D190+2,1)","v":""},{"$f":"INDEX(入力!$E:$E,I190+2,1)","v":0},null,null,null,{"$f":"INDEX(入力!$Q:$Q,I190+2,1)","v":""},{"$f":"INDEX(入力!$E:$E,N190+2,1)","v":0},null,null,null,{"$f":"INDEX(入力!$Q:$Q,N190+2,1)","v":""}]
[null,null,"様",null,{"$f":"INDEX(入力!$G:$G,D190+2,1)","v":0},null,null,"様",null,{"$f":"INDEX(入力!$G:$G,I190+2,1)","v":0},null,null,"様",null,{"$f":"INDEX(入力!$G:$G,N190+2,1)","v":0}]
[{"$f":"入力!$E$1","v":"villa中"},{"$f":"INDEX(入力!$A:$A,D193+2,1)","v":0},{"$f":"INDEX(入力!$B:$B,D193+2,1)","v":0},{"$f":"D190+3","v":193},null,{"$f":"入力!$E$1","v":"villa中"},{"$f":"INDEX(入力!$A:$A,I193+2,1)","v":0},{"$f":"INDEX(入力!$B:$B,I193+2,1)","v":0},{"$f":"1+D193","v":194},null,{"$f":"入力!$E$1","v":"villa中"},{"$f":"INDEX(入力!$A:$A,N193+2,1)","v":0},{"$f":"INDEX(入力!$B:$B,N193+2,1)","v":0},{"$f":"1+I193","v":195}]
[{"$f":"INDEX(入力!$E:$E,D193+2,1)","v":0},null,null,null,{"$f":"INDEX(入力!$Q:$Q,D193+2,1)","v":""},{"$f":"INDEX(入力!$E:$E,I193+2,1)","v":0},null,null,null,{"$f":"INDEX(入力!$Q:$Q,I193+2,1)","v":""},{"$f":"INDEX(入力!$E:$E,N193+2,1)","v":0},null,null,null,{"$f":"INDEX(入力!$Q:$Q,N193+2,1)","v":""}]
[null,null,"様",null,{"$f":"INDEX(入力!$G:$G,D193+2,1)","v":0},null,null,"様",null,{"$f":"INDEX(入力!$G:$G,I193+2,1)","v":0},null,null,"様",null,{"$f":"INDEX(入力!$G:$G,N193+2,1)","v":0}]
[{"$f":"入力!$E$1","v":"villa中"},{"$f":"INDEX(入力!$A:$A,D196+2,1)","v":0},{"$f":"INDEX(入力!$B:$B,D196+2,1)","v":0},{"$f":"D193+3","v":196},null,{"$f":"入力!$E$1","v":"villa中"},{"$f":"INDEX(入力!$A:$A,I196+2,1)","v":0},{"$f":"INDEX(入力!$B:$B,I196+2,1)","v":0},{"$f":"1+D196","v":197},null,{"$f":"入力!$E$1","v":"villa中"},{"$f":"INDEX(入力!$A:$A,N196+2,1)","v":0},{"$f":"INDEX(入力!$B:$B,N196+2,1)","v":0},{"$f":"1+I196","v":198}]
[{"$f":"INDEX(入力!$E:$E,D196+2,1)","v":0},null,null,null,{"$f":"INDEX(入力!$Q:$Q,D196+2,1)","v":""},{"$f":"INDEX(入力!$E:$E,I196+2,1)","v":0},null,null,null,{"$f":"INDEX(入力!$Q:$Q,I196+2,1)","v":""},{"$f":"INDEX(入力!$E:$E,N196+2,1)","v":0},null,null,null,{"$f":"INDEX(入力!$Q:$Q,N196+2,1)","v":""}]
[null,null,"様",null,{"$f":"INDEX(入力!$G:$G,D196+2,1)","v":0},null,null,"様",null,{"$f":"INDEX(入力!$G:$G,I196+2,1)","v":0},null,null,"様",null,{"$f":"INDEX(入力!$G:$G,N196+2,1)","v":0}]
[{"$f":"入力!$E$1","v":"villa中"},{"$f":"INDEX(入力!$A:$A,D199+2,1)","v":0},{"$f":"INDEX(入力!$B:$B,D199+2,1)","v":0},{"$f":"D196+3","v":199},null,{"$f":"入力!$E$1","v":"villa中"},{"$f":"INDEX(入力!$A:$A,I199+2,1)","v":0},{"$f":"INDEX(入力!$B:$B,I199+2,1)","v":0},{"$f":"1+D199","v":200},null,{"$f":"入力!$E$1","v":"villa中"},{"$f":"INDEX(入力!$A:$A,N199+2,1)","v":0},{"$f":"INDEX(入力!$B:$B,N199+2,1)","v":0},{"$f":"1+I199","v":201}]
[{"$f":"INDEX(入力!$E:$E,D199+2,1)","v":0},null,null,null,{"$f":"INDEX(入力!$Q:$Q,D199+2,1)","v":""},{"$f":"INDEX(入力!$E:$E,I199+2,1)","v":0},null,null,null,{"$f":"INDEX(入力!$Q:$Q,I199+2,1)","v":""},{"$f":"INDEX(入力!$E:$E,N199+2,1)","v":0},null,null,null,{"$f":"INDEX(入力!$Q:$Q,N199+2,1)","v":""}]
[null,null,"様",null,{"$f":"INDEX(入力!$G:$G,D199+2,1)","v":0},null,null,"様",null,{"$f":"INDEX(入力!$G:$G,I199+2,1)","v":0},null,null,"様",null,{"$f":"INDEX(入力!$G:$G,N199+2,1)","v":0}]
[{"$f":"入力!$E$1","v":"villa中"},{"$f":"INDEX(入力!$A:$A,D202+2,1)","v":0},{"$f":"INDEX(入力!$B:$B,D202+2,1)","v":0},{"$f":"D199+3","v":202},null,{"$f":"入力!$E$1","v":"villa中"},{"$f":"INDEX(入力!$A:$A,I202+2,1)","v":0},{"$f":"INDEX(入力!$B:$B,I202+2,1)","v":0},{"$f":"1+D202","v":203},null,{"$f":"入力!$E$1","v":"villa中"},{"$f":"INDEX(入力!$A:$A,N202+2,1)","v":0},{"$f":"INDEX(入力!$B:$B,N202+2,1)","v":0},{"$f":"1+I202","v":204}]
[{"$f":"INDEX(入力!$E:$E,D202+2,1)","v":0},null,null,null,{"$f":"INDEX(入力!$Q:$Q,D202+2,1)","v":""},{"$f":"INDEX(入力!$E:$E,I202+2,1)","v":0},null,null,null,{"$f":"INDEX(入力!$Q:$Q,I202+2,1)","v":""},{"$f":"INDEX(入力!$E:$E,N202+2,1)","v":0},null,null,null,{"$f":"INDEX(入力!$Q:$Q,N202+2,1)","v":""}]
[null,null,"様",null,{"$f":"INDEX(入力!$G:$G,D202+2,1)","v":0},null,null,"様",null,{"$f":"INDEX(入力!$G:$G,I202+2,1)","v":0},null,null,"様",null,{"$f":"INDEX(入力!$G:$G,N202+2,1)","v":0}]
[{"$f":"入力!$E$1","v":"villa中"},{"$f":"INDEX(入力!$A:$A,D205+2,1)","v":0},{"$f":"INDEX(入力!$B:$B,D205+2,1)","v":0},{"$f":"D202+3","v":205},null,{"$f":"入力!$E$1","v":"villa中"},{"$f":"INDEX(入力!$A:$A,I205+2,1)","v":0},{"$f":"INDEX(入力!$B:$B,I205+2,1)","v":0},{"$f":"1+D205","v":206},null,{"$f":"入力!$E$1","v":"villa中"},{"$f":"INDEX(入力!$A:$A,N205+2,1)","v":0},{"$f":"INDEX(入力!$B:$B,N205+2,1)","v":0},{"$f":"1+I205","v":207}]
[{"$f":"INDEX(入力!$E:$E,D205+2,1)","v":0},null,null,null,{"$f":"INDEX(入力!$Q:$Q,D205+2,1)","v":""},{"$f":"INDEX(入力!$E:$E,I205+2,1)","v":0},null,null,null,{"$f":"INDEX(入力!$Q:$Q,I205+2,1)","v":""},{"$f":"INDEX(入力!$E:$E,N205+2,1)","v":0},null,null,null,{"$f":"INDEX(入力!$Q:$Q,N205+2,1)","v":""}]
[null,null,"様",null,{"$f":"INDEX(入力!$G:$G,D205+2,1)","v":0},null,null,"様",null,{"$f":"INDEX(入力!$G:$G,I205+2,1)","v":0},null,null,"様",null,{"$f":"INDEX(入力!$G:$G,N205+2,1)","v":0}]
[{"$f":"入力!$E$1","v":"villa中"},{"$f":"INDEX(入力!$A:$A,D208+2,1)","v":0},{"$f":"INDEX(入力!$B:$B,D208+2,1)","v":0},{"$f":"D205+3","v":208},null,{"$f":"入力!$E$1","v":"villa中"},{"$f":"INDEX(入力!$A:$A,I208+2,1)","v":0},{"$f":"INDEX(入力!$B:$B,I208+2,1)","v":0},{"$f":"1+D208","v":209},null,{"$f":"入力!$E$1","v":"villa中"},{"$f":"INDEX(入力!$A:$A,N208+2,1)","v":0},{"$f":"INDEX(入力!$B:$B,N208+2,1)","v":0},{"$f":"1+I208","v":210}]
[{"$f":"INDEX(入力!$E:$E,D208+2,1)","v":0},null,null,null,{"$f":"INDEX(入力!$Q:$Q,D208+2,1)","v":""},{"$f":"INDEX(入力!$E:$E,I208+2,1)","v":0},null,null,null,{"$f":"INDEX(入力!$Q:$Q,I208+2,1)","v":""},{"$f":"INDEX(入力!$E:$E,N208+2,1)","v":0},null,null,null,{"$f":"INDEX(入力!$Q:$Q,N208+2,1)","v":""}]
[null,null,"様",null,{"$f":"INDEX(入力!$G:$G,D208+2,1)","v":0},null,null,"様",null,{"$f":"INDEX(入力!$G:$G,I208+2,1)","v":0},null,null,"様",null,{"$f":"INDEX(入力!$G:$G,N208+2,1)","v":0}]
[{"$f":"入力!$E$1","v":"villa中"},{"$f":"INDEX(入力!$A:$A,D211+2,1)","v":0},{"$f":"INDEX(入力!$B:$B,D211+2,1)","v":0},{"$f":"D208+3","v":211},null,{"$f":"入力!$E$1","v":"villa中"},{"$f":"INDEX(入力!$A:$A,I211+2,1)","v":0},{"$f":"INDEX(入力!$B:$B,I211+2,1)","v":0},{"$f":"1+D211","v":212},null,{"$f":"入力!$E$1","v":"villa中"},{"$f":"INDEX(入力!$A:$A,N211+2,1)","v":0},{"$f":"INDEX(入力!$B:$B,N211+2,1)","v":0},{"$f":"1+I211","v":213}]
[{"$f":"INDEX(入力!$E:$E,D211+2,1)","v":0},null,null,null,{"$f":"INDEX(入力!$Q:$Q,D211+2,1)","v":""},{"$f":"INDEX(入力!$E:$E,I211+2,1)","v":0},null,null,null,{"$f":"INDEX(入力!$Q:$Q,I211+2,1)","v":""},{"$f":"INDEX(入力!$E:$E,N211+2,1)","v":0},null,null,null,{"$f":"INDEX(入力!$Q:$Q,N211+2,1)","v":""}]
[null,null,"様",null,{"$f":"INDEX(入力!$G:$G,D211+2,1)","v":0},null,null,"様",null,{"$f":"INDEX(入力!$G:$G,I211+2,1)","v":0},null,null,"様",null,{"$f":"INDEX(入力!$G:$G,N211+2,1)","v":0}]
[{"$f":"入力!$E$1","v":"villa中"},{"$f":"INDEX(入力!$A:$A,D214+2,1)","v":0},{"$f":"INDEX(入力!$B:$B,D214+2,1)","v":0},{"$f":"D211+3","v":214},null,{"$f":"入力!$E$1","v":"villa中"},{"$f":"INDEX(入力!$A:$A,I214+2,1)","v":0},{"$f":"INDEX(入力!$B:$B,I214+2,1)","v":0},{"$f":"1+D214","v":215},null,{"$f":"入力!$E$1","v":"villa中"},{"$f":"INDEX(入力!$A:$A,N214+2,1)","v":0},{"$f":"INDEX(入力!$B:$B,N214+2,1)","v":0},{"$f":"1+I214","v":216}]
[{"$f":"INDEX(入力!$E:$E,D214+2,1)","v":0},null,null,null,{"$f":"INDEX(入力!$Q:$Q,D214+2,1)","v":""},{"$f":"INDEX(入力!$E:$E,I214+2,1)","v":0},null,null,null,{"$f":"INDEX(入力!$Q:$Q,I214+2,1)","v":""},{"$f":"INDEX(入力!$E:$E,N214+2,1)","v":0},null,null,null,{"$f":"INDEX(入力!$Q:$Q,N214+2,1)","v":""}]
[null,null,"様",null,{"$f":"INDEX(入力!$G:$G,D214+2,1)","v":0},null,null,"様",null,{"$f":"INDEX(入力!$G:$G,I214+2,1)","v":0},null,null,"様",null,{"$f":"INDEX(入力!$G:$G,N214+2,1)","v":0}]
[{"$f":"入力!$E$1","v":"villa中"},{"$f":"INDEX(入力!$A:$A,D217+2,1)","v":0},{"$f":"INDEX(入力!$B:$B,D217+2,1)","v":0},{"$f":"D214+3","v":217},null,{"$f":"入力!$E$1","v":"villa中"},{"$f":"INDEX(入力!$A:$A,I217+2,1)","v":0},{"$f":"INDEX(入力!$B:$B,I217+2,1)","v":0},{"$f":"1+D217","v":218},null,{"$f":"入力!$E$1","v":"villa中"},{"$f":"INDEX(入力!$A:$A,N217+2,1)","v":0},{"$f":"INDEX(入力!$B:$B,N217+2,1)","v":0},{"$f":"1+I217","v":219}]
[{"$f":"INDEX(入力!$E:$E,D217+2,1)","v":0},null,null,null,{"$f":"INDEX(入力!$Q:$Q,D217+2,1)","v":""},{"$f":"INDEX(入力!$E:$E,I217+2,1)","v":0},null,null,null,{"$f":"INDEX(入力!$Q:$Q,I217+2,1)","v":""},{"$f":"INDEX(入力!$E:$E,N217+2,1)","v":0},null,null,null,{"$f":"INDEX(入力!$Q:$Q,N217+2,1)","v":""}]
[null,null,"様",null,{"$f":"INDEX(入力!$G:$G,D217+2,1)","v":0},null,null,"様",null,{"$f":"INDEX(入力!$G:$G,I217+2,1)","v":0},null,null,"様",null,{"$f":"INDEX(入力!$G:$G,N217+2,1)","v":0}]
[{"$f":"入力!$E$1","v":"villa中"},{"$f":"INDEX(入力!$A:$A,D220+2,1)","v":0},{"$f":"INDEX(入力!$B:$B,D220+2,1)","v":0},{"$f":"D217+3","v":220},null,{"$f":"入力!$E$1","v":"villa中"},{"$f":"INDEX(入力!$A:$A,I220+2,1)","v":0},{"$f":"INDEX(入力!$B:$B,I220+2,1)","v":0},{"$f":"1+D220","v":221},null,{"$f":"入力!$E$1","v":"villa中"},{"$f":"INDEX(入力!$A:$A,N220+2,1)","v":0},{"$f":"INDEX(入力!$B:$B,N220+2,1)","v":0},{"$f":"1+I220","v":222}]
[{"$f":"INDEX(入力!$E:$E,D220+2,1)","v":0},null,null,null,{"$f":"INDEX(入力!$Q:$Q,D220+2,1)","v":""},{"$f":"INDEX(入力!$E:$E,I220+2,1)","v":0},null,null,null,{"$f":"INDEX(入力!$Q:$Q,I220+2,1)","v":""},{"$f":"INDEX(入力!$E:$E,N220+2,1)","v":0},null,null,null,{"$f":"INDEX(入力!$Q:$Q,N220+2,1)","v":""}]
[null,null,"様",null,{"$f":"INDEX(入力!$G:$G,D220+2,1)","v":0},null,null,"様",null,{"$f":"INDEX(入力!$G:$G,I220+2,1)","v":0},null,null,"様",null,{"$f":"INDEX(入力!$G:$G,N220+2,1)","v":0}]
[{"$f":"入力!$E$1","v":"villa中"},{"$f":"INDEX(入力!$A:$A,D223+2,1)","v":0},{"$f":"INDEX(入力!$B:$B,D223+2,1)","v":0},{"$f":"D220+3","v":223},null,{"$f":"入力!$E$1","v":"villa中"},{"$f":"INDEX(入力!$A:$A,I223+2,1)","v":0},{"$f":"INDEX(入力!$B:$B,I223+2,1)","v":0},{"$f":"1+D223","v":224},null,{"$f":"入力!$E$1","v":"villa中"},{"$f":"INDEX(入力!$A:$A,N223+2,1)","v":0},{"$f":"INDEX(入力!$B:$B,N223+2,1)","v":0},{"$f":"1+I223","v":225}]
[{"$f":"INDEX(入力!$E:$E,D223+2,1)","v":0},null,null,null,{"$f":"INDEX(入力!$Q:$Q,D223+2,1)","v":""},{"$f":"INDEX(入力!$E:$E,I223+2,1)","v":0},null,null,null,{"$f":"INDEX(入力!$Q:$Q,I223+2,1)","v":""},{"$f":"INDEX(入力!$E:$E,N223+2,1)","v":0},null,null,null,{"$f":"INDEX(入力!$Q:$Q,N223+2,1)","v":""}]
[null,null,"様",null,{"$f":"INDEX(入力!$G:$G,D223+2,1)","v":0},null,null,"様",null,{"$f":"INDEX(入力!$G:$G,I223+2,1)","v":0},null,null,"様",null,{"$f":"INDEX(入力!$G:$G,N223+2,1)","v":0}]
[{"$f":"入力!$E$1","v":"villa中"},{"$f":"INDEX(入力!$A:$A,D226+2,1)","v":0},{"$f":"INDEX(入力!$B:$B,D226+2,1)","v":0},{"$f":"D223+3","v":226},null,{"$f":"入力!$E$1","v":"villa中"},{"$f":"INDEX(入力!$A:$A,I226+2,1)","v":0},{"$f":"INDEX(入力!$B:$B,I226+2,1)","v":0},{"$f":"1+D226","v":227},null,{"$f":"入力!$E$1","v":"villa中"},{"$f":"INDEX(入力!$A:$A,N226+2,1)","v":0},{"$f":"INDEX(入力!$B:$B,N226+2,1)","v":0},{"$f":"1+I226","v":228}]
[{"$f":"INDEX(入力!$E:$E,D226+2,1)","v":0},null,null,null,{"$f":"INDEX(入力!$Q:$Q,D226+2,1)","v":""},{"$f":"INDEX(入力!$E:$E,I226+2,1)","v":0},null,null,null,{"$f":"INDEX(入力!$Q:$Q,I226+2,1)","v":""},{"$f":"INDEX(入力!$E:$E,N226+2,1)","v":0},null,null,null,{"$f":"INDEX(入力!$Q:$Q,N226+2,1)","v":""}]
[null,null,"様",null,{"$f":"INDEX(入力!$G:$G,D226+2,1)","v":0},null,null,"様",null,{"$f":"INDEX(入力!$G:$G,I226+2,1)","v":0},null,null,"様",null,{"$f":"INDEX(入力!$G:$G,N226+2,1)","v":0}]
[{"$f":"入力!$E$1","v":"villa中"},{"$f":"INDEX(入力!$A:$A,D229+2,1)","v":0},{"$f":"INDEX(入力!$B:$B,D229+2,1)","v":0},{"$f":"D226+3","v":229},null,{"$f":"入力!$E$1","v":"villa中"},{"$f":"INDEX(入力!$A:$A,I229+2,1)","v":0},{"$f":"INDEX(入力!$B:$B,I229+2,1)","v":0},{"$f":"1+D229","v":230},null,{"$f":"入力!$E$1","v":"villa中"},{"$f":"INDEX(入力!$A:$A,N229+2,1)","v":0},{"$f":"INDEX(入力!$B:$B,N229+2,1)","v":0},{"$f":"1+I229","v":231}]
[{"$f":"INDEX(入力!$E:$E,D229+2,1)","v":0},null,null,null,{"$f":"INDEX(入力!$Q:$Q,D229+2,1)","v":""},{"$f":"INDEX(入力!$E:$E,I229+2,1)","v":0},null,null,null,{"$f":"INDEX(入力!$Q:$Q,I229+2,1)","v":""},{"$f":"INDEX(入力!$E:$E,N229+2,1)","v":0},null,null,null,{"$f":"INDEX(入力!$Q:$Q,N229+2,1)","v":""}]
[null,null,"様",null,{"$f":"INDEX(入力!$G:$G,D229+2,1)","v":0},null,null,"様",null,{"$f":"INDEX(入力!$G:$G,I229+2,1)","v":0},null,null,"様",null,{"$f":"INDEX(入力!$G:$G,N229+2,1)","v":0}]
[{"$f":"入力!$E$1","v":"villa中"},{"$f":"INDEX(入力!$A:$A,D232+2,1)","v":0},{"$f":"INDEX(入力!$B:$B,D232+2,1)","v":0},{"$f":"D229+3","v":232},null,{"$f":"入力!$E$1","v":"villa中"},{"$f":"INDEX(入力!$A:$A,I232+2,1)","v":0},{"$f":"INDEX(入力!$B:$B,I232+2,1)","v":0},{"$f":"1+D232","v":233},null,{"$f":"入力!$E$1","v":"villa中"},{"$f":"INDEX(入力!$A:$A,N232+2,1)","v":0},{"$f":"INDEX(入力!$B:$B,N232+2,1)","v":0},{"$f":"1+I232","v":234}]
[{"$f":"INDEX(入力!$E:$E,D232+2,1)","v":0},null,null,null,{"$f":"INDEX(入力!$Q:$Q,D232+2,1)","v":""},{"$f":"INDEX(入力!$E:$E,I232+2,1)","v":0},null,null,null,{"$f":"INDEX(入力!$Q:$Q,I232+2,1)","v":""},{"$f":"INDEX(入力!$E:$E,N232+2,1)","v":0},null,null,null,{"$f":"INDEX(入力!$Q:$Q,N232+2,1)","v":""}]
[null,null,"様",null,{"$f":"INDEX(入力!$G:$G,D232+2,1)","v":0},null,null,"様",null,{"$f":"INDEX(入力!$G:$G,I232+2,1)","v":0},null,null,"様",null,{"$f":"INDEX(入力!$G:$G,N232+2,1)","v":0}]
[{"$f":"入力!$E$1","v":"villa中"},{"$f":"INDEX(入力!$A:$A,D235+2,1)","v":0},{"$f":"INDEX(入力!$B:$B,D235+2,1)","v":0},{"$f":"D232+3","v":235},null,{"$f":"入力!$E$1","v":"villa中"},{"$f":"INDEX(入力!$A:$A,I235+2,1)","v":0},{"$f":"INDEX(入力!$B:$B,I235+2,1)","v":0},{"$f":"1+D235","v":236},null,{"$f":"入力!$E$1","v":"villa中"},{"$f":"INDEX(入力!$A:$A,N235+2,1)","v":0},{"$f":"INDEX(入力!$B:$B,N235+2,1)","v":0},{"$f":"1+I235","v":237}]
[{"$f":"INDEX(入力!$E:$E,D235+2,1)","v":0},null,null,null,{"$f":"INDEX(入力!$Q:$Q,D235+2,1)","v":""},{"$f":"INDEX(入力!$E:$E,I235+2,1)","v":0},null,null,null,{"$f":"INDEX(入力!$Q:$Q,I235+2,1)","v":""},{"$f":"INDEX(入力!$E:$E,N235+2,1)","v":0},null,null,null,{"$f":"INDEX(入力!$Q:$Q,N235+2,1)","v":""}]
[null,null,"様",null,{"$f":"INDEX(入力!$G:$G,D235+2,1)","v":0},null,null,"様",null,{"$f":"INDEX(入力!$G:$G,I235+2,1)","v":0},null,null,"様",null,{"$f":"INDEX(入力!$G:$G,N235+2,1)","v":0}]
[{"$f":"入力!$E$1","v":"villa中"},{"$f":"INDEX(入力!$A:$A,D238+2,1)","v":0},{"$f":"INDEX(入力!$B:$B,D238+2,1)","v":0},{"$f":"D235+3","v":238},null,{"$f":"入力!$E$1","v":"villa中"},{"$f":"INDEX(入力!$A:$A,I238+2,1)","v":0},{"$f":"INDEX(入力!$B:$B,I238+2,1)","v":0},{"$f":"1+D238","v":239},null,{"$f":"入力!$E$1","v":"villa中"},{"$f":"INDEX(入力!$A:$A,N238+2,1)","v":0},{"$f":"INDEX(入力!$B:$B,N238+2,1)","v":0},{"$f":"1+I238","v":240}]
[{"$f":"INDEX(入力!$E:$E,D238+2,1)","v":0},null,null,null,{"$f":"INDEX(入力!$Q:$Q,D238+2,1)","v":""},{"$f":"INDEX(入力!$E:$E,I238+2,1)","v":0},null,null,null,{"$f":"INDEX(入力!$Q:$Q,I238+2,1)","v":""},{"$f":"INDEX(入力!$E:$E,N238+2,1)","v":0},null,null,null,{"$f":"INDEX(入力!$Q:$Q,N238+2,1)","v":""}]
[null,null,"様",null,{"$f":"INDEX(入力!$G:$G,D238+2,1)","v":0},null,null,"様",null,{"$f":"INDEX(入力!$G:$G,I238+2,1)","v":0},null,null,"様",null,{"$f":"INDEX(入力!$G:$G,N238+2,1)","v":0}]
[{"$f":"入力!$E$1","v":"villa中"},{"$f":"INDEX(入力!$A:$A,D241+2,1)","v":0},{"$f":"INDEX(入力!$B:$B,D241+2,1)","v":0},{"$f":"D238+3","v":241},null,{"$f":"入力!$E$1","v":"villa中"},{"$f":"INDEX(入力!$A:$A,I241+2,1)","v":0},{"$f":"INDEX(入力!$B:$B,I241+2,1)","v":0},{"$f":"1+D241","v":242},null,{"$f":"入力!$E$1","v":"villa中"},{"$f":"INDEX(入力!$A:$A,N241+2,1)","v":0},{"$f":"INDEX(入力!$B:$B,N241+2,1)","v":0},{"$f":"1+I241","v":243}]
[{"$f":"INDEX(入力!$E:$E,D241+2,1)","v":0},null,null,null,{"$f":"INDEX(入力!$Q:$Q,D241+2,1)","v":""},{"$f":"INDEX(入力!$E:$E,I241+2,1)","v":0},null,null,null,{"$f":"INDEX(入力!$Q:$Q,I241+2,1)","v":""},{"$f":"INDEX(入力!$E:$E,N241+2,1)","v":0},null,null,null,{"$f":"INDEX(入力!$Q:$Q,N241+2,1)","v":""}]
[null,null,"様",null,{"$f":"INDEX(入力!$G:$G,D241+2,1)","v":0},null,null,"様",null,{"$f":"INDEX(入力!$G:$G,I241+2,1)","v":0},null,null,"様",null,{"$f":"INDEX(入力!$G:$G,N241+2,1)","v":0}]
[{"$f":"入力!$E$1","v":"villa中"},{"$f":"INDEX(入力!$A:$A,D244+2,1)","v":0},{"$f":"INDEX(入力!$B:$B,D244+2,1)","v":0},{"$f":"D241+3","v":244},null,{"$f":"入力!$E$1","v":"villa中"},{"$f":"INDEX(入力!$A:$A,I244+2,1)","v":0},{"$f":"INDEX(入力!$B:$B,I244+2,1)","v":0},{"$f":"1+D244","v":245},null,{"$f":"入力!$E$1","v":"villa中"},{"$f":"INDEX(入力!$A:$A,N244+2,1)","v":0},{"$f":"INDEX(入力!$B:$B,N244+2,1)","v":0},{"$f":"1+I244","v":246}]
[{"$f":"INDEX(入力!$E:$E,D244+2,1)","v":0},null,null,null,{"$f":"INDEX(入力!$Q:$Q,D244+2,1)","v":""},{"$f":"INDEX(入力!$E:$E,I244+2,1)","v":0},null,null,null,{"$f":"INDEX(入力!$Q:$Q,I244+2,1)","v":""},{"$f":"INDEX(入力!$E:$E,N244+2,1)","v":0},null,null,null,{"$f":"INDEX(入力!$Q:$Q,N244+2,1)","v":""}]
[null,null,"様",null,{"$f":"INDEX(入力!$G:$G,D244+2,1)","v":0},null,null,"様",null,{"$f":"INDEX(入力!$G:$G,I244+2,1)","v":0},null,null,"様",null,{"$f":"INDEX(入力!$G:$G,N244+2,1)","v":0}]
[{"$f":"入力!$E$1","v":"villa中"},{"$f":"INDEX(入力!$A:$A,D247+2,1)","v":0},{"$f":"INDEX(入力!$B:$B,D247+2,1)","v":0},{"$f":"D244+3","v":247},null,{"$f":"入力!$E$1","v":"villa中"},{"$f":"INDEX(入力!$A:$A,I247+2,1)","v":0},{"$f":"INDEX(入力!$B:$B,I247+2,1)","v":0},{"$f":"1+D247","v":248},null,{"$f":"入力!$E$1","v":"villa中"},{"$f":"INDEX(入力!$A:$A,N247+2,1)","v":0},{"$f":"INDEX(入力!$B:$B,N247+2,1)","v":0},{"$f":"1+I247","v":249}]
[{"$f":"INDEX(入力!$E:$E,D247+2,1)","v":0},null,null,null,{"$f":"INDEX(入力!$Q:$Q,D247+2,1)","v":""},{"$f":"INDEX(入力!$E:$E,I247+2,1)","v":0},null,null,null,{"$f":"INDEX(入力!$Q:$Q,I247+2,1)","v":""},{"$f":"INDEX(入力!$E:$E,N247+2,1)","v":0},null,null,null,{"$f":"INDEX(入力!$Q:$Q,N247+2,1)","v":""}]
[null,null,"様",null,{"$f":"INDEX(入力!$G:$G,D247+2,1)","v":0},null,null,"様",null,{"$f":"INDEX(入力!$G:$G,I247+2,1)","v":0},null,null,"様",null,{"$f":"INDEX(入力!$G:$G,N247+2,1)","v":0}]
[{"$f":"入力!$E$1","v":"villa中"},{"$f":"INDEX(入力!$A:$A,D250+2,1)","v":0},{"$f":"INDEX(入力!$B:$B,D250+2,1)","v":0},{"$f":"D247+3","v":250},null,{"$f":"入力!$E$1","v":"villa中"},{"$f":"INDEX(入力!$A:$A,I250+2,1)","v":0},{"$f":"INDEX(入力!$B:$B,I250+2,1)","v":0},{"$f":"1+D250","v":251},null,{"$f":"入力!$E$1","v":"villa中"},{"$f":"INDEX(入力!$A:$A,N250+2,1)","v":0},{"$f":"INDEX(入力!$B:$B,N250+2,1)","v":0},{"$f":"1+I250","v":252}]
[{"$f":"INDEX(入力!$E:$E,D250+2,1)","v":0},null,null,null,{"$f":"INDEX(入力!$Q:$Q,D250+2,1)","v":""},{"$f":"INDEX(入力!$E:$E,I250+2,1)","v":0},null,null,null,{"$f":"INDEX(入力!$Q:$Q,I250+2,1)","v":""},{"$f":"INDEX(入力!$E:$E,N250+2,1)","v":0},null,null,null,{"$f":"INDEX(入力!$Q:$Q,N250+2,1)","v":""}]
[null,null,"様",null,{"$f":"INDEX(入力!$G:$G,D250+2,1)","v":0},null,null,"様",null,{"$f":"INDEX(入力!$G:$G,I250+2,1)","v":0},null,null,"様",null,{"$f":"INDEX(入力!$G:$G,N250+2,1)","v":0}]
[{"$f":"入力!$E$1","v":"villa中"},{"$f":"INDEX(入力!$A:$A,D253+2,1)","v":0},{"$f":"INDEX(入力!$B:$B,D253+2,1)","v":0},{"$f":"D250+3","v":253},null,{"$f":"入力!$E$1","v":"villa中"},{"$f":"INDEX(入力!$A:$A,I253+2,1)","v":0},{"$f":"INDEX(入力!$B:$B,I253+2,1)","v":0},{"$f":"1+D253","v":254},null,{"$f":"入力!$E$1","v":"villa中"},{"$f":"INDEX(入力!$A:$A,N253+2,1)","v":0},{"$f":"INDEX(入力!$B:$B,N253+2,1)","v":0},{"$f":"1+I253","v":255}]
[{"$f":"INDEX(入力!$E:$E,D253+2,1)","v":0},null,null,null,{"$f":"INDEX(入力!$Q:$Q,D253+2,1)","v":""},{"$f":"INDEX(入力!$E:$E,I253+2,1)","v":0},null,null,null,{"$f":"INDEX(入力!$Q:$Q,I253+2,1)","v":""},{"$f":"INDEX(入力!$E:$E,N253+2,1)","v":0},null,null,null,{"$f":"INDEX(入力!$Q:$Q,N253+2,1)","v":""}]
[null,null,"様",null,{"$f":"INDEX(入力!$G:$G,D253+2,1)","v":0},null,null,"様",null,{"$f":"INDEX(入力!$G:$G,I253+2,1)","v":0},null,null,"様",null,{"$f":"INDEX(入力!$G:$G,N253+2,1)","v":0}]
[{"$f":"入力!$E$1","v":"villa中"},{"$f":"INDEX(入力!$A:$A,D256+2,1)","v":0},{"$f":"INDEX(入力!$B:$B,D256+2,1)","v":0},{"$f":"D253+3","v":256},null,{"$f":"入力!$E$1","v":"villa中"},{"$f":"INDEX(入力!$A:$A,I256+2,1)","v":0},{"$f":"INDEX(入力!$B:$B,I256+2,1)","v":0},{"$f":"1+D256","v":257},null,{"$f":"入力!$E$1","v":"villa中"},{"$f":"INDEX(入力!$A:$A,N256+2,1)","v":0},{"$f":"INDEX(入力!$B:$B,N256+2,1)","v":0},{"$f":"1+I256","v":258}]
[{"$f":"INDEX(入力!$E:$E,D256+2,1)","v":0},null,null,null,{"$f":"INDEX(入力!$Q:$Q,D256+2,1)","v":""},{"$f":"INDEX(入力!$E:$E,I256+2,1)","v":0},null,null,null,{"$f":"INDEX(入力!$Q:$Q,I256+2,1)","v":""},{"$f":"INDEX(入力!$E:$E,N256+2,1)","v":0},null,null,null,{"$f":"INDEX(入力!$Q:$Q,N256+2,1)","v":""}]
[null,null,"様",null,{"$f":"INDEX(入力!$G:$G,D256+2,1)","v":0},null,null,"様",null,{"$f":"INDEX(入力!$G:$G,I256+2,1)","v":0},null,null,"様",null,{"$f":"INDEX(入力!$G:$G,N256+2,1)","v":0}]
[{"$f":"入力!$E$1","v":"villa中"},{"$f":"INDEX(入力!$A:$A,D259+2,1)","v":0},{"$f":"INDEX(入力!$B:$B,D259+2,1)","v":0},{"$f":"D256+3","v":259},null,{"$f":"入力!$E$1","v":"villa中"},{"$f":"INDEX(入力!$A:$A,I259+2,1)","v":0},{"$f":"INDEX(入力!$B:$B,I259+2,1)","v":0},{"$f":"1+D259","v":260},null,{"$f":"入力!$E$1","v":"villa中"},{"$f":"INDEX(入力!$A:$A,N259+2,1)","v":0},{"$f":"INDEX(入力!$B:$B,N259+2,1)","v":0},{"$f":"1+I259","v":261}]
[{"$f":"INDEX(入力!$E:$E,D259+2,1)","v":0},null,null,null,{"$f":"INDEX(入力!$Q:$Q,D259+2,1)","v":""},{"$f":"INDEX(入力!$E:$E,I259+2,1)","v":0},null,null,null,{"$f":"INDEX(入力!$Q:$Q,I259+2,1)","v":""},{"$f":"INDEX(入力!$E:$E,N259+2,1)","v":0},null,null,null,{"$f":"INDEX(入力!$Q:$Q,N259+2,1)","v":""}]
[null,null,"様",null,{"$f":"INDEX(入力!$G:$G,D259+2,1)","v":0},null,null,"様",null,{"$f":"INDEX(入力!$G:$G,I259+2,1)","v":0},null,null,"様",null,{"$f":"INDEX(入力!$G:$G,N259+2,1)","v":0}]
[{"$f":"入力!$E$1","v":"villa中"},{"$f":"INDEX(入力!$A:$A,D262+2,1)","v":0},{"$f":"INDEX(入力!$B:$B,D262+2,1)","v":0},{"$f":"D259+3","v":262},null,{"$f":"入力!$E$1","v":"villa中"},{"$f":"INDEX(入力!$A:$A,I262+2,1)","v":0},{"$f":"INDEX(入力!$B:$B,I262+2,1)","v":0},{"$f":"1+D262","v":263},null,{"$f":"入力!$E$1","v":"villa中"},{"$f":"INDEX(入力!$A:$A,N262+2,1)","v":0},{"$f":"INDEX(入力!$B:$B,N262+2,1)","v":0},{"$f":"1+I262","v":264}]
[{"$f":"INDEX(入力!$E:$E,D262+2,1)","v":0},null,null,null,{"$f":"INDEX(入力!$Q:$Q,D262+2,1)","v":""},{"$f":"INDEX(入力!$E:$E,I262+2,1)","v":0},null,null,null,{"$f":"INDEX(入力!$Q:$Q,I262+2,1)","v":""},{"$f":"INDEX(入力!$E:$E,N262+2,1)","v":0},null,null,null,{"$f":"INDEX(入力!$Q:$Q,N262+2,1)","v":""}]
[null,null,"様",null,{"$f":"INDEX(入力!$G:$G,D262+2,1)","v":0},null,null,"様",null,{"$f":"INDEX(入力!$G:$G,I262+2,1)","v":0},null,null,"様",null,{"$f":"INDEX(入力!$G:$G,N262+2,1)","v":0}]
[{"$f":"入力!$E$1","v":"villa中"},{"$f":"INDEX(入力!$A:$A,D265+2,1)","v":0},{"$f":"INDEX(入力!$B:$B,D265+2,1)","v":0},{"$f":"D262+3","v":265},null,{"$f":"入力!$E$1","v":"villa中"},{"$f":"INDEX(入力!$A:$A,I265+2,1)","v":0},{"$f":"INDEX(入力!$B:$B,I265+2,1)","v":0},{"$f":"1+D265","v":266},null,{"$f":"入力!$E$1","v":"villa中"},{"$f":"INDEX(入力!$A:$A,N265+2,1)","v":0},{"$f":"INDEX(入力!$B:$B,N265+2,1)","v":0},{"$f":"1+I265","v":267}]
[{"$f":"INDEX(入力!$E:$E,D265+2,1)","v":0},null,null,null,{"$f":"INDEX(入力!$Q:$Q,D265+2,1)","v":""},{"$f":"INDEX(入力!$E:$E,I265+2,1)","v":0},null,null,null,{"$f":"INDEX(入力!$Q:$Q,I265+2,1)","v":""},{"$f":"INDEX(入力!$E:$E,N265+2,1)","v":0},null,null,null,{"$f":"INDEX(入力!$Q:$Q,N265+2,1)","v":""}]
[null,null,"様",null,{"$f":"INDEX(入力!$G:$G,D265+2,1)","v":0},null,null,"様",null,{"$f":"INDEX(入力!$G:$G,I265+2,1)","v":0},null,null,"様",null,{"$f":"INDEX(入力!$G:$G,N265+2,1)","v":0}]
[{"$f":"入力!$E$1","v":"villa中"},{"$f":"INDEX(入力!$A:$A,D268+2,1)","v":0},{"$f":"INDEX(入力!$B:$B,D268+2,1)","v":0},{"$f":"D265+3","v":268},null,{"$f":"入力!$E$1","v":"villa中"},{"$f":"INDEX(入力!$A:$A,I268+2,1)","v":0},{"$f":"INDEX(入力!$B:$B,I268+2,1)","v":0},{"$f":"1+D268","v":269},null,{"$f":"入力!$E$1","v":"villa中"},{"$f":"INDEX(入力!$A:$A,N268+2,1)","v":0},{"$f":"INDEX(入力!$B:$B,N268+2,1)","v":0},{"$f":"1+I268","v":270}]
[{"$f":"INDEX(入力!$E:$E,D268+2,1)","v":0},null,null,null,{"$f":"INDEX(入力!$Q:$Q,D268+2,1)","v":""},{"$f":"INDEX(入力!$E:$E,I268+2,1)","v":0},null,null,null,{"$f":"INDEX(入力!$Q:$Q,I268+2,1)","v":""},{"$f":"INDEX(入力!$E:$E,N268+2,1)","v":0},null,null,null,{"$f":"INDEX(入力!$Q:$Q,N268+2,1)","v":""}]
[null,null,"様",null,{"$f":"INDEX(入力!$G:$G,D268+2,1)","v":0},null,null,"様",null,{"$f":"INDEX(入力!$G:$G,I268+2,1)","v":0},null,null,"様",null,{"$f":"INDEX(入力!$G:$G,N268+2,1)","v":0}]
[{"$f":"入力!$E$1","v":"villa中"},{"$f":"INDEX(入力!$A:$A,D271+2,1)","v":0},{"$f":"INDEX(入力!$B:$B,D271+2,1)","v":0},{"$f":"D268+3","v":271},null,{"$f":"入力!$E$1","v":"villa中"},{"$f":"INDEX(入力!$A:$A,I271+2,1)","v":0},{"$f":"INDEX(入力!$B:$B,I271+2,1)","v":0},{"$f":"1+D271","v":272},null,{"$f":"入力!$E$1","v":"villa中"},{"$f":"INDEX(入力!$A:$A,N271+2,1)","v":0},{"$f":"INDEX(入力!$B:$B,N271+2,1)","v":0},{"$f":"1+I271","v":273}]
[{"$f":"INDEX(入力!$E:$E,D271+2,1)","v":0},null,null,null,{"$f":"INDEX(入力!$Q:$Q,D271+2,1)","v":""},{"$f":"INDEX(入力!$E:$E,I271+2,1)","v":0},null,null,null,{"$f":"INDEX(入力!$Q:$Q,I271+2,1)","v":""},{"$f":"INDEX(入力!$E:$E,N271+2,1)","v":0},null,null,null,{"$f":"INDEX(入力!$Q:$Q,N271+2,1)","v":""}]
[null,null,"様",null,{"$f":"INDEX(入力!$G:$G,D271+2,1)","v":0},null,null,"様",null,{"$f":"INDEX(入力!$G:$G,I271+2,1)","v":0},null,null,"様",null,{"$f":"INDEX(入力!$G:$G,N271+2,1)","v":0}]
[{"$f":"入力!$E$1","v":"villa中"},{"$f":"INDEX(入力!$A:$A,D274+2,1)","v":0},{"$f":"INDEX(入力!$B:$B,D274+2,1)","v":0},{"$f":"D271+3","v":274},null,{"$f":"入力!$E$1","v":"villa中"},{"$f":"INDEX(入力!$A:$A,I274+2,1)","v":0},{"$f":"INDEX(入力!$B:$B,I274+2,1)","v":0},{"$f":"1+D274","v":275},null,{"$f":"入力!$E$1","v":"villa中"},{"$f":"INDEX(入力!$A:$A,N274+2,1)","v":0},{"$f":"INDEX(入力!$B:$B,N274+2,1)","v":0},{"$f":"1+I274","v":276}]
[{"$f":"INDEX(入力!$E:$E,D274+2,1)","v":0},null,null,null,{"$f":"INDEX(入力!$Q:$Q,D274+2,1)","v":""},{"$f":"INDEX(入力!$E:$E,I274+2,1)","v":0},null,null,null,{"$f":"INDEX(入力!$Q:$Q,I274+2,1)","v":""},{"$f":"INDEX(入力!$E:$E,N274+2,1)","v":0},null,null,null,{"$f":"INDEX(入力!$Q:$Q,N274+2,1)","v":""}]
[null,null,"様",null,{"$f":"INDEX(入力!$G:$G,D274+2,1)","v":0},null,null,"様",null,{"$f":"INDEX(入力!$G:$G,I274+2,1)","v":0},null,null,"様",null,{"$f":"INDEX(入力!$G:$G,N274+2,1)","v":0}]
[{"$f":"入力!$E$1","v":"villa中"},{"$f":"INDEX(入力!$A:$A,D277+2,1)","v":0},{"$f":"INDEX(入力!$B:$B,D277+2,1)","v":0},{"$f":"D274+3","v":277},null,{"$f":"入力!$E$1","v":"villa中"},{"$f":"INDEX(入力!$A:$A,I277+2,1)","v":0},{"$f":"INDEX(入力!$B:$B,I277+2,1)","v":0},{"$f":"1+D277","v":278},null,{"$f":"入力!$E$1","v":"villa中"},{"$f":"INDEX(入力!$A:$A,N277+2,1)","v":0},{"$f":"INDEX(入力!$B:$B,N277+2,1)","v":0},{"$f":"1+I277","v":279}]
[{"$f":"INDEX(入力!$E:$E,D277+2,1)","v":0},null,null,null,{"$f":"INDEX(入力!$Q:$Q,D277+2,1)","v":""},{"$f":"INDEX(入力!$E:$E,I277+2,1)","v":0},null,null,null,{"$f":"INDEX(入力!$Q:$Q,I277+2,1)","v":""},{"$f":"INDEX(入力!$E:$E,N277+2,1)","v":0},null,null,null,{"$f":"INDEX(入力!$Q:$Q,N277+2,1)","v":""}]
[null,null,"様",null,{"$f":"INDEX(入力!$G:$G,D277+2,1)","v":0},null,null,"様",null,{"$f":"INDEX(入力!$G:$G,I277+2,1)","v":0},null,null,"様",null,{"$f":"INDEX(入力!$G:$G,N277+2,1)","v":0}]
[{"$f":"入力!$E$1","v":"villa中"},{"$f":"INDEX(入力!$A:$A,D280+2,1)","v":0},{"$f":"INDEX(入力!$B:$B,D280+2,1)","v":0},{"$f":"D277+3","v":280},null,{"$f":"入力!$E$1","v":"villa中"},{"$f":"INDEX(入力!$A:$A,I280+2,1)","v":0},{"$f":"INDEX(入力!$B:$B,I280+2,1)","v":0},{"$f":"1+D280","v":281},null,{"$f":"入力!$E$1","v":"villa中"},{"$f":"INDEX(入力!$A:$A,N280+2,1)","v":0},{"$f":"INDEX(入力!$B:$B,N280+2,1)","v":0},{"$f":"1+I280","v":282}]
[{"$f":"INDEX(入力!$E:$E,D280+2,1)","v":0},null,null,null,{"$f":"INDEX(入力!$Q:$Q,D280+2,1)","v":""},{"$f":"INDEX(入力!$E:$E,I280+2,1)","v":0},null,null,null,{"$f":"INDEX(入力!$Q:$Q,I280+2,1)","v":""},{"$f":"INDEX(入力!$E:$E,N280+2,1)","v":0},null,null,null,{"$f":"INDEX(入力!$Q:$Q,N280+2,1)","v":""}]
[null,null,"様",null,{"$f":"INDEX(入力!$G:$G,D280+2,1)","v":0},null,null,"様",null,{"$f":"INDEX(入力!$G:$G,I280+2,1)","v":0},null,null,"様",null,{"$f":"INDEX(入力!$G:$G,N280+2,1)","v":0}]
[{"$f":"入力!$E$1","v":"villa中"},{"$f":"INDEX(入力!$A:$A,D283+2,1)","v":0},{"$f":"INDEX(入力!$B:$B,D283+2,1)","v":0},{"$f":"D280+3","v":283},null,{"$f":"入力!$E$1","v":"villa中"},{"$f":"INDEX(入力!$A:$A,I283+2,1)","v":0},{"$f":"INDEX(入力!$B:$B,I283+2,1)","v":0},{"$f":"1+D283","v":284},null,{"$f":"入力!$E$1","v":"villa中"},{"$f":"INDEX(入力!$A:$A,N283+2,1)","v":0},{"$f":"INDEX(入力!$B:$B,N283+2,1)","v":0},{"$f":"1+I283","v":285}]
[{"$f":"INDEX(入力!$E:$E,D283+2,1)","v":0},null,null,null,{"$f":"INDEX(入力!$Q:$Q,D283+2,1)","v":""},{"$f":"INDEX(入力!$E:$E,I283+2,1)","v":0},null,null,null,{"$f":"INDEX(入力!$Q:$Q,I283+2,1)","v":""},{"$f":"INDEX(入力!$E:$E,N283+2,1)","v":0},null,null,null,{"$f":"INDEX(入力!$Q:$Q,N283+2,1)","v":""}]
[null,null,"様",null,{"$f":"INDEX(入力!$G:$G,D283+2,1)","v":0},null,null,"様",null,{"$f":"INDEX(入力!$G:$G,I283+2,1)","v":0},null,null,"様",null,{"$f":"INDEX(入力!$G:$G,N283+2,1)","v":0}]
[{"$f":"入力!$E$1","v":"villa中"},{"$f":"INDEX(入力!$A:$A,D286+2,1)","v":0},{"$f":"INDEX(入力!$B:$B,D286+2,1)","v":0},{"$f":"D283+3","v":286},null,{"$f":"入力!$E$1","v":"villa中"},{"$f":"INDEX(入力!$A:$A,I286+2,1)","v":0},{"$f":"INDEX(入力!$B:$B,I286+2,1)","v":0},{"$f":"1+D286","v":287},null,{"$f":"入力!$E$1","v":"villa中"},{"$f":"INDEX(入力!$A:$A,N286+2,1)","v":0},{"$f":"INDEX(入力!$B:$B,N286+2,1)","v":0},{"$f":"1+I286","v":288}]
[{"$f":"INDEX(入力!$E:$E,D286+2,1)","v":0},null,null,null,{"$f":"INDEX(入力!$Q:$Q,D286+2,1)","v":""},{"$f":"INDEX(入力!$E:$E,I286+2,1)","v":0},null,null,null,{"$f":"INDEX(入力!$Q:$Q,I286+2,1)","v":""},{"$f":"INDEX(入力!$E:$E,N286+2,1)","v":0},null,null,null,{"$f":"INDEX(入力!$Q:$Q,N286+2,1)","v":""}]
[null,null,"様",null,{"$f":"INDEX(入力!$G:$G,D286+2,1)","v":0},null,null,"様",null,{"$f":"INDEX(入力!$G:$G,I286+2,1)","v":0},null,null,"様",null,{"$f":"INDEX(入力!$G:$G,N286+2,1)","v":0}]
[{"$f":"入力!$E$1","v":"villa中"},{"$f":"INDEX(入力!$A:$A,D289+2,1)","v":0},{"$f":"INDEX(入力!$B:$B,D289+2,1)","v":0},{"$f":"D286+3","v":289},null,{"$f":"入力!$E$1","v":"villa中"},{"$f":"INDEX(入力!$A:$A,I289+2,1)","v":0},{"$f":"INDEX(入力!$B:$B,I289+2,1)","v":0},{"$f":"1+D289","v":290},null,{"$f":"入力!$E$1","v":"villa中"},{"$f":"INDEX(入力!$A:$A,N289+2,1)","v":0},{"$f":"INDEX(入力!$B:$B,N289+2,1)","v":0},{"$f":"1+I289","v":291}]
[{"$f":"INDEX(入力!$E:$E,D289+2,1)","v":0},null,null,null,{"$f":"INDEX(入力!$Q:$Q,D289+2,1)","v":""},{"$f":"INDEX(入力!$E:$E,I289+2,1)","v":0},null,null,null,{"$f":"INDEX(入力!$Q:$Q,I289+2,1)","v":""},{"$f":"INDEX(入力!$E:$E,N289+2,1)","v":0},null,null,null,{"$f":"INDEX(入力!$Q:$Q,N289+2,1)","v":""}]
[null,null,"様",null,{"$f":"INDEX(入力!$G:$G,D289+2,1)","v":0},null,null,"様",null,{"$f":"INDEX(入力!$G:$G,I289+2,1)","v":0},null,null,"様",null,{"$f":"INDEX(入力!$G:$G,N289+2,1)","v":0}]
[{"$f":"入力!$E$1","v":"villa中"},{"$f":"INDEX(入力!$A:$A,D292+2,1)","v":0},{"$f":"INDEX(入力!$B:$B,D292+2,1)","v":0},{"$f":"D289+3","v":292},null,{"$f":"入力!$E$1","v":"villa中"},{"$f":"INDEX(入力!$A:$A,I292+2,1)","v":0},{"$f":"INDEX(入力!$B:$B,I292+2,1)","v":0},{"$f":"1+D292","v":293},null,{"$f":"入力!$E$1","v":"villa中"},{"$f":"INDEX(入力!$A:$A,N292+2,1)","v":0},{"$f":"INDEX(入力!$B:$B,N292+2,1)","v":0},{"$f":"1+I292","v":294}]
[{"$f":"INDEX(入力!$E:$E,D292+2,1)","v":0},null,null,null,{"$f":"INDEX(入力!$Q:$Q,D292+2,1)","v":""},{"$f":"INDEX(入力!$E:$E,I292+2,1)","v":0},null,null,null,{"$f":"INDEX(入力!$Q:$Q,I292+2,1)","v":""},{"$f":"INDEX(入力!$E:$E,N292+2,1)","v":0},null,null,null,{"$f":"INDEX(入力!$Q:$Q,N292+2,1)","v":""}]
[null,null,"様",null,{"$f":"INDEX(入力!$G:$G,D292+2,1)","v":0},null,null,"様",null,{"$f":"INDEX(入力!$G:$G,I292+2,1)","v":0},null,null,"様",null,{"$f":"INDEX(入力!$G:$G,N292+2,1)","v":0}]
[{"$f":"入力!$E$1","v":"villa中"},{"$f":"INDEX(入力!$A:$A,D295+2,1)","v":0},{"$f":"INDEX(入力!$B:$B,D295+2,1)","v":0},{"$f":"D292+3","v":295},null,{"$f":"入力!$E$1","v":"villa中"},{"$f":"INDEX(入力!$A:$A,I295+2,1)","v":0},{"$f":"INDEX(入力!$B:$B,I295+2,1)","v":0},{"$f":"1+D295","v":296},null,{"$f":"入力!$E$1","v":"villa中"},{"$f":"INDEX(入力!$A:$A,N295+2,1)","v":0},{"$f":"INDEX(入力!$B:$B,N295+2,1)","v":0},{"$f":"1+I295","v":297}]
[{"$f":"INDEX(入力!$E:$E,D295+2,1)","v":0},null,null,null,{"$f":"INDEX(入力!$Q:$Q,D295+2,1)","v":""},{"$f":"INDEX(入力!$E:$E,I295+2,1)","v":0},null,null,null,{"$f":"INDEX(入力!$Q:$Q,I295+2,1)","v":""},{"$f":"INDEX(入力!$E:$E,N295+2,1)","v":0},null,null,null,{"$f":"INDEX(入力!$Q:$Q,N295+2,1)","v":""}]
[null,null,"様",null,{"$f":"INDEX(入力!$G:$G,D295+2,1)","v":0},null,null,"様",null,{"$f":"INDEX(入力!$G:$G,I295+2,1)","v":0},null,null,"様",null,{"$f":"INDEX(入力!$G:$G,N295+2,1)","v":0}]
[{"$f":"入力!$E$1","v":"villa中"},{"$f":"INDEX(入力!$A:$A,D298+2,1)","v":0},{"$f":"INDEX(入力!$B:$B,D298+2,1)","v":0},{"$f":"D295+3","v":298},null,{"$f":"入力!$E$1","v":"villa中"},{"$f":"INDEX(入力!$A:$A,I298+2,1)","v":0},{"$f":"INDEX(入力!$B:$B,I298+2,1)","v":0},{"$f":"1+D298","v":299},null,{"$f":"入力!$E$1","v":"villa中"},{"$f":"INDEX(入力!$A:$A,N298+2,1)","v":0},{"$f":"INDEX(入力!$B:$B,N298+2,1)","v":0},{"$f":"1+I298","v":300}]
[{"$f":"INDEX(入力!$E:$E,D298+2,1)","v":0},null,null,null,{"$f":"INDEX(入力!$Q:$Q,D298+2,1)","v":""},{"$f":"INDEX(入力!$E:$E,I298+2,1)","v":0},null,null,null,{"$f":"INDEX(入力!$Q:$Q,I298+2,1)","v":""},{"$f":"INDEX(入力!$E:$E,N298+2,1)","v":0},null,null,null,{"$f":"INDEX(入力!$Q:$Q,N298+2,1)","v":""}]
[null,null,"様",null,{"$f":"INDEX(入力!$G:$G,D298+2,1)","v":0},null,null,"様",null,{"$f":"INDEX(入力!$G:$G,I298+2,1)","v":0},null,null,"様",null,{"$f":"INDEX(入力!$G:$G,N298+2,1)","v":0}]
[{"$f":"入力!$E$1","v":"villa中"},{"$f":"INDEX(入力!$A:$A,D301+2,1)","v":0},{"$f":"INDEX(入力!$B:$B,D301+2,1)","v":0},{"$f":"D298+3","v":301},null,{"$f":"入力!$E$1","v":"villa中"},{"$f":"INDEX(入力!$A:$A,I301+2,1)","v":0},{"$f":"INDEX(入力!$B:$B,I301+2,1)","v":0},{"$f":"1+D301","v":302},null,{"$f":"入力!$E$1","v":"villa中"},{"$f":"INDEX(入力!$A:$A,N301+2,1)","v":0},{"$f":"INDEX(入力!$B:$B,N301+2,1)","v":0},{"$f":"1+I301","v":303}]
[{"$f":"INDEX(入力!$E:$E,D301+2,1)","v":0},null,null,null,{"$f":"INDEX(入力!$Q:$Q,D301+2,1)","v":""},{"$f":"INDEX(入力!$E:$E,I301+2,1)","v":0},null,null,null,{"$f":"INDEX(入力!$Q:$Q,I301+2,1)","v":""},{"$f":"INDEX(入力!$E:$E,N301+2,1)","v":0},null,null,null,{"$f":"INDEX(入力!$Q:$Q,N301+2,1)","v":""}]
[null,null,"様",null,{"$f":"INDEX(入力!$G:$G,D301+2,1)","v":0},null,null,"様",null,{"$f":"INDEX(入力!$G:$G,I301+2,1)","v":0},null,null,"様",null,{"$f":"INDEX(入力!$G:$G,N301+2,1)","v":0}]
[{"$f":"入力!$E$1","v":"villa中"},{"$f":"INDEX(入力!$A:$A,D304+2,1)","v":0},{"$f":"INDEX(入力!$B:$B,D304+2,1)","v":0},{"$f":"D301+3","v":304},null,{"$f":"入力!$E$1","v":"villa中"},{"$f":"INDEX(入力!$A:$A,I304+2,1)","v":0},{"$f":"INDEX(入力!$B:$B,I304+2,1)","v":0},{"$f":"1+D304","v":305},null,{"$f":"入力!$E$1","v":"villa中"},{"$f":"INDEX(入力!$A:$A,N304+2,1)","v":0},{"$f":"INDEX(入力!$B:$B,N304+2,1)","v":0},{"$f":"1+I304","v":306}]
[{"$f":"INDEX(入力!$E:$E,D304+2,1)","v":0},null,null,null,{"$f":"INDEX(入力!$Q:$Q,D304+2,1)","v":""},{"$f":"INDEX(入力!$E:$E,I304+2,1)","v":0},null,null,null,{"$f":"INDEX(入力!$Q:$Q,I304+2,1)","v":""},{"$f":"INDEX(入力!$E:$E,N304+2,1)","v":0},null,null,null,{"$f":"INDEX(入力!$Q:$Q,N304+2,1)","v":""}]
[null,null,"様",null,{"$f":"INDEX(入力!$G:$G,D304+2,1)","v":0},null,null,"様",null,{"$f":"INDEX(入力!$G:$G,I304+2,1)","v":0},null,null,"様",null,{"$f":"INDEX(入力!$G:$G,N304+2,1)","v":0}]
[{"$f":"入力!$E$1","v":"villa中"},{"$f":"INDEX(入力!$A:$A,D307+2,1)","v":0},{"$f":"INDEX(入力!$B:$B,D307+2,1)","v":0},{"$f":"D304+3","v":307},null,{"$f":"入力!$E$1","v":"villa中"},{"$f":"INDEX(入力!$A:$A,I307+2,1)","v":0},{"$f":"INDEX(入力!$B:$B,I307+2,1)","v":0},{"$f":"1+D307","v":308},null,{"$f":"入力!$E$1","v":"villa中"},{"$f":"INDEX(入力!$A:$A,N307+2,1)","v":0},{"$f":"INDEX(入力!$B:$B,N307+2,1)","v":0},{"$f":"1+I307","v":309}]
[{"$f":"INDEX(入力!$E:$E,D307+2,1)","v":0},null,null,null,{"$f":"INDEX(入力!$Q:$Q,D307+2,1)","v":""},{"$f":"INDEX(入力!$E:$E,I307+2,1)","v":0},null,null,null,{"$f":"INDEX(入力!$Q:$Q,I307+2,1)","v":""},{"$f":"INDEX(入力!$E:$E,N307+2,1)","v":0},null,null,null,{"$f":"INDEX(入力!$Q:$Q,N307+2,1)","v":""}]
[null,null,"様",null,{"$f":"INDEX(入力!$G:$G,D307+2,1)","v":0},null,null,"様",null,{"$f":"INDEX(入力!$G:$G,I307+2,1)","v":0},null,null,"様",null,{"$f":"INDEX(入力!$G:$G,N307+2,1)","v":0}]
[{"$f":"入力!$E$1","v":"villa中"},{"$f":"INDEX(入力!$A:$A,D310+2,1)","v":0},{"$f":"INDEX(入力!$B:$B,D310+2,1)","v":0},{"$f":"D307+3","v":310},null,{"$f":"入力!$E$1","v":"villa中"},{"$f":"INDEX(入力!$A:$A,I310+2,1)","v":0},{"$f":"INDEX(入力!$B:$B,I310+2,1)","v":0},{"$f":"1+D310","v":311},null,{"$f":"入力!$E$1","v":"villa中"},{"$f":"INDEX(入力!$A:$A,N310+2,1)","v":0},{"$f":"INDEX(入力!$B:$B,N310+2,1)","v":0},{"$f":"1+I310","v":312}]
[{"$f":"INDEX(入力!$E:$E,D310+2,1)","v":0},null,null,null,{"$f":"INDEX(入力!$Q:$Q,D310+2,1)","v":""},{"$f":"INDEX(入力!$E:$E,I310+2,1)","v":0},null,null,null,{"$f":"INDEX(入力!$Q:$Q,I310+2,1)","v":""},{"$f":"INDEX(入力!$E:$E,N310+2,1)","v":0},null,null,null,{"$f":"INDEX(入力!$Q:$Q,N310+2,1)","v":""}]
[null,null,"様",null,{"$f":"INDEX(入力!$G:$G,D310+2,1)","v":0},null,null,"様",null,{"$f":"INDEX(入力!$G:$G,I310+2,1)","v":0},null,null,"様",null,{"$f":"INDEX(入力!$G:$G,N310+2,1)","v":0}]
[{"$f":"入力!$E$1","v":"villa中"},{"$f":"INDEX(入力!$A:$A,D313+2,1)","v":0},{"$f":"INDEX(入力!$B:$B,D313+2,1)","v":0},{"$f":"D310+3","v":313},null,{"$f":"入力!$E$1","v":"villa中"},{"$f":"INDEX(入力!$A:$A,I313+2,1)","v":0},{"$f":"INDEX(入力!$B:$B,I313+2,1)","v":0},{"$f":"1+D313","v":314},null,{"$f":"入力!$E$1","v":"villa中"},{"$f":"INDEX(入力!$A:$A,N313+2,1)","v":0},{"$f":"INDEX(入力!$B:$B,N313+2,1)","v":0},{"$f":"1+I313","v":315}]
[{"$f":"INDEX(入力!$E:$E,D313+2,1)","v":0},null,null,null,{"$f":"INDEX(入力!$Q:$Q,D313+2,1)","v":""},{"$f":"INDEX(入力!$E:$E,I313+2,1)","v":0},null,null,null,{"$f":"INDEX(入力!$Q:$Q,I313+2,1)","v":""},{"$f":"INDEX(入力!$E:$E,N313+2,1)","v":0},null,null,null,{"$f":"INDEX(入力!$Q:$Q,N313+2,1)","v":""}]
[null,null,"様",null,{"$f":"INDEX(入力!$G:$G,D313+2,1)","v":0},null,null,"様",null,{"$f":"INDEX(入力!$G:$G,I313+2,1)","v":0},null,null,"様",null,{"$f":"INDEX(入力!$G:$G,N313+2,1)","v":0}]
[{"$f":"入力!$E$1","v":"villa中"},{"$f":"INDEX(入力!$A:$A,D316+2,1)","v":0},{"$f":"INDEX(入力!$B:$B,D316+2,1)","v":0},{"$f":"D313+3","v":316},null,{"$f":"入力!$E$1","v":"villa中"},{"$f":"INDEX(入力!$A:$A,I316+2,1)","v":0},{"$f":"INDEX(入力!$B:$B,I316+2,1)","v":0},{"$f":"1+D316","v":317},null,{"$f":"入力!$E$1","v":"villa中"},{"$f":"INDEX(入力!$A:$A,N316+2,1)","v":0},{"$f":"INDEX(入力!$B:$B,N316+2,1)","v":0},{"$f":"1+I316","v":318}]
[{"$f":"INDEX(入力!$E:$E,D316+2,1)","v":0},null,null,null,{"$f":"INDEX(入力!$Q:$Q,D316+2,1)","v":""},{"$f":"INDEX(入力!$E:$E,I316+2,1)","v":0},null,null,null,{"$f":"INDEX(入力!$Q:$Q,I316+2,1)","v":""},{"$f":"INDEX(入力!$E:$E,N316+2,1)","v":0},null,null,null,{"$f":"INDEX(入力!$Q:$Q,N316+2,1)","v":""}]
[null,null,"様",null,{"$f":"INDEX(入力!$G:$G,D316+2,1)","v":0},null,null,"様",null,{"$f":"INDEX(入力!$G:$G,I316+2,1)","v":0},null,null,"様",null,{"$f":"INDEX(入力!$G:$G,N316+2,1)","v":0}]
[{"$f":"入力!$E$1","v":"villa中"},{"$f":"INDEX(入力!$A:$A,D319+2,1)","v":0},{"$f":"INDEX(入力!$B:$B,D319+2,1)","v":0},{"$f":"D316+3","v":319},null,{"$f":"入力!$E$1","v":"villa中"},{"$f":"INDEX(入力!$A:$A,I319+2,1)","v":0},{"$f":"INDEX(入力!$B:$B,I319+2,1)","v":0},{"$f":"1+D319","v":320},null,{"$f":"入力!$E$1","v":"villa中"},{"$f":"INDEX(入力!$A:$A,N319+2,1)","v":0},{"$f":"INDEX(入力!$B:$B,N319+2,1)","v":0},{"$f":"1+I319","v":321}]
[{"$f":"INDEX(入力!$E:$E,D319+2,1)","v":0},null,null,null,{"$f":"INDEX(入力!$Q:$Q,D319+2,1)","v":""},{"$f":"INDEX(入力!$E:$E,I319+2,1)","v":0},null,null,null,{"$f":"INDEX(入力!$Q:$Q,I319+2,1)","v":""},{"$f":"INDEX(入力!$E:$E,N319+2,1)","v":0},null,null,null,{"$f":"INDEX(入力!$Q:$Q,N319+2,1)","v":""}]
[null,null,"様",null,{"$f":"INDEX(入力!$G:$G,D319+2,1)","v":0},null,null,"様",null,{"$f":"INDEX(入力!$G:$G,I319+2,1)","v":0},null,null,"様",null,{"$f":"INDEX(入力!$G:$G,N319+2,1)","v":0}]
[{"$f":"入力!$E$1","v":"villa中"},{"$f":"INDEX(入力!$A:$A,D322+2,1)","v":0},{"$f":"INDEX(入力!$B:$B,D322+2,1)","v":0},{"$f":"D319+3","v":322},null,{"$f":"入力!$E$1","v":"villa中"},{"$f":"INDEX(入力!$A:$A,I322+2,1)","v":0},{"$f":"INDEX(入力!$B:$B,I322+2,1)","v":0},{"$f":"1+D322","v":323},null,{"$f":"入力!$E$1","v":"villa中"},{"$f":"INDEX(入力!$A:$A,N322+2,1)","v":0},{"$f":"INDEX(入力!$B:$B,N322+2,1)","v":0},{"$f":"1+I322","v":324}]
[{"$f":"INDEX(入力!$E:$E,D322+2,1)","v":0},null,null,null,{"$f":"INDEX(入力!$Q:$Q,D322+2,1)","v":""},{"$f":"INDEX(入力!$E:$E,I322+2,1)","v":0},null,null,null,{"$f":"INDEX(入力!$Q:$Q,I322+2,1)","v":""},{"$f":"INDEX(入力!$E:$E,N322+2,1)","v":0},null,null,null,{"$f":"INDEX(入力!$Q:$Q,N322+2,1)","v":""}]
[null,null,"様",null,{"$f":"INDEX(入力!$G:$G,D322+2,1)","v":0},null,null,"様",null,{"$f":"INDEX(入力!$G:$G,I322+2,1)","v":0},null,null,"様",null,{"$f":"INDEX(入力!$G:$G,N322+2,1)","v":0}]
[{"$f":"入力!$E$1","v":"villa中"},{"$f":"INDEX(入力!$A:$A,D325+2,1)","v":0},{"$f":"INDEX(入力!$B:$B,D325+2,1)","v":0},{"$f":"D322+3","v":325},null,{"$f":"入力!$E$1","v":"villa中"},{"$f":"INDEX(入力!$A:$A,I325+2,1)","v":0},{"$f":"INDEX(入力!$B:$B,I325+2,1)","v":0},{"$f":"1+D325","v":326},null,{"$f":"入力!$E$1","v":"villa中"},{"$f":"INDEX(入力!$A:$A,N325+2,1)","v":0},{"$f":"INDEX(入力!$B:$B,N325+2,1)","v":0},{"$f":"1+I325","v":327}]
[{"$f":"INDEX(入力!$E:$E,D325+2,1)","v":0},null,null,null,{"$f":"INDEX(入力!$Q:$Q,D325+2,1)","v":""},{"$f":"INDEX(入力!$E:$E,I325+2,1)","v":0},null,null,null,{"$f":"INDEX(入力!$Q:$Q,I325+2,1)","v":""},{"$f":"INDEX(入力!$E:$E,N325+2,1)","v":0},null,null,null,{"$f":"INDEX(入力!$Q:$Q,N325+2,1)","v":""}]
[null,null,"様",null,{"$f":"INDEX(入力!$G:$G,D325+2,1)","v":0},null,null,"様",null,{"$f":"INDEX(入力!$G:$G,I325+2,1)","v":0},null,null,"様",null,{"$f":"INDEX(入力!$G:$G,N325+2,1)","v":0}]
[{"$f":"入力!$E$1","v":"villa中"},{"$f":"INDEX(入力!$A:$A,D328+2,1)","v":0},{"$f":"INDEX(入力!$B:$B,D328+2,1)","v":0},{"$f":"D325+3","v":328},null,{"$f":"入力!$E$1","v":"villa中"},{"$f":"INDEX(入力!$A:$A,I328+2,1)","v":0},{"$f":"INDEX(入力!$B:$B,I328+2,1)","v":0},{"$f":"1+D328","v":329},null,{"$f":"入力!$E$1","v":"villa中"},{"$f":"INDEX(入力!$A:$A,N328+2,1)","v":0},{"$f":"INDEX(入力!$B:$B,N328+2,1)","v":0},{"$f":"1+I328","v":330}]
[{"$f":"INDEX(入力!$E:$E,D328+2,1)","v":0},null,null,null,{"$f":"INDEX(入力!$Q:$Q,D328+2,1)","v":""},{"$f":"INDEX(入力!$E:$E,I328+2,1)","v":0},null,null,null,{"$f":"INDEX(入力!$Q:$Q,I328+2,1)","v":""},{"$f":"INDEX(入力!$E:$E,N328+2,1)","v":0},null,null,null,{"$f":"INDEX(入力!$Q:$Q,N328+2,1)","v":""}]
[null,null,"様",null,{"$f":"INDEX(入力!$G:$G,D328+2,1)","v":0},null,null,"様",null,{"$f":"INDEX(入力!$G:$G,I328+2,1)","v":0},null,null,"様",null,{"$f":"INDEX(入力!$G:$G,N328+2,1)","v":0}]
[{"$f":"入力!$E$1","v":"villa中"},{"$f":"INDEX(入力!$A:$A,D331+2,1)","v":0},{"$f":"INDEX(入力!$B:$B,D331+2,1)","v":0},{"$f":"D328+3","v":331},null,{"$f":"入力!$E$1","v":"villa中"},{"$f":"INDEX(入力!$A:$A,I331+2,1)","v":0},{"$f":"INDEX(入力!$B:$B,I331+2,1)","v":0},{"$f":"1+D331","v":332},null,{"$f":"入力!$E$1","v":"villa中"},{"$f":"INDEX(入力!$A:$A,N331+2,1)","v":0},{"$f":"INDEX(入力!$B:$B,N331+2,1)","v":0},{"$f":"1+I331","v":333}]
[{"$f":"INDEX(入力!$E:$E,D331+2,1)","v":0},null,null,null,{"$f":"INDEX(入力!$Q:$Q,D331+2,1)","v":""},{"$f":"INDEX(入力!$E:$E,I331+2,1)","v":0},null,null,null,{"$f":"INDEX(入力!$Q:$Q,I331+2,1)","v":""},{"$f":"INDEX(入力!$E:$E,N331+2,1)","v":0},null,null,null,{"$f":"INDEX(入力!$Q:$Q,N331+2,1)","v":""}]
[null,null,"様",null,{"$f":"INDEX(入力!$G:$G,D331+2,1)","v":0},null,null,"様",null,{"$f":"INDEX(入力!$G:$G,I331+2,1)","v":0},null,null,"様",null,{"$f":"INDEX(入力!$G:$G,N331+2,1)","v":0}]
[{"$f":"入力!$E$1","v":"villa中"},{"$f":"INDEX(入力!$A:$A,D334+2,1)","v":0},{"$f":"INDEX(入力!$B:$B,D334+2,1)","v":0},{"$f":"D331+3","v":334},null,{"$f":"入力!$E$1","v":"villa中"},{"$f":"INDEX(入力!$A:$A,I334+2,1)","v":0},{"$f":"INDEX(入力!$B:$B,I334+2,1)","v":0},{"$f":"1+D334","v":335},null,{"$f":"入力!$E$1","v":"villa中"},{"$f":"INDEX(入力!$A:$A,N334+2,1)","v":0},{"$f":"INDEX(入力!$B:$B,N334+2,1)","v":0},{"$f":"1+I334","v":336}]
[{"$f":"INDEX(入力!$E:$E,D334+2,1)","v":0},null,null,null,{"$f":"INDEX(入力!$Q:$Q,D334+2,1)","v":""},{"$f":"INDEX(入力!$E:$E,I334+2,1)","v":0},null,null,null,{"$f":"INDEX(入力!$Q:$Q,I334+2,1)","v":""},{"$f":"INDEX(入力!$E:$E,N334+2,1)","v":0},null,null,null,{"$f":"INDEX(入力!$Q:$Q,N334+2,1)","v":""}]
[null,null,"様",null,{"$f":"INDEX(入力!$G:$G,D334+2,1)","v":0},null,null,"様",null,{"$f":"INDEX(入力!$G:$G,I334+2,1)","v":0},null,null,"様",null,{"$f":"INDEX(入力!$G:$G,N334+2,1)","v":0}]
[{"$f":"入力!$E$1","v":"villa中"},{"$f":"INDEX(入力!$A:$A,D337+2,1)","v":0},{"$f":"INDEX(入力!$B:$B,D337+2,1)","v":0},{"$f":"D334+3","v":337},null,{"$f":"入力!$E$1","v":"villa中"},{"$f":"INDEX(入力!$A:$A,I337+2,1)","v":0},{"$f":"INDEX(入力!$B:$B,I337+2,1)","v":0},{"$f":"1+D337","v":338},null,{"$f":"入力!$E$1","v":"villa中"},{"$f":"INDEX(入力!$A:$A,N337+2,1)","v":0},{"$f":"INDEX(入力!$B:$B,N337+2,1)","v":0},{"$f":"1+I337","v":339}]
[{"$f":"INDEX(入力!$E:$E,D337+2,1)","v":0},null,null,null,{"$f":"INDEX(入力!$Q:$Q,D337+2,1)","v":""},{"$f":"INDEX(入力!$E:$E,I337+2,1)","v":0},null,null,null,{"$f":"INDEX(入力!$Q:$Q,I337+2,1)","v":""},{"$f":"INDEX(入力!$E:$E,N337+2,1)","v":0},null,null,null,{"$f":"INDEX(入力!$Q:$Q,N337+2,1)","v":""}]
[null,null,"様",null,{"$f":"INDEX(入力!$G:$G,D337+2,1)","v":0},null,null,"様",null,{"$f":"INDEX(入力!$G:$G,I337+2,1)","v":0},null,null,"様",null,{"$f":"INDEX(入力!$G:$G,N337+2,1)","v":0}]
[{"$f":"入力!$E$1","v":"villa中"},{"$f":"INDEX(入力!$A:$A,D340+2,1)","v":0},{"$f":"INDEX(入力!$B:$B,D340+2,1)","v":0},{"$f":"D337+3","v":340},null,{"$f":"入力!$E$1","v":"villa中"},{"$f":"INDEX(入力!$A:$A,I340+2,1)","v":0},{"$f":"INDEX(入力!$B:$B,I340+2,1)","v":0},{"$f":"1+D340","v":341},null,{"$f":"入力!$E$1","v":"villa中"},{"$f":"INDEX(入力!$A:$A,N340+2,1)","v":0},{"$f":"INDEX(入力!$B:$B,N340+2,1)","v":0},{"$f":"1+I340","v":342}]
[{"$f":"INDEX(入力!$E:$E,D340+2,1)","v":0},null,null,null,{"$f":"INDEX(入力!$Q:$Q,D340+2,1)","v":""},{"$f":"INDEX(入力!$E:$E,I340+2,1)","v":0},null,null,null,{"$f":"INDEX(入力!$Q:$Q,I340+2,1)","v":""},{"$f":"INDEX(入力!$E:$E,N340+2,1)","v":0},null,null,null,{"$f":"INDEX(入力!$Q:$Q,N340+2,1)","v":""}]
[null,null,"様",null,{"$f":"INDEX(入力!$G:$G,D340+2,1)","v":0},null,null,"様",null,{"$f":"INDEX(入力!$G:$G,I340+2,1)","v":0},null,null,"様",null,{"$f":"INDEX(入力!$G:$G,N340+2,1)","v":0}]
[{"$f":"入力!$E$1","v":"villa中"},{"$f":"INDEX(入力!$A:$A,D343+2,1)","v":0},{"$f":"INDEX(入力!$B:$B,D343+2,1)","v":0},{"$f":"D340+3","v":343},null,{"$f":"入力!$E$1","v":"villa中"},{"$f":"INDEX(入力!$A:$A,I343+2,1)","v":0},{"$f":"INDEX(入力!$B:$B,I343+2,1)","v":0},{"$f":"1+D343","v":344},null,{"$f":"入力!$E$1","v":"villa中"},{"$f":"INDEX(入力!$A:$A,N343+2,1)","v":0},{"$f":"INDEX(入力!$B:$B,N343+2,1)","v":0},{"$f":"1+I343","v":345}]
[{"$f":"INDEX(入力!$E:$E,D343+2,1)","v":0},null,null,null,{"$f":"INDEX(入力!$Q:$Q,D343+2,1)","v":""},{"$f":"INDEX(入力!$E:$E,I343+2,1)","v":0},null,null,null,{"$f":"INDEX(入力!$Q:$Q,I343+2,1)","v":""},{"$f":"INDEX(入力!$E:$E,N343+2,1)","v":0},null,null,null,{"$f":"INDEX(入力!$Q:$Q,N343+2,1)","v":""}]
[null,null,"様",null,{"$f":"INDEX(入力!$G:$G,D343+2,1)","v":0},null,null,"様",null,{"$f":"INDEX(入力!$G:$G,I343+2,1)","v":0},null,null,"様",null,{"$f":"INDEX(入力!$G:$G,N343+2,1)","v":0}]
[{"$f":"入力!$E$1","v":"villa中"},{"$f":"INDEX(入力!$A:$A,D346+2,1)","v":0},{"$f":"INDEX(入力!$B:$B,D346+2,1)","v":0},{"$f":"D343+3","v":346},null,{"$f":"入力!$E$1","v":"villa中"},{"$f":"INDEX(入力!$A:$A,I346+2,1)","v":0},{"$f":"INDEX(入力!$B:$B,I346+2,1)","v":0},{"$f":"1+D346","v":347},null,{"$f":"入力!$E$1","v":"villa中"},{"$f":"INDEX(入力!$A:$A,N346+2,1)","v":0},{"$f":"INDEX(入力!$B:$B,N346+2,1)","v":0},{"$f":"1+I346","v":348}]
[{"$f":"INDEX(入力!$E:$E,D346+2,1)","v":0},null,null,null,{"$f":"INDEX(入力!$Q:$Q,D346+2,1)","v":""},{"$f":"INDEX(入力!$E:$E,I346+2,1)","v":0},null,null,null,{"$f":"INDEX(入力!$Q:$Q,I346+2,1)","v":""},{"$f":"INDEX(入力!$E:$E,N346+2,1)","v":0},null,null,null,{"$f":"INDEX(入力!$Q:$Q,N346+2,1)","v":""}]
[null,null,"様",null,{"$f":"INDEX(入力!$G:$G,D346+2,1)","v":0},null,null,"様",null,{"$f":"INDEX(入力!$G:$G,I346+2,1)","v":0},null,null,"様",null,{"$f":"INDEX(入力!$G:$G,N346+2,1)","v":0}]
[{"$f":"入力!$E$1","v":"villa中"},{"$f":"INDEX(入力!$A:$A,D349+2,1)","v":0},{"$f":"INDEX(入力!$B:$B,D349+2,1)","v":0},{"$f":"D346+3","v":349},null,{"$f":"入力!$E$1","v":"villa中"},{"$f":"INDEX(入力!$A:$A,I349+2,1)","v":0},{"$f":"INDEX(入力!$B:$B,I349+2,1)","v":0},{"$f":"1+D349","v":350},null,{"$f":"入力!$E$1","v":"villa中"},{"$f":"INDEX(入力!$A:$A,N349+2,1)","v":0},{"$f":"INDEX(入力!$B:$B,N349+2,1)","v":0},{"$f":"1+I349","v":351}]
[{"$f":"INDEX(入力!$E:$E,D349+2,1)","v":0},null,null,null,{"$f":"INDEX(入力!$Q:$Q,D349+2,1)","v":""},{"$f":"INDEX(入力!$E:$E,I349+2,1)","v":0},null,null,null,{"$f":"INDEX(入力!$Q:$Q,I349+2,1)","v":""},{"$f":"INDEX(入力!$E:$E,N349+2,1)","v":0},null,null,null,{"$f":"INDEX(入力!$Q:$Q,N349+2,1)","v":""}]
[null,null,"様",null,{"$f":"INDEX(入力!$G:$G,D349+2,1)","v":0},null,null,"様",null,{"$f":"INDEX(入力!$G:$G,I349+2,1)","v":0},null,null,"様",null,{"$f":"INDEX(入力!$G:$G,N349+2,1)","v":0}]
[{"$f":"入力!$E$1","v":"villa中"},{"$f":"INDEX(入力!$A:$A,D352+2,1)","v":0},{"$f":"INDEX(入力!$B:$B,D352+2,1)","v":0},{"$f":"D349+3","v":352},null,{"$f":"入力!$E$1","v":"villa中"},{"$f":"INDEX(入力!$A:$A,I352+2,1)","v":0},{"$f":"INDEX(入力!$B:$B,I352+2,1)","v":0},{"$f":"1+D352","v":353},null,{"$f":"入力!$E$1","v":"villa中"},{"$f":"INDEX(入力!$A:$A,N352+2,1)","v":0},{"$f":"INDEX(入力!$B:$B,N352+2,1)","v":0},{"$f":"1+I352","v":354}]
[{"$f":"INDEX(入力!$E:$E,D352+2,1)","v":0},null,null,null,{"$f":"INDEX(入力!$Q:$Q,D352+2,1)","v":""},{"$f":"INDEX(入力!$E:$E,I352+2,1)","v":0},null,null,null,{"$f":"INDEX(入力!$Q:$Q,I352+2,1)","v":""},{"$f":"INDEX(入力!$E:$E,N352+2,1)","v":0},null,null,null,{"$f":"INDEX(入力!$Q:$Q,N352+2,1)","v":""}]
[null,null,"様",null,{"$f":"INDEX(入力!$G:$G,D352+2,1)","v":0},null,null,"様",null,{"$f":"INDEX(入力!$G:$G,I352+2,1)","v":0},null,null,"様",null,{"$f":"INDEX(入力!$G:$G,N352+2,1)","v":0}]
[{"$f":"入力!$E$1","v":"villa中"},{"$f":"INDEX(入力!$A:$A,D355+2,1)","v":0},{"$f":"INDEX(入力!$B:$B,D355+2,1)","v":0},{"$f":"D352+3","v":355},null,{"$f":"入力!$E$1","v":"villa中"},{"$f":"INDEX(入力!$A:$A,I355+2,1)","v":0},{"$f":"INDEX(入力!$B:$B,I355+2,1)","v":0},{"$f":"1+D355","v":356},null,{"$f":"入力!$E$1","v":"villa中"},{"$f":"INDEX(入力!$A:$A,N355+2,1)","v":0},{"$f":"INDEX(入力!$B:$B,N355+2,1)","v":0},{"$f":"1+I355","v":357}]
[{"$f":"INDEX(入力!$E:$E,D355+2,1)","v":0},null,null,null,{"$f":"INDEX(入力!$Q:$Q,D355+2,1)","v":""},{"$f":"INDEX(入力!$E:$E,I355+2,1)","v":0},null,null,null,{"$f":"INDEX(入力!$Q:$Q,I355+2,1)","v":""},{"$f":"INDEX(入力!$E:$E,N355+2,1)","v":0},null,null,null,{"$f":"INDEX(入力!$Q:$Q,N355+2,1)","v":""}]
[null,null,"様",null,{"$f":"INDEX(入力!$G:$G,D355+2,1)","v":0},null,null,"様",null,{"$f":"INDEX(入力!$G:$G,I355+2,1)","v":0},null,null,"様",null,{"$f":"INDEX(入力!$G:$G,N355+2,1)","v":0}]
[{"$f":"入力!$E$1","v":"villa中"},{"$f":"INDEX(入力!$A:$A,D358+2,1)","v":0},{"$f":"INDEX(入力!$B:$B,D358+2,1)","v":0},{"$f":"D355+3","v":358},null,{"$f":"入力!$E$1","v":"villa中"},{"$f":"INDEX(入力!$A:$A,I358+2,1)","v":0},{"$f":"INDEX(入力!$B:$B,I358+2,1)","v":0},{"$f":"1+D358","v":359},null,{"$f":"入力!$E$1","v":"villa中"},{"$f":"INDEX(入力!$A:$A,N358+2,1)","v":0},{"$f":"INDEX(入力!$B:$B,N358+2,1)","v":0},{"$f":"1+I358","v":360}]
[{"$f":"INDEX(入力!$E:$E,D358+2,1)","v":0},null,null,null,{"$f":"INDEX(入力!$Q:$Q,D358+2,1)","v":""},{"$f":"INDEX(入力!$E:$E,I358+2,1)","v":0},null,null,null,{"$f":"INDEX(入力!$Q:$Q,I358+2,1)","v":""},{"$f":"INDEX(入力!$E:$E,N358+2,1)","v":0},null,null,null,{"$f":"INDEX(入力!$Q:$Q,N358+2,1)","v":""}]
[null,null,"様",null,{"$f":"INDEX(入力!$G:$G,D358+2,1)","v":0},null,null,"様",null,{"$f":"INDEX(入力!$G:$G,I358+2,1)","v":0},null,null,"様",null,{"$f":"INDEX(入力!$G:$G,N358+2,1)","v":0}]
[{"$f":"入力!$E$1","v":"villa中"},{"$f":"INDEX(入力!$A:$A,D361+2,1)","v":0},{"$f":"INDEX(入力!$B:$B,D361+2,1)","v":0},{"$f":"D358+3","v":361},null,{"$f":"入力!$E$1","v":"villa中"},{"$f":"INDEX(入力!$A:$A,I361+2,1)","v":0},{"$f":"INDEX(入力!$B:$B,I361+2,1)","v":0},{"$f":"1+D361","v":362},null,{"$f":"入力!$E$1","v":"villa中"},{"$f":"INDEX(入力!$A:$A,N361+2,1)","v":0},{"$f":"INDEX(入力!$B:$B,N361+2,1)","v":0},{"$f":"1+I361","v":363}]
[{"$f":"INDEX(入力!$E:$E,D361+2,1)","v":0},null,null,null,{"$f":"INDEX(入力!$Q:$Q,D361+2,1)","v":""},{"$f":"INDEX(入力!$E:$E,I361+2,1)","v":0},null,null,null,{"$f":"INDEX(入力!$Q:$Q,I361+2,1)","v":""},{"$f":"INDEX(入力!$E:$E,N361+2,1)","v":0},null,null,null,{"$f":"INDEX(入力!$Q:$Q,N361+2,1)","v":""}]
[null,null,"様",null,{"$f":"INDEX(入力!$G:$G,D361+2,1)","v":0},null,null,"様",null,{"$f":"INDEX(入力!$G:$G,I361+2,1)","v":0},null,null,"様",null,{"$f":"INDEX(入力!$G:$G,N361+2,1)","v":0}]
[{"$f":"入力!$E$1","v":"villa中"},{"$f":"INDEX(入力!$A:$A,D364+2,1)","v":0},{"$f":"INDEX(入力!$B:$B,D364+2,1)","v":0},{"$f":"D361+3","v":364},null,{"$f":"入力!$E$1","v":"villa中"},{"$f":"INDEX(入力!$A:$A,I364+2,1)","v":0},{"$f":"INDEX(入力!$B:$B,I364+2,1)","v":0},{"$f":"1+D364","v":365},null,{"$f":"入力!$E$1","v":"villa中"},{"$f":"INDEX(入力!$A:$A,N364+2,1)","v":0},{"$f":"INDEX(入力!$B:$B,N364+2,1)","v":0},{"$f":"1+I364","v":366}]
[{"$f":"INDEX(入力!$E:$E,D364+2,1)","v":0},null,null,null,{"$f":"INDEX(入力!$Q:$Q,D364+2,1)","v":""},{"$f":"INDEX(入力!$E:$E,I364+2,1)","v":0},null,null,null,{"$f":"INDEX(入力!$Q:$Q,I364+2,1)","v":""},{"$f":"INDEX(入力!$E:$E,N364+2,1)","v":0},null,null,null,{"$f":"INDEX(入力!$Q:$Q,N364+2,1)","v":""}]
[null,null,"様",null,{"$f":"INDEX(入力!$G:$G,D364+2,1)","v":0},null,null,"様",null,{"$f":"INDEX(入力!$G:$G,I364+2,1)","v":0},null,null,"様",null,{"$f":"INDEX(入力!$G:$G,N364+2,1)","v":0}]
[{"$f":"入力!$E$1","v":"villa中"},{"$f":"INDEX(入力!$A:$A,D367+2,1)","v":0},{"$f":"INDEX(入力!$B:$B,D367+2,1)","v":0},{"$f":"D364+3","v":367},null,{"$f":"入力!$E$1","v":"villa中"},{"$f":"INDEX(入力!$A:$A,I367+2,1)","v":0},{"$f":"INDEX(入力!$B:$B,I367+2,1)","v":0},{"$f":"1+D367","v":368},null,{"$f":"入力!$E$1","v":"villa中"},{"$f":"INDEX(入力!$A:$A,N367+2,1)","v":0},{"$f":"INDEX(入力!$B:$B,N367+2,1)","v":0},{"$f":"1+I367","v":369}]
[{"$f":"INDEX(入力!$E:$E,D367+2,1)","v":0},null,null,null,{"$f":"INDEX(入力!$Q:$Q,D367+2,1)","v":""},{"$f":"INDEX(入力!$E:$E,I367+2,1)","v":0},null,null,null,{"$f":"INDEX(入力!$Q:$Q,I367+2,1)","v":""},{"$f":"INDEX(入力!$E:$E,N367+2,1)","v":0},null,null,null,{"$f":"INDEX(入力!$Q:$Q,N367+2,1)","v":""}]
[null,null,"様",null,{"$f":"INDEX(入力!$G:$G,D367+2,1)","v":0},null,null,"様",null,{"$f":"INDEX(入力!$G:$G,I367+2,1)","v":0},null,null,"様",null,{"$f":"INDEX(入力!$G:$G,N367+2,1)","v":0}]
[{"$f":"入力!$E$1","v":"villa中"},{"$f":"INDEX(入力!$A:$A,D370+2,1)","v":0},{"$f":"INDEX(入力!$B:$B,D370+2,1)","v":0},{"$f":"D367+3","v":370},null,{"$f":"入力!$E$1","v":"villa中"},{"$f":"INDEX(入力!$A:$A,I370+2,1)","v":0},{"$f":"INDEX(入力!$B:$B,I370+2,1)","v":0},{"$f":"1+D370","v":371},null,{"$f":"入力!$E$1","v":"villa中"},{"$f":"INDEX(入力!$A:$A,N370+2,1)","v":0},{"$f":"INDEX(入力!$B:$B,N370+2,1)","v":0},{"$f":"1+I370","v":372}]
[{"$f":"INDEX(入力!$E:$E,D370+2,1)","v":0},null,null,null,{"$f":"INDEX(入力!$Q:$Q,D370+2,1)","v":""},{"$f":"INDEX(入力!$E:$E,I370+2,1)","v":0},null,null,null,{"$f":"INDEX(入力!$Q:$Q,I370+2,1)","v":""},{"$f":"INDEX(入力!$E:$E,N370+2,1)","v":0},null,null,null,{"$f":"INDEX(入力!$Q:$Q,N370+2,1)","v":""}]
[null,null,"様",null,{"$f":"INDEX(入力!$G:$G,D370+2,1)","v":0},null,null,"様",null,{"$f":"INDEX(入力!$G:$G,I370+2,1)","v":0},null,null,"様",null,{"$f":"INDEX(入力!$G:$G,N370+2,1)","v":0}]
[{"$f":"入力!$E$1","v":"villa中"},{"$f":"INDEX(入力!$A:$A,D373+2,1)","v":0},{"$f":"INDEX(入力!$B:$B,D373+2,1)","v":0},{"$f":"D370+3","v":373},null,{"$f":"入力!$E$1","v":"villa中"},{"$f":"INDEX(入力!$A:$A,I373+2,1)","v":0},{"$f":"INDEX(入力!$B:$B,I373+2,1)","v":0},{"$f":"1+D373","v":374},null,{"$f":"入力!$E$1","v":"villa中"},{"$f":"INDEX(入力!$A:$A,N373+2,1)","v":0},{"$f":"INDEX(入力!$B:$B,N373+2,1)","v":0},{"$f":"1+I373","v":375}]
[{"$f":"INDEX(入力!$E:$E,D373+2,1)","v":0},null,null,null,{"$f":"INDEX(入力!$Q:$Q,D373+2,1)","v":""},{"$f":"INDEX(入力!$E:$E,I373+2,1)","v":0},null,null,null,{"$f":"INDEX(入力!$Q:$Q,I373+2,1)","v":""},{"$f":"INDEX(入力!$E:$E,N373+2,1)","v":0},null,null,null,{"$f":"INDEX(入力!$Q:$Q,N373+2,1)","v":""}]
[null,null,"様",null,{"$f":"INDEX(入力!$G:$G,D373+2,1)","v":0},null,null,"様",null,{"$f":"INDEX(入力!$G:$G,I373+2,1)","v":0},null,null,"様",null,{"$f":"INDEX(入力!$G:$G,N373+2,1)","v":0}]
[{"$f":"入力!$E$1","v":"villa中"},{"$f":"INDEX(入力!$A:$A,D376+2,1)","v":0},{"$f":"INDEX(入力!$B:$B,D376+2,1)","v":0},{"$f":"D373+3","v":376},null,{"$f":"入力!$E$1","v":"villa中"},{"$f":"INDEX(入力!$A:$A,I376+2,1)","v":0},{"$f":"INDEX(入力!$B:$B,I376+2,1)","v":0},{"$f":"1+D376","v":377},null,{"$f":"入力!$E$1","v":"villa中"},{"$f":"INDEX(入力!$A:$A,N376+2,1)","v":0},{"$f":"INDEX(入力!$B:$B,N376+2,1)","v":0},{"$f":"1+I376","v":378}]
[{"$f":"INDEX(入力!$E:$E,D376+2,1)","v":0},null,null,null,{"$f":"INDEX(入力!$Q:$Q,D376+2,1)","v":""},{"$f":"INDEX(入力!$E:$E,I376+2,1)","v":0},null,null,null,{"$f":"INDEX(入力!$Q:$Q,I376+2,1)","v":""},{"$f":"INDEX(入力!$E:$E,N376+2,1)","v":0},null,null,null,{"$f":"INDEX(入力!$Q:$Q,N376+2,1)","v":""}]
[null,null,"様",null,{"$f":"INDEX(入力!$G:$G,D376+2,1)","v":0},null,null,"様",null,{"$f":"INDEX(入力!$G:$G,I376+2,1)","v":0},null,null,"様",null,{"$f":"INDEX(入力!$G:$G,N376+2,1)","v":0}]
[{"$f":"入力!$E$1","v":"villa中"},{"$f":"INDEX(入力!$A:$A,D379+2,1)","v":0},{"$f":"INDEX(入力!$B:$B,D379+2,1)","v":0},{"$f":"D376+3","v":379},null,{"$f":"入力!$E$1","v":"villa中"},{"$f":"INDEX(入力!$A:$A,I379+2,1)","v":0},{"$f":"INDEX(入力!$B:$B,I379+2,1)","v":0},{"$f":"1+D379","v":380},null,{"$f":"入力!$E$1","v":"villa中"},{"$f":"INDEX(入力!$A:$A,N379+2,1)","v":0},{"$f":"INDEX(入力!$B:$B,N379+2,1)","v":0},{"$f":"1+I379","v":381}]
[{"$f":"INDEX(入力!$E:$E,D379+2,1)","v":0},null,null,null,{"$f":"INDEX(入力!$Q:$Q,D379+2,1)","v":""},{"$f":"INDEX(入力!$E:$E,I379+2,1)","v":0},null,null,null,{"$f":"INDEX(入力!$Q:$Q,I379+2,1)","v":""},{"$f":"INDEX(入力!$E:$E,N379+2,1)","v":0},null,null,null,{"$f":"INDEX(入力!$Q:$Q,N379+2,1)","v":""}]
[null,null,"様",null,{"$f":"INDEX(入力!$G:$G,D379+2,1)","v":0},null,null,"様",null,{"$f":"INDEX(入力!$G:$G,I379+2,1)","v":0},null,null,"様",null,{"$f":"INDEX(入力!$G:$G,N379+2,1)","v":0}]
[{"$f":"入力!$E$1","v":"villa中"},{"$f":"INDEX(入力!$A:$A,D382+2,1)","v":0},{"$f":"INDEX(入力!$B:$B,D382+2,1)","v":0},{"$f":"D379+3","v":382},null,{"$f":"入力!$E$1","v":"villa中"},{"$f":"INDEX(入力!$A:$A,I382+2,1)","v":0},{"$f":"INDEX(入力!$B:$B,I382+2,1)","v":0},{"$f":"1+D382","v":383},null,{"$f":"入力!$E$1","v":"villa中"},{"$f":"INDEX(入力!$A:$A,N382+2,1)","v":0},{"$f":"INDEX(入力!$B:$B,N382+2,1)","v":0},{"$f":"1+I382","v":384}]
[{"$f":"INDEX(入力!$E:$E,D382+2,1)","v":0},null,null,null,{"$f":"INDEX(入力!$Q:$Q,D382+2,1)","v":""},{"$f":"INDEX(入力!$E:$E,I382+2,1)","v":0},null,null,null,{"$f":"INDEX(入力!$Q:$Q,I382+2,1)","v":""},{"$f":"INDEX(入力!$E:$E,N382+2,1)","v":0},null,null,null,{"$f":"INDEX(入力!$Q:$Q,N382+2,1)","v":""}]
[null,null,"様",null,{"$f":"INDEX(入力!$G:$G,D382+2,1)","v":0},null,null,"様",null,{"$f":"INDEX(入力!$G:$G,I382+2,1)","v":0},null,null,"様",null,{"$f":"INDEX(入力!$G:$G,N382+2,1)","v":0}]

{"sheet":"ウェアラベル","index":3,"n_rows":393,"n_cols":15,"rows_kept":393,"cut":false,"hidden":false,"merged":[[391,0,391,3],[391,5,391,8],[391,10,391,13],[392,2,392,3],[392,7,392,8],[392,12,392,13],[386,2,386,3],[386,7,386,8],[386,12,386,13],[388,0,388,3],[388,5,388,8],[388,10,388,13],[389,2,389,3],[389,7,389,8],[389,12,389,13],[382,0,382,3],[382,5,382,8],[382,10,382,13],[383,2,383,3],[383,7,383,8],[383,12,383,13],[385,0,385,3],[385,5,385,8],[385,10,385,13],[377,2,377,3],[377,7,377,8],[377,12,377,13],[379,0,379,3],[379,5,379,8],[379,10,379,13],[380,2,380,3],[380,7,380,8],[380,12,380,13],[373,0,373,3],[373,5,373,8],[373,10,373,13],[374,2,374,3],[374,7,374,8],[374,12,374,13],[376,0,376,3],[376,5,376,8],[376,10,376,13],[368,2,368,3],[368,7,368,8],[368,12,368,13],[370,0,370,3],[370,5,370,8],[370,10,370,13],[371,2,371,3],[371,7,371,8],[371,12,371,13],[364,0,364,3],[364,5,364,8],[364,10,364,13],[365,2,365,3],[365,7,365,8],[365,12,365,13],[367,0,367,3],[367,5,367,8],[367,10,367,13],[359,2,359,3],[359,7,359,8],[359,12,359,13],[361,0,361,3],[361,5,361,8],[361,10,361,13],[362,2,362,3],[362,7,362,8],[362,12,362,13],[355,0,355,3],[355,5,355,8],[355,10,355,13],[356,2,356,3],[356,7,356,8],[356,12,356,13],[358,0,358,3],[358,5,358,8],[358,10,358,13],[350,2,350,3],[350,7,350,8],[350,12,350,13],[352,0,352,3],[352,5,352,8],[352,10,352,13],[353,2,353,3],[353,7,353,8],[353,12,353,13],[346,0,346,3],[346,5,346,8],[346,10,346,13],[347,2,347,3],[347,7,347,8],[347,12,347,13],[349,0,349,3],[349,5,349,8],[349,10,349,13],[341,2,341,3],[341,7,341,8],[341,12,341,13],[343,0,343,3],[343,5,343,8],[343,10,343,13],[344,2,344,3],[344,7,344,8],[344,12,344,13],[337,0,337,3],[337,5,337,8],[337,10,337,13],[338,2,338,3],[338,7,338,8],[338,12,338,13],[340,0,340,3],[340,5,340,8],[340,10,340,13],[332,2,332,3],[332,7,332,8],[332,12,332,13],[334,0,334,3],[334,5,334,8],[334,10,334,13],[335,2,335,3],[335,7,335,8],[335,12,335,13],[328,0,328,3],[328,5,328,8],[328,10,328,13],[329,2,329,3],[329,7,329,8],[329,12,329,13],[331,0,331,3],[331,5,331,8],[331,10,331,13],[323,2,323,3],[323,7,323,8],[323,12,323,13],[325,0,325,3],[325,5,325,8],[325,10,325,13],[326,2,326,3],[326,7,326,8],[326,12,326,13],[319,0,319,3],[319,5,319,8],[319,10,319,13],[320,2,320,3],[320,7,320,8],[320,12,320,13],[322,0,322,3],[322,5,322,8],[322,10,322,13],[314,2,314,3],[314,7,314,8],[314,12,314,13],[316,0,316,3],[316,5,316,8],[316,10,316,13],[317,2,317,3],[317,7,317,8],[317,12,317,13],[310,0,310,3],[310,5,310,8],[310,10,310,13],[311,2,311,3],[311,7,311,8],[311,12,311,13],[313,0,313,3],[313,5,313,8],[313,10,313,13],[305,2,305,3],[305,7,305,8],[305,12,305,13],[307,0,307,3],[307,5,307,8],[307,10,307,13],[308,2,308,3],[308,7,308,8],[308,12,308,13],[301,0,301,3],[301,5,301,8],[301,10,301,13],[302,2,302,3],[302,7,302,8],[302,12,302,13],[304,0,304,3],[304,5,304,8],[304,10,304,13],[296,2,296,3],[296,7,296,8],[296,12,296,13],[298,0,298,3],[298,5,298,8],[298,10,298,13],[299,2,299,3],[299,7,299,8],[299,12,299,13],[292,0,292,3],[292,5,292,8],[292,10,292,13],[293,2,293,3],[293,7,293,8],[293,12,293,13],[295,0,295,3],[295,5,295,8],[295,10,295,13],[287,2,287,3],[287,7,287,8],[287,12,287,13],[289,0,289,3],[289,5,289,8],[289,10,289,13],[290,2,290,3],[290,7,290,8],[290,12,290,13],[283,0,283,3],[283,5,283,8],[283,10,283,13],[284,2,284,3],[284,7,284,8],[284,12,284,13],[286,0,286,3],[286,5,286,8],[286,10,286,13],[278,2,278,3],[278,7,278,8],[278,12,278,13],[280,0,280,3],[280,5,280,8],[280,10,280,13],[281,2,281,3],[281,7,281,8],[281,12,281,13],[274,0,274,3],[274,5,274,8],[274,10,274,13],[275,2,275,3],[275,7,275,8],[275,12,275,13],[277,0,277,3],[277,5,277,8],[277,10,277,13],[269,2,269,3],[269,7,269,8],[269,12,269,13],[271,0,271,3],[271,5,271,8],[271,10,271,13],[272,2,272,3],[272,7,272,8],[272,12,272,13],[265,0,265,3],[265,5,265,8],[265,10,265,13],[266,2,266,3],[266,7,266,8],[266,12,266,13],[268,0,268,3],[268,5,268,8],[268,10,268,13],[260,2,260,3],[260,7,260,8],[260,12,260,13],[262,0,262,3],[262,5,262,8],[262,10,262,13],[263,2,263,3],[263,7,263,8],[263,12,263,13],[256,0,256,3],[256,5,256,8],[256,10,256,13],[257,2,257,3],[257,7,257,8],[257,12,257,13],[259,0,259,3],[259,5,259,8],[259,10,259,13],[251,2,251,3],[251,7,251,8],[251,12,251,13],[253,0,253,3],[253,5,253,8],[253,10,253,13],[254,2,254,3],[254,7,254,8],[254,12,254,13],[247,0,247,3],[247,5,247,8],[247,10,247,13],[248,2,248,3],[248,7,248,8],[248,12,248,13],[250,0,250,3],[250,5,250,8],[250,10,250,13],[242,2,242,3],[242,7,242,8],[242,12,242,13],[244,0,244,3],[244,5,244,8],[244,10,244,13],[245,2,245,3],[245,7,245,8],[245,12,245,13],[238,0,238,3],[238,5,238,8],[238,10,238,13],[239,2,239,3],[239,7,239,8],[239,12,239,13],[241,0,241,3],[241,5,241,8],[241,10,241,13],[233,2,233,3],[233,7,233,8],[233,12,233,13],[235,0,235,3],[235,5,235,8],[235,10,235,13],[236,2,236,3],[236,7,236,8],[236,12,236,13],[229,0,229,3],[229,5,229,8],[229,10,229,13],[230,2,230,3],[230,7,230,8],[230,12,230,13],[232,0,232,3],[232,5,232,8],[232,10,232,13],[224,2,224,3],[224,7,224,8],[224,12,224,13],[226,0,226,3],[226,5,226,8],[226,10,226,13],[227,2,227,3],[227,7,227,8],[227,12,227,13],[220,0,220,3],[220,5,220,8],[220,10,220,13],[221,2,221,3],[221,7,221,8],[221,12,221,13],[223,0,223,3],[223,5,223,8],[223,10,223,13],[215,2,215,3],[215,7,215,8],[215,12,215,13],[217,0,217,3],[217,5,217,8],[217,10,217,13],[218,2,218,3],[218,7,218,8],[218,12,218,13],[211,0,211,3],[211,5,211,8],[211,10,211,13],[212,2,212,3],[212,7,212,8],[212,12,212,13],[214,0,214,3],[214,5,214,8],[214,10,214,13],[206,2,206,3],[206,7,206,8],[206,12,206,13],[208,0,208,3],[208,5,208,8],[208,10,208,13],[209,2,209,3],[209,7,209,8],[209,12,209,13],[202,0,202,3],[202,5,202,8],[202,10,202,13],[203,2,203,3],[203,7,203,8],[203,12,203,13],[205,0,205,3],[205,5,205,8],[205,10,205,13],[197,2,197,3],[197,7,197,8],[197,12,197,13],[199,0,199,3],[199,5,199,8],[199,10,199,13],[200,2,200,3],[200,7,200,8],[200,12,200,13],[193,0,193,3],[193,5,193,8],[193,10,193,13],[194,2,194,3],[194,7,194,8],[194,12,194,13],[196,0,196,3],[196,5,196,8],[196,10,196,13],[188,2,188,3],[188,7,188,8],[188,12,188,13],[190,0,190,3],[190,5,190,8],[190,10,190,13],[191,2,191,3],[191,7,191,8],[191,12,191,13],[184,0,184,3],[184,5,184,8],[184,10,184,13],[185,2,185,3],[185,7,185,8],[185,12,185,13],[187,0,187,3],[187,5,187,8],[187,10,187,13],[179,2,179,3],[179,7,179,8],[179,12,179,13],[181,0,181,3],[181,5,181,8],[181,10,181,13],[182,2,182,3],[182,7,182,8],[182,12,182,13],[175,0,175,3],[175,5,175,8],[175,10,175,13],[176,2,176,3],[176,7,176,8],[176,12,176,13],[178,0,178,3],[178,5,178,8],[178,10,178,13],[170,2,170,3],[170,7,170,8],[170,12,170,13],[172,0,172,3],[172,5,172,8],[172,10,172,13],[173,2,173,3],[173,7,173,8],[173,12,173,13],[166,0,166,3],[166,5,166,8],[166,10,166,13],[167,2,167,3],[167,7,167,8],[167,12,167,13],[169,0,169,3],[169,5,169,8],[169,10,169,13],[161,2,161,3],[161,7,161,8],[161,12,161,13],[163,0,163,3],[163,5,163,8],[163,10,163,13],[164,2,164,3],[164,7,164,8],[164,12,164,13],[157,0,157,3],[157,5,157,8],[157,10,157,13],[158,2,158,3],[158,7,158,8],[158,12,158,13],[160,0,160,3],[160,5,160,8],[160,10,160,13],[152,2,152,3],[152,7,152,8],[152,12,152,13],[154,0,154,3],[154,5,154,8],[154,10,154,13],[155,2,155,3],[155,7,155,8],[155,12,155,13],[148,0,148,3],[148,5,148,8],[148,10,148,13],[149,2,149,3],[149,7,149,8],[149,12,149,13],[151,0,151,3],[151,5,151,8],[151,10,151,13],[143,2,143,3],[143,7,143,8],[143,12,143,13],[145,0,145,3],[145,5,145,8],[145,10,145,13],[146,2,146,3],[146,7,146,8],[146,12,146,13],[139,0,139,3],[139,5,139,8],[139,10,139,13],[140,2,140,3],[140,7,140,8],[140,12,140,13],[142,0,142,3],[142,5,142,8],[142,10,142,13],[134,2,134,3],[134,7,134,8],[134,12,134,13],[136,0,136,3],[136,5,136,8],[136,10,136,13],[137,2,137,3],[137,7,137,8],[137,12,137,13],[130,0,130,3],[130,5,130,8],[130,10,130,13],[131,2,131,3],[131,7,131,8],[131,12,131,13],[133,0,133,3],[133,5,133,8],[133,10,133,13],[125,2,125,3],[125,7,125,8],[125,12,125,13],[127,0,127,3],[127,5,127,8],[127,10,127,13],[128,2,128,3],[128,7,128,8],[128,12,128,13],[121,0,121,3],[121,5,121,8],[121,10,121,13],[122,2,122,3],[122,7,122,8],[122,12,122,13],[124,0,124,3],[124,5,124,8],[124,10,124,13],[116,2,116,3],[116,7,116,8],[116,12,116,13],[118,0,118,3],[118,5,118,8],[118,10,118,13],[119,2,119,3],[119,7,119,8],[119,12,119,13],[112,0,112,3],[112,5,112,8],[112,10,112,13],[113,2,113,3],[113,7,113,8],[113,12,113,13],[115,0,115,3],[115,5,115,8],[115,10,115,13],[20,12,20,13],[22,0,22,3],[22,5,22,8],[22,10,22,13],[17,7,17,8],[17,12,17,13],[19,0,19,3],[19,5,19,8],[19,10,19,13],[8,2,8,3],[8,7,8,8],[8,12,8,13],[10,0,10,3],[10,5,10,8],[10,10,10,13],[4,10,4,13],[5,12,5,13],[7,0,7,3],[7,5,7,8],[7,10,7,13],[1,5,1,8],[2,7,2,8],[1,10,1,13],[2,12,2,13],[4,0,4,3],[5,2,5,3],[1,0,1,3],[2,2,2,3],[4,5,4,8],[5,7,5,8],[25,0,25,3],[25,5,25,8],[25,10,25,13],[26,2,26,3],[26,7,26,8],[26,12,26,13],[11,2,11,3],[11,7,11,8],[11,12,11,13],[23,2,23,3],[23,7,23,8],[23,12,23,13],[13,0,13,3],[13,5,13,8],[13,10,13,13],[14,2,14,3],[14,7,14,8],[14,12,14,13],[16,0,16,3],[16,5,16,8],[16,10,16,13],[17,2,17,3],[20,2,20,3],[20,7,20,8],[31,0,31,3],[31,5,31,8],[31,10,31,13],[32,2,32,3],[32,7,32,8],[32,12,32,13],[28,0,28,3],[28,5,28,8],[28,10,28,13],[29,2,29,3],[29,7,29,8],[29,12,29,13],[37,0,37,3],[37,5,37,8],[37,10,37,13],[38,2,38,3],[38,7,38,8],[38,12,38,13],[34,0,34,3],[34,5,34,8],[34,10,34,13],[35,2,35,3],[35,7,35,8],[35,12,35,13],[43,0,43,3],[43,5,43,8],[43,10,43,13],[44,2,44,3],[44,7,44,8],[44,12,44,13],[40,0,40,3],[40,5,40,8],[40,10,40,13],[41,2,41,3],[41,7,41,8],[41,12,41,13],[49,0,49,3],[49,5,49,8],[49,10,49,13],[50,2,50,3],[50,7,50,8],[50,12,50,13],[46,0,46,3],[46,5,46,8],[46,10,46,13],[47,2,47,3],[47,7,47,8],[47,12,47,13],[55,0,55,3],[55,5,55,8],[55,10,55,13],[56,2,56,3],[56,7,56,8],[56,12,56,13],[52,0,52,3],[52,5,52,8],[52,10,52,13],[53,2,53,3],[53,7,53,8],[53,12,53,13],[61,0,61,3],[61,5,61,8],[61,10,61,13],[62,2,62,3],[62,7,62,8],[62,12,62,13],[58,0,58,3],[58,5,58,8],[58,10,58,13],[59,2,59,3],[59,7,59,8],[59,12,59,13],[67,0,67,3],[67,5,67,8],[67,10,67,13],[68,2,68,3],[68,7,68,8],[68,12,68,13],[64,0,64,3],[64,5,64,8],[64,10,64,13],[65,2,65,3],[65,7,65,8],[65,12,65,13],[73,0,73,3],[73,5,73,8],[73,10,73,13],[74,2,74,3],[74,7,74,8],[74,12,74,13],[70,0,70,3],[70,5,70,8],[70,10,70,13],[71,2,71,3],[71,7,71,8],[71,12,71,13],[79,0,79,3],[79,5,79,8],[79,10,79,13],[80,2,80,3],[80,7,80,8],[80,12,80,13],[76,0,76,3],[76,5,76,8],[76,10,76,13],[77,2,77,3],[77,7,77,8],[77,12,77,13],[85,0,85,3],[85,5,85,8],[85,10,85,13],[86,2,86,3],[86,7,86,8],[86,12,86,13],[82,0,82,3],[82,5,82,8],[82,10,82,13],[83,2,83,3],[83,7,83,8],[83,12,83,13],[91,0,91,3],[91,5,91,8],[91,10,91,13],[92,2,92,3],[92,7,92,8],[92,12,92,13],[88,0,88,3],[88,5,88,8],[88,10,88,13],[89,2,89,3],[89,7,89,8],[89,12,89,13],[97,0,97,3],[97,5,97,8],[97,10,97,13],[98,2,98,3],[98,7,98,8],[98,12,98,13],[94,0,94,3],[94,5,94,8],[94,10,94,13],[95,2,95,3],[95,7,95,8],[95,12,95,13],[103,0,103,3],[103,5,103,8],[103,10,103,13],[104,2,104,3],[104,7,104,8],[104,12,104,13],[100,0,100,3],[100,5,100,8],[100,10,100,13],[101,2,101,3],[101,7,101,8],[101,12,101,13],[109,0,109,3],[109,5,109,8],[109,10,109,13],[110,2,110,3],[110,7,110,8],[110,12,110,13],[106,0,106,3],[106,5,106,8],[106,10,106,13],[107,2,107,3],[107,7,107,8],[107,12,107,13]]}
[{"$f":"入力!$E$1","v":"villa中"},{"$f":"INDEX(入力!$A:$A,D1+2,1)","v":1},{"$f":"INDEX(入力!$B:$B,D1+2,1)","v":1},1,{"$f":"INDEX(入力!$C:$C,D1+2,1)","v":620},{"$f":"入力!$E$1","v":"villa中"},{"$f":"INDEX(入力!$A:$A,I1+2,1)","v":0},{"$f":"INDEX(入力!$B:$B,I1+2,1)","v":0},{"$f":"1+D1","v":2},{"$f":"INDEX(入力!$C:$C,I1+2,1)","v":0},{"$f":"入力!$E$1","v":"villa中"},{"$f":"INDEX(入力!$A:$A,N1+2,1)","v":0},{"$f":"INDEX(入力!$B:$B,N1+2,1)","v":0},{"$f":"1+I1","v":3},{"$f":"INDEX(入力!$C:$C,N1+2,1)","v":0}]
[{"$f":"INDEX(入力!$E:$E,D1+2,1)","v":"磐梯たろう"},null,null,null,{"$f":"INDEX(入力!$H:$H,D1+2,1)","v":"L"},{"$f":"INDEX(入力!$E:$E,I1+2,1)","v":0},null,null,null,{"$f":"INDEX(入力!$H:$H,I1+2,1)","v":""},{"$f":"INDEX(入力!$E:$E,N1+2,1)","v":0},null,null,null,{"$f":"INDEX(入力!$H:$H,N1+2,1)","v":""}]
[null,null,"様",null,{"$f":"INDEX(入力!$F:$F,D1+2,1)","v":165},null,null,"様",null,{"$f":"INDEX(入力!$F:$F,I1+2,1)","v":0},null,null,"様",null,{"$f":"INDEX(入力!$F:$F,N1+2,1)","v":0}]
[{"$f":"入力!$E$1","v":"villa中"},{"$f":"INDEX(入力!$A:$A,D4+2,1)","v":0},{"$f":"INDEX(入力!$B:$B,D4+2,1)","v":0},{"$f":"D1+3","v":4},{"$f":"INDEX(入力!$C:$C,D4+2,1)","v":0},{"$f":"入力!$E$1","v":"villa中"},{"$f":"INDEX(入力!$A:$A,I4+2,1)","v":0},{"$f":"INDEX(入力!$B:$B,I4+2,1)","v":0},{"$f":"1+D4","v":5},{"$f":"INDEX(入力!$C:$C,I4+2,1)","v":0},{"$f":"入力!$E$1","v":"villa中"},{"$f":"INDEX(入力!$A:$A,N4+2,1)","v":0},{"$f":"INDEX(入力!$B:$B,N4+2,1)","v":0},{"$f":"1+I4","v":6},{"$f":"INDEX(入力!$C:$C,N4+2,1)","v":0}]
[{"$f":"INDEX(入力!$E:$E,D4+2,1)","v":0},null,null,null,{"$f":"INDEX(入力!$H:$H,D4+2,1)","v":""},{"$f":"INDEX(入力!$E:$E,I4+2,1)","v":0},null,null,null,{"$f":"INDEX(入力!$H:$H,I4+2,1)","v":""},{"$f":"INDEX(入力!$E:$E,N4+2,1)","v":0},null,null,null,{"$f":"INDEX(入力!$H:$H,N4+2,1)","v":""}]
[null,null,"様",null,{"$f":"INDEX(入力!$F:$F,D4+2,1)","v":0},null,null,"様",null,{"$f":"INDEX(入力!$F:$F,I4+2,1)","v":0},null,null,"様",null,{"$f":"INDEX(入力!$F:$F,N4+2,1)","v":0}]
[{"$f":"入力!$E$1","v":"villa中"},{"$f":"INDEX(入力!$A:$A,D7+2,1)","v":0},{"$f":"INDEX(入力!$B:$B,D7+2,1)","v":0},{"$f":"D4+3","v":7},{"$f":"INDEX(入力!$C:$C,D7+2,1)","v":0},{"$f":"入力!$E$1","v":"villa中"},{"$f":"INDEX(入力!$A:$A,I7+2,1)","v":0},{"$f":"INDEX(入力!$B:$B,I7+2,1)","v":0},{"$f":"1+D7","v":8},{"$f":"INDEX(入力!$C:$C,I7+2,1)","v":0},{"$f":"入力!$E$1","v":"villa中"},{"$f":"INDEX(入力!$A:$A,N7+2,1)","v":0},{"$f":"INDEX(入力!$B:$B,N7+2,1)","v":0},{"$f":"1+I7","v":9},{"$f":"INDEX(入力!$C:$C,N7+2,1)","v":0}]
[{"$f":"INDEX(入力!$E:$E,D7+2,1)","v":0},null,null,null,{"$f":"INDEX(入力!$H:$H,D7+2,1)","v":""},{"$f":"INDEX(入力!$E:$E,I7+2,1)","v":0},null,null,null,{"$f":"INDEX(入力!$H:$H,I7+2,1)","v":""},{"$f":"INDEX(入力!$E:$E,N7+2,1)","v":0},null,null,null,{"$f":"INDEX(入力!$H:$H,N7+2,1)","v":""}]
[null,null,"様",null,{"$f":"INDEX(入力!$F:$F,D7+2,1)","v":0},null,null,"様",null,{"$f":"INDEX(入力!$F:$F,I7+2,1)","v":0},null,null,"様",null,{"$f":"INDEX(入力!$F:$F,N7+2,1)","v":0}]
[{"$f":"入力!$E$1","v":"villa中"},{"$f":"INDEX(入力!$A:$A,D10+2,1)","v":0},{"$f":"INDEX(入力!$B:$B,D10+2,1)","v":0},{"$f":"D7+3","v":10},{"$f":"INDEX(入力!$C:$C,D10+2,1)","v":0},{"$f":"入力!$E$1","v":"villa中"},{"$f":"INDEX(入力!$A:$A,I10+2,1)","v":0},{"$f":"INDEX(入力!$B:$B,I10+2,1)","v":0},{"$f":"1+D10","v":11},{"$f":"INDEX(入力!$C:$C,I10+2,1)","v":0},{"$f":"入力!$E$1","v":"villa中"},{"$f":"INDEX(入力!$A:$A,N10+2,1)","v":0},{"$f":"INDEX(入力!$B:$B,N10+2,1)","v":0},{"$f":"1+I10","v":12},{"$f":"INDEX(入力!$C:$C,N10+2,1)","v":0}]
[{"$f":"INDEX(入力!$E:$E,D10+2,1)","v":0},null,null,null,{"$f":"INDEX(入力!$H:$H,D10+2,1)","v":""},{"$f":"INDEX(入力!$E:$E,I10+2,1)","v":0},null,null,null,{"$f":"INDEX(入力!$H:$H,I10+2,1)","v":""},{"$f":"INDEX(入力!$E:$E,N10+2,1)","v":0},null,null,null,{"$f":"INDEX(入力!$H:$H,N10+2,1)","v":""}]
[null,null,"様",null,{"$f":"INDEX(入力!$F:$F,D10+2,1)","v":0},null,null,"様",null,{"$f":"INDEX(入力!$F:$F,I10+2,1)","v":0},null,null,"様",null,{"$f":"INDEX(入力!$F:$F,N10+2,1)","v":0}]
[{"$f":"入力!$E$1","v":"villa中"},{"$f":"INDEX(入力!$A:$A,D13+2,1)","v":0},{"$f":"INDEX(入力!$B:$B,D13+2,1)","v":0},{"$f":"D10+3","v":13},{"$f":"INDEX(入力!$C:$C,D13+2,1)","v":0},{"$f":"入力!$E$1","v":"villa中"},{"$f":"INDEX(入力!$A:$A,I13+2,1)","v":0},{"$f":"INDEX(入力!$B:$B,I13+2,1)","v":0},{"$f":"1+D13","v":14},{"$f":"INDEX(入力!$C:$C,I13+2,1)","v":0},{"$f":"入力!$E$1","v":"villa中"},{"$f":"INDEX(入力!$A:$A,N13+2,1)","v":0},{"$f":"INDEX(入力!$B:$B,N13+2,1)","v":0},{"$f":"1+I13","v":15},{"$f":"INDEX(入力!$C:$C,N13+2,1)","v":0}]
[{"$f":"INDEX(入力!$E:$E,D13+2,1)","v":0},null,null,null,{"$f":"INDEX(入力!$H:$H,D13+2,1)","v":""},{"$f":"INDEX(入力!$E:$E,I13+2,1)","v":0},null,null,null,{"$f":"INDEX(入力!$H:$H,I13+2,1)","v":""},{"$f":"INDEX(入力!$E:$E,N13+2,1)","v":0},null,null,null,{"$f":"INDEX(入力!$H:$H,N13+2,1)","v":""}]
[null,null,"様",null,{"$f":"INDEX(入力!$F:$F,D13+2,1)","v":0},null,null,"様",null,{"$f":"INDEX(入力!$F:$F,I13+2,1)","v":0},null,null,"様",null,{"$f":"INDEX(入力!$F:$F,N13+2,1)","v":0}]
[{"$f":"入力!$E$1","v":"villa中"},{"$f":"INDEX(入力!$A:$A,D16+2,1)","v":0},{"$f":"INDEX(入力!$B:$B,D16+2,1)","v":0},{"$f":"D13+3","v":16},{"$f":"INDEX(入力!$C:$C,D16+2,1)","v":0},{"$f":"入力!$E$1","v":"villa中"},{"$f":"INDEX(入力!$A:$A,I16+2,1)","v":0},{"$f":"INDEX(入力!$B:$B,I16+2,1)","v":0},{"$f":"1+D16","v":17},{"$f":"INDEX(入力!$C:$C,I16+2,1)","v":0},{"$f":"入力!$E$1","v":"villa中"},{"$f":"INDEX(入力!$A:$A,N16+2,1)","v":0},{"$f":"INDEX(入力!$B:$B,N16+2,1)","v":0},{"$f":"1+I16","v":18},{"$f":"INDEX(入力!$C:$C,N16+2,1)","v":0}]
[{"$f":"INDEX(入力!$E:$E,D16+2,1)","v":0},null,null,null,{"$f":"INDEX(入力!$H:$H,D16+2,1)","v":""},{"$f":"INDEX(入力!$E:$E,I16+2,1)","v":0},null,null,null,{"$f":"INDEX(入力!$H:$H,I16+2,1)","v":""},{"$f":"INDEX(入力!$E:$E,N16+2,1)","v":0},null,null,null,{"$f":"INDEX(入力!$H:$H,N16+2,1)","v":""}]
[null,null,"様",null,{"$f":"INDEX(入力!$F:$F,D16+2,1)","v":0},null,null,"様",null,{"$f":"INDEX(入力!$F:$F,I16+2,1)","v":0},null,null,"様",null,{"$f":"INDEX(入力!$F:$F,N16+2,1)","v":0}]
[{"$f":"入力!$E$1","v":"villa中"},{"$f":"INDEX(入力!$A:$A,D19+2,1)","v":0},{"$f":"INDEX(入力!$B:$B,D19+2,1)","v":0},{"$f":"D16+3","v":19},{"$f":"INDEX(入力!$C:$C,D19+2,1)","v":0},{"$f":"入力!$E$1","v":"villa中"},{"$f":"INDEX(入力!$A:$A,I19+2,1)","v":0},{"$f":"INDEX(入力!$B:$B,I19+2,1)","v":0},{"$f":"1+D19","v":20},{"$f":"INDEX(入力!$C:$C,I19+2,1)","v":0},{"$f":"入力!$E$1","v":"villa中"},{"$f":"INDEX(入力!$A:$A,N19+2,1)","v":0},{"$f":"INDEX(入力!$B:$B,N19+2,1)","v":0},{"$f":"1+I19","v":21},{"$f":"INDEX(入力!$C:$C,N19+2,1)","v":0}]
[{"$f":"INDEX(入力!$E:$E,D19+2,1)","v":0},null,null,null,{"$f":"INDEX(入力!$H:$H,D19+2,1)","v":""},{"$f":"INDEX(入力!$E:$E,I19+2,1)","v":0},null,null,null,{"$f":"INDEX(入力!$H:$H,I19+2,1)","v":""},{"$f":"INDEX(入力!$E:$E,N19+2,1)","v":0},null,null,null,{"$f":"INDEX(入力!$H:$H,N19+2,1)","v":""}]
[null,null,"様",null,{"$f":"INDEX(入力!$F:$F,D19+2,1)","v":0},null,null,"様",null,{"$f":"INDEX(入力!$F:$F,I19+2,1)","v":0},null,null,"様",null,{"$f":"INDEX(入力!$F:$F,N19+2,1)","v":0}]
[{"$f":"入力!$E$1","v":"villa中"},{"$f":"INDEX(入力!$A:$A,D22+2,1)","v":0},{"$f":"INDEX(入力!$B:$B,D22+2,1)","v":0},{"$f":"D19+3","v":22},{"$f":"INDEX(入力!$C:$C,D22+2,1)","v":0},{"$f":"入力!$E$1","v":"villa中"},{"$f":"INDEX(入力!$A:$A,I22+2,1)","v":0},{"$f":"INDEX(入力!$B:$B,I22+2,1)","v":0},{"$f":"1+D22","v":23},{"$f":"INDEX(入力!$C:$C,I22+2,1)","v":0},{"$f":"入力!$E$1","v":"villa中"},{"$f":"INDEX(入力!$A:$A,N22+2,1)","v":0},{"$f":"INDEX(入力!$B:$B,N22+2,1)","v":0},{"$f":"1+I22","v":24},{"$f":"INDEX(入力!$C:$C,N22+2,1)","v":0}]
[{"$f":"INDEX(入力!$E:$E,D22+2,1)","v":0},null,null,null,{"$f":"INDEX(入力!$H:$H,D22+2,1)","v":""},{"$f":"INDEX(入力!$E:$E,I22+2,1)","v":0},null,null,null,{"$f":"INDEX(入力!$H:$H,I22+2,1)","v":""},{"$f":"INDEX(入力!$E:$E,N22+2,1)","v":0},null,null,null,{"$f":"INDEX(入力!$H:$H,N22+2,1)","v":""}]
[null,null,"様",null,{"$f":"INDEX(入力!$F:$F,D22+2,1)","v":0},null,null,"様",null,{"$f":"INDEX(入力!$F:$F,I22+2,1)","v":0},null,null,"様",null,{"$f":"INDEX(入力!$F:$F,N22+2,1)","v":0}]
[{"$f":"入力!$E$1","v":"villa中"},{"$f":"INDEX(入力!$A:$A,D25+2,1)","v":0},{"$f":"INDEX(入力!$B:$B,D25+2,1)","v":0},{"$f":"D22+3","v":25},{"$f":"INDEX(入力!$C:$C,D25+2,1)","v":0},{"$f":"入力!$E$1","v":"villa中"},{"$f":"INDEX(入力!$A:$A,I25+2,1)","v":0},{"$f":"INDEX(入力!$B:$B,I25+2,1)","v":0},{"$f":"1+D25","v":26},{"$f":"INDEX(入力!$C:$C,I25+2,1)","v":0},{"$f":"入力!$E$1","v":"villa中"},{"$f":"INDEX(入力!$A:$A,N25+2,1)","v":0},{"$f":"INDEX(入力!$B:$B,N25+2,1)","v":0},{"$f":"1+I25","v":27},{"$f":"INDEX(入力!$C:$C,N25+2,1)","v":0}]
[{"$f":"INDEX(入力!$E:$E,D25+2,1)","v":0},null,null,null,{"$f":"INDEX(入力!$H:$H,D25+2,1)","v":""},{"$f":"INDEX(入力!$E:$E,I25+2,1)","v":0},null,null,null,{"$f":"INDEX(入力!$H:$H,I25+2,1)","v":""},{"$f":"INDEX(入力!$E:$E,N25+2,1)","v":0},null,null,null,{"$f":"INDEX(入力!$H:$H,N25+2,1)","v":""}]
[null,null,"様",null,{"$f":"INDEX(入力!$F:$F,D25+2,1)","v":0},null,null,"様",null,{"$f":"INDEX(入力!$F:$F,I25+2,1)","v":0},null,null,"様",null,{"$f":"INDEX(入力!$F:$F,N25+2,1)","v":0}]
[{"$f":"入力!$E$1","v":"villa中"},{"$f":"INDEX(入力!$A:$A,D28+2,1)","v":0},{"$f":"INDEX(入力!$B:$B,D28+2,1)","v":0},{"$f":"D25+3","v":28},{"$f":"INDEX(入力!$C:$C,D28+2,1)","v":0},{"$f":"入力!$E$1","v":"villa中"},{"$f":"INDEX(入力!$A:$A,I28+2,1)","v":0},{"$f":"INDEX(入力!$B:$B,I28+2,1)","v":0},{"$f":"1+D28","v":29},{"$f":"INDEX(入力!$C:$C,I28+2,1)","v":0},{"$f":"入力!$E$1","v":"villa中"},{"$f":"INDEX(入力!$A:$A,N28+2,1)","v":0},{"$f":"INDEX(入力!$B:$B,N28+2,1)","v":0},{"$f":"1+I28","v":30},{"$f":"INDEX(入力!$C:$C,N28+2,1)","v":0}]
[{"$f":"INDEX(入力!$E:$E,D28+2,1)","v":0},null,null,null,{"$f":"INDEX(入力!$H:$H,D28+2,1)","v":""},{"$f":"INDEX(入力!$E:$E,I28+2,1)","v":0},null,null,null,{"$f":"INDEX(入力!$H:$H,I28+2,1)","v":""},{"$f":"INDEX(入力!$E:$E,N28+2,1)","v":0},null,null,null,{"$f":"INDEX(入力!$H:$H,N28+2,1)","v":""}]
[null,null,"様",null,{"$f":"INDEX(入力!$F:$F,D28+2,1)","v":0},null,null,"様",null,{"$f":"INDEX(入力!$F:$F,I28+2,1)","v":0},null,null,"様",null,{"$f":"INDEX(入力!$F:$F,N28+2,1)","v":0}]
[{"$f":"入力!$E$1","v":"villa中"},{"$f":"INDEX(入力!$A:$A,D31+2,1)","v":0},{"$f":"INDEX(入力!$B:$B,D31+2,1)","v":0},{"$f":"D28+3","v":31},{"$f":"INDEX(入力!$C:$C,D31+2,1)","v":0},{"$f":"入力!$E$1","v":"villa中"},{"$f":"INDEX(入力!$A:$A,I31+2,1)","v":0},{"$f":"INDEX(入力!$B:$B,I31+2,1)","v":0},{"$f":"1+D31","v":32},{"$f":"INDEX(入力!$C:$C,I31+2,1)","v":0},{"$f":"入力!$E$1","v":"villa中"},{"$f":"INDEX(入力!$A:$A,N31+2,1)","v":0},{"$f":"INDEX(入力!$B:$B,N31+2,1)","v":0},{"$f":"1+I31","v":33},{"$f":"INDEX(入力!$C:$C,N31+2,1)","v":0}]
[{"$f":"INDEX(入力!$E:$E,D31+2,1)","v":0},null,null,null,{"$f":"INDEX(入力!$H:$H,D31+2,1)","v":""},{"$f":"INDEX(入力!$E:$E,I31+2,1)","v":0},null,null,null,{"$f":"INDEX(入力!$H:$H,I31+2,1)","v":""},{"$f":"INDEX(入力!$E:$E,N31+2,1)","v":0},null,null,null,{"$f":"INDEX(入力!$H:$H,N31+2,1)","v":""}]
[null,null,"様",null,{"$f":"INDEX(入力!$F:$F,D31+2,1)","v":0},null,null,"様",null,{"$f":"INDEX(入力!$F:$F,I31+2,1)","v":0},null,null,"様",null,{"$f":"INDEX(入力!$F:$F,N31+2,1)","v":0}]
[{"$f":"入力!$E$1","v":"villa中"},{"$f":"INDEX(入力!$A:$A,D34+2,1)","v":0},{"$f":"INDEX(入力!$B:$B,D34+2,1)","v":0},{"$f":"D31+3","v":34},{"$f":"INDEX(入力!$C:$C,D34+2,1)","v":0},{"$f":"入力!$E$1","v":"villa中"},{"$f":"INDEX(入力!$A:$A,I34+2,1)","v":0},{"$f":"INDEX(入力!$B:$B,I34+2,1)","v":0},{"$f":"1+D34","v":35},{"$f":"INDEX(入力!$C:$C,I34+2,1)","v":0},{"$f":"入力!$E$1","v":"villa中"},{"$f":"INDEX(入力!$A:$A,N34+2,1)","v":0},{"$f":"INDEX(入力!$B:$B,N34+2,1)","v":0},{"$f":"1+I34","v":36},{"$f":"INDEX(入力!$C:$C,N34+2,1)","v":0}]
[{"$f":"INDEX(入力!$E:$E,D34+2,1)","v":0},null,null,null,{"$f":"INDEX(入力!$H:$H,D34+2,1)","v":""},{"$f":"INDEX(入力!$E:$E,I34+2,1)","v":0},null,null,null,{"$f":"INDEX(入力!$H:$H,I34+2,1)","v":""},{"$f":"INDEX(入力!$E:$E,N34+2,1)","v":0},null,null,null,{"$f":"INDEX(入力!$H:$H,N34+2,1)","v":""}]
[null,null,"様",null,{"$f":"INDEX(入力!$F:$F,D34+2,1)","v":0},null,null,"様",null,{"$f":"INDEX(入力!$F:$F,I34+2,1)","v":0},null,null,"様",null,{"$f":"INDEX(入力!$F:$F,N34+2,1)","v":0}]
[{"$f":"入力!$E$1","v":"villa中"},{"$f":"INDEX(入力!$A:$A,D37+2,1)","v":0},{"$f":"INDEX(入力!$B:$B,D37+2,1)","v":0},{"$f":"D34+3","v":37},{"$f":"INDEX(入力!$C:$C,D37+2,1)","v":0},{"$f":"入力!$E$1","v":"villa中"},{"$f":"INDEX(入力!$A:$A,I37+2,1)","v":0},{"$f":"INDEX(入力!$B:$B,I37+2,1)","v":0},{"$f":"1+D37","v":38},{"$f":"INDEX(入力!$C:$C,I37+2,1)","v":0},{"$f":"入力!$E$1","v":"villa中"},{"$f":"INDEX(入力!$A:$A,N37+2,1)","v":0},{"$f":"INDEX(入力!$B:$B,N37+2,1)","v":0},{"$f":"1+I37","v":39},{"$f":"INDEX(入力!$C:$C,N37+2,1)","v":0}]
[{"$f":"INDEX(入力!$E:$E,D37+2,1)","v":0},null,null,null,{"$f":"INDEX(入力!$H:$H,D37+2,1)","v":""},{"$f":"INDEX(入力!$E:$E,I37+2,1)","v":0},null,null,null,{"$f":"INDEX(入力!$H:$H,I37+2,1)","v":""},{"$f":"INDEX(入力!$E:$E,N37+2,1)","v":0},null,null,null,{"$f":"INDEX(入力!$H:$H,N37+2,1)","v":""}]
[null,null,"様",null,{"$f":"INDEX(入力!$F:$F,D37+2,1)","v":0},null,null,"様",null,{"$f":"INDEX(入力!$F:$F,I37+2,1)","v":0},null,null,"様",null,{"$f":"INDEX(入力!$F:$F,N37+2,1)","v":0}]
[{"$f":"入力!$E$1","v":"villa中"},{"$f":"INDEX(入力!$A:$A,D40+2,1)","v":0},{"$f":"INDEX(入力!$B:$B,D40+2,1)","v":0},{"$f":"D37+3","v":40},{"$f":"INDEX(入力!$C:$C,D40+2,1)","v":0},{"$f":"入力!$E$1","v":"villa中"},{"$f":"INDEX(入力!$A:$A,I40+2,1)","v":0},{"$f":"INDEX(入力!$B:$B,I40+2,1)","v":0},{"$f":"1+D40","v":41},{"$f":"INDEX(入力!$C:$C,I40+2,1)","v":0},{"$f":"入力!$E$1","v":"villa中"},{"$f":"INDEX(入力!$A:$A,N40+2,1)","v":0},{"$f":"INDEX(入力!$B:$B,N40+2,1)","v":0},{"$f":"1+I40","v":42},{"$f":"INDEX(入力!$C:$C,N40+2,1)","v":0}]
[{"$f":"INDEX(入力!$E:$E,D40+2,1)","v":0},null,null,null,{"$f":"INDEX(入力!$H:$H,D40+2,1)","v":""},{"$f":"INDEX(入力!$E:$E,I40+2,1)","v":0},null,null,null,{"$f":"INDEX(入力!$H:$H,I40+2,1)","v":""},{"$f":"INDEX(入力!$E:$E,N40+2,1)","v":0},null,null,null,{"$f":"INDEX(入力!$H:$H,N40+2,1)","v":""}]
[null,null,"様",null,{"$f":"INDEX(入力!$F:$F,D40+2,1)","v":0},null,null,"様",null,{"$f":"INDEX(入力!$F:$F,I40+2,1)","v":0},null,null,"様",null,{"$f":"INDEX(入力!$F:$F,N40+2,1)","v":0}]
[{"$f":"入力!$E$1","v":"villa中"},{"$f":"INDEX(入力!$A:$A,D43+2,1)","v":0},{"$f":"INDEX(入力!$B:$B,D43+2,1)","v":0},{"$f":"D40+3","v":43},{"$f":"INDEX(入力!$C:$C,D43+2,1)","v":0},{"$f":"入力!$E$1","v":"villa中"},{"$f":"INDEX(入力!$A:$A,I43+2,1)","v":0},{"$f":"INDEX(入力!$B:$B,I43+2,1)","v":0},{"$f":"1+D43","v":44},{"$f":"INDEX(入力!$C:$C,I43+2,1)","v":0},{"$f":"入力!$E$1","v":"villa中"},{"$f":"INDEX(入力!$A:$A,N43+2,1)","v":0},{"$f":"INDEX(入力!$B:$B,N43+2,1)","v":0},{"$f":"1+I43","v":45},{"$f":"INDEX(入力!$C:$C,N43+2,1)","v":0}]
[{"$f":"INDEX(入力!$E:$E,D43+2,1)","v":0},null,null,null,{"$f":"INDEX(入力!$H:$H,D43+2,1)","v":""},{"$f":"INDEX(入力!$E:$E,I43+2,1)","v":0},null,null,null,{"$f":"INDEX(入力!$H:$H,I43+2,1)","v":""},{"$f":"INDEX(入力!$E:$E,N43+2,1)","v":0},null,null,null,{"$f":"INDEX(入力!$H:$H,N43+2,1)","v":""}]
[null,null,"様",null,{"$f":"INDEX(入力!$F:$F,D43+2,1)","v":0},null,null,"様",null,{"$f":"INDEX(入力!$F:$F,I43+2,1)","v":0},null,null,"様",null,{"$f":"INDEX(入力!$F:$F,N43+2,1)","v":0}]
[{"$f":"入力!$E$1","v":"villa中"},{"$f":"INDEX(入力!$A:$A,D46+2,1)","v":0},{"$f":"INDEX(入力!$B:$B,D46+2,1)","v":0},{"$f":"D43+3","v":46},{"$f":"INDEX(入力!$C:$C,D46+2,1)","v":0},{"$f":"入力!$E$1","v":"villa中"},{"$f":"INDEX(入力!$A:$A,I46+2,1)","v":0},{"$f":"INDEX(入力!$B:$B,I46+2,1)","v":0},{"$f":"1+D46","v":47},{"$f":"INDEX(入力!$C:$C,I46+2,1)","v":0},{"$f":"入力!$E$1","v":"villa中"},{"$f":"INDEX(入力!$A:$A,N46+2,1)","v":0},{"$f":"INDEX(入力!$B:$B,N46+2,1)","v":0},{"$f":"1+I46","v":48},{"$f":"INDEX(入力!$C:$C,N46+2,1)","v":0}]
[{"$f":"INDEX(入力!$E:$E,D46+2,1)","v":0},null,null,null,{"$f":"INDEX(入力!$H:$H,D46+2,1)","v":""},{"$f":"INDEX(入力!$E:$E,I46+2,1)","v":0},null,null,null,{"$f":"INDEX(入力!$H:$H,I46+2,1)","v":""},{"$f":"INDEX(入力!$E:$E,N46+2,1)","v":0},null,null,null,{"$f":"INDEX(入力!$H:$H,N46+2,1)","v":""}]
[null,null,"様",null,{"$f":"INDEX(入力!$F:$F,D46+2,1)","v":0},null,null,"様",null,{"$f":"INDEX(入力!$F:$F,I46+2,1)","v":0},null,null,"様",null,{"$f":"INDEX(入力!$F:$F,N46+2,1)","v":0}]
[{"$f":"入力!$E$1","v":"villa中"},{"$f":"INDEX(入力!$A:$A,D49+2,1)","v":0},{"$f":"INDEX(入力!$B:$B,D49+2,1)","v":0},{"$f":"D46+3","v":49},{"$f":"INDEX(入力!$C:$C,D49+2,1)","v":0},{"$f":"入力!$E$1","v":"villa中"},{"$f":"INDEX(入力!$A:$A,I49+2,1)","v":0},{"$f":"INDEX(入力!$B:$B,I49+2,1)","v":0},{"$f":"1+D49","v":50},{"$f":"INDEX(入力!$C:$C,I49+2,1)","v":0},{"$f":"入力!$E$1","v":"villa中"},{"$f":"INDEX(入力!$A:$A,N49+2,1)","v":0},{"$f":"INDEX(入力!$B:$B,N49+2,1)","v":0},{"$f":"1+I49","v":51},{"$f":"INDEX(入力!$C:$C,N49+2,1)","v":0}]
[{"$f":"INDEX(入力!$E:$E,D49+2,1)","v":0},null,null,null,{"$f":"INDEX(入力!$H:$H,D49+2,1)","v":""},{"$f":"INDEX(入力!$E:$E,I49+2,1)","v":0},null,null,null,{"$f":"INDEX(入力!$H:$H,I49+2,1)","v":""},{"$f":"INDEX(入力!$E:$E,N49+2,1)","v":0},null,null,null,{"$f":"INDEX(入力!$H:$H,N49+2,1)","v":""}]
[null,null,"様",null,{"$f":"INDEX(入力!$F:$F,D49+2,1)","v":0},null,null,"様",null,{"$f":"INDEX(入力!$F:$F,I49+2,1)","v":0},null,null,"様",null,{"$f":"INDEX(入力!$F:$F,N49+2,1)","v":0}]
[{"$f":"入力!$E$1","v":"villa中"},{"$f":"INDEX(入力!$A:$A,D52+2,1)","v":0},{"$f":"INDEX(入力!$B:$B,D52+2,1)","v":0},{"$f":"D49+3","v":52},{"$f":"INDEX(入力!$C:$C,D52+2,1)","v":0},{"$f":"入力!$E$1","v":"villa中"},{"$f":"INDEX(入力!$A:$A,I52+2,1)","v":0},{"$f":"INDEX(入力!$B:$B,I52+2,1)","v":0},{"$f":"1+D52","v":53},{"$f":"INDEX(入力!$C:$C,I52+2,1)","v":0},{"$f":"入力!$E$1","v":"villa中"},{"$f":"INDEX(入力!$A:$A,N52+2,1)","v":0},{"$f":"INDEX(入力!$B:$B,N52+2,1)","v":0},{"$f":"1+I52","v":54},{"$f":"INDEX(入力!$C:$C,N52+2,1)","v":0}]
[{"$f":"INDEX(入力!$E:$E,D52+2,1)","v":0},null,null,null,{"$f":"INDEX(入力!$H:$H,D52+2,1)","v":""},{"$f":"INDEX(入力!$E:$E,I52+2,1)","v":0},null,null,null,{"$f":"INDEX(入力!$H:$H,I52+2,1)","v":""},{"$f":"INDEX(入力!$E:$E,N52+2,1)","v":0},null,null,null,{"$f":"INDEX(入力!$H:$H,N52+2,1)","v":""}]
[null,null,"様",null,{"$f":"INDEX(入力!$F:$F,D52+2,1)","v":0},null,null,"様",null,{"$f":"INDEX(入力!$F:$F,I52+2,1)","v":0},null,null,"様",null,{"$f":"INDEX(入力!$F:$F,N52+2,1)","v":0}]
[{"$f":"入力!$E$1","v":"villa中"},{"$f":"INDEX(入力!$A:$A,D55+2,1)","v":0},{"$f":"INDEX(入力!$B:$B,D55+2,1)","v":0},{"$f":"D52+3","v":55},{"$f":"INDEX(入力!$C:$C,D55+2,1)","v":0},{"$f":"入力!$E$1","v":"villa中"},{"$f":"INDEX(入力!$A:$A,I55+2,1)","v":0},{"$f":"INDEX(入力!$B:$B,I55+2,1)","v":0},{"$f":"1+D55","v":56},{"$f":"INDEX(入力!$C:$C,I55+2,1)","v":0},{"$f":"入力!$E$1","v":"villa中"},{"$f":"INDEX(入力!$A:$A,N55+2,1)","v":0},{"$f":"INDEX(入力!$B:$B,N55+2,1)","v":0},{"$f":"1+I55","v":57},{"$f":"INDEX(入力!$C:$C,N55+2,1)","v":0}]
[{"$f":"INDEX(入力!$E:$E,D55+2,1)","v":0},null,null,null,{"$f":"INDEX(入力!$H:$H,D55+2,1)","v":""},{"$f":"INDEX(入力!$E:$E,I55+2,1)","v":0},null,null,null,{"$f":"INDEX(入力!$H:$H,I55+2,1)","v":""},{"$f":"INDEX(入力!$E:$E,N55+2,1)","v":0},null,null,null,{"$f":"INDEX(入力!$H:$H,N55+2,1)","v":""}]
[null,null,"様",null,{"$f":"INDEX(入力!$F:$F,D55+2,1)","v":0},null,null,"様",null,{"$f":"INDEX(入力!$F:$F,I55+2,1)","v":0},null,null,"様",null,{"$f":"INDEX(入力!$F:$F,N55+2,1)","v":0}]
[{"$f":"入力!$E$1","v":"villa中"},{"$f":"INDEX(入力!$A:$A,D58+2,1)","v":0},{"$f":"INDEX(入力!$B:$B,D58+2,1)","v":0},{"$f":"D55+3","v":58},{"$f":"INDEX(入力!$C:$C,D58+2,1)","v":0},{"$f":"入力!$E$1","v":"villa中"},{"$f":"INDEX(入力!$A:$A,I58+2,1)","v":0},{"$f":"INDEX(入力!$B:$B,I58+2,1)","v":0},{"$f":"1+D58","v":59},{"$f":"INDEX(入力!$C:$C,I58+2,1)","v":0},{"$f":"入力!$E$1","v":"villa中"},{"$f":"INDEX(入力!$A:$A,N58+2,1)","v":0},{"$f":"INDEX(入力!$B:$B,N58+2,1)","v":0},{"$f":"1+I58","v":60},{"$f":"INDEX(入力!$C:$C,N58+2,1)","v":0}]
[{"$f":"INDEX(入力!$E:$E,D58+2,1)","v":0},null,null,null,{"$f":"INDEX(入力!$H:$H,D58+2,1)","v":""},{"$f":"INDEX(入力!$E:$E,I58+2,1)","v":0},null,null,null,{"$f":"INDEX(入力!$H:$H,I58+2,1)","v":""},{"$f":"INDEX(入力!$E:$E,N58+2,1)","v":0},null,null,null,{"$f":"INDEX(入力!$H:$H,N58+2,1)","v":""}]
[null,null,"様",null,{"$f":"INDEX(入力!$F:$F,D58+2,1)","v":0},null,null,"様",null,{"$f":"INDEX(入力!$F:$F,I58+2,1)","v":0},null,null,"様",null,{"$f":"INDEX(入力!$F:$F,N58+2,1)","v":0}]
[{"$f":"入力!$E$1","v":"villa中"},{"$f":"INDEX(入力!$A:$A,D61+2,1)","v":0},{"$f":"INDEX(入力!$B:$B,D61+2,1)","v":0},{"$f":"D58+3","v":61},{"$f":"INDEX(入力!$C:$C,D61+2,1)","v":0},{"$f":"入力!$E$1","v":"villa中"},{"$f":"INDEX(入力!$A:$A,I61+2,1)","v":0},{"$f":"INDEX(入力!$B:$B,I61+2,1)","v":0},{"$f":"1+D61","v":62},{"$f":"INDEX(入力!$C:$C,I61+2,1)","v":0},{"$f":"入力!$E$1","v":"villa中"},{"$f":"INDEX(入力!$A:$A,N61+2,1)","v":0},{"$f":"INDEX(入力!$B:$B,N61+2,1)","v":0},{"$f":"1+I61","v":63},{"$f":"INDEX(入力!$C:$C,N61+2,1)","v":0}]
[{"$f":"INDEX(入力!$E:$E,D61+2,1)","v":0},null,null,null,{"$f":"INDEX(入力!$H:$H,D61+2,1)","v":""},{"$f":"INDEX(入力!$E:$E,I61+2,1)","v":0},null,null,null,{"$f":"INDEX(入力!$H:$H,I61+2,1)","v":""},{"$f":"INDEX(入力!$E:$E,N61+2,1)","v":0},null,null,null,{"$f":"INDEX(入力!$H:$H,N61+2,1)","v":""}]
[null,null,"様",null,{"$f":"INDEX(入力!$F:$F,D61+2,1)","v":0},null,null,"様",null,{"$f":"INDEX(入力!$F:$F,I61+2,1)","v":0},null,null,"様",null,{"$f":"INDEX(入力!$F:$F,N61+2,1)","v":0}]
[{"$f":"入力!$E$1","v":"villa中"},{"$f":"INDEX(入力!$A:$A,D64+2,1)","v":0},{"$f":"INDEX(入力!$B:$B,D64+2,1)","v":0},{"$f":"D61+3","v":64},{"$f":"INDEX(入力!$C:$C,D64+2,1)","v":0},{"$f":"入力!$E$1","v":"villa中"},{"$f":"INDEX(入力!$A:$A,I64+2,1)","v":0},{"$f":"INDEX(入力!$B:$B,I64+2,1)","v":0},{"$f":"1+D64","v":65},{"$f":"INDEX(入力!$C:$C,I64+2,1)","v":0},{"$f":"入力!$E$1","v":"villa中"},{"$f":"INDEX(入力!$A:$A,N64+2,1)","v":0},{"$f":"INDEX(入力!$B:$B,N64+2,1)","v":0},{"$f":"1+I64","v":66},{"$f":"INDEX(入力!$C:$C,N64+2,1)","v":0}]
[{"$f":"INDEX(入力!$E:$E,D64+2,1)","v":0},null,null,null,{"$f":"INDEX(入力!$H:$H,D64+2,1)","v":""},{"$f":"INDEX(入力!$E:$E,I64+2,1)","v":0},null,null,null,{"$f":"INDEX(入力!$H:$H,I64+2,1)","v":""},{"$f":"INDEX(入力!$E:$E,N64+2,1)","v":0},null,null,null,{"$f":"INDEX(入力!$H:$H,N64+2,1)","v":""}]
[null,null,"様",null,{"$f":"INDEX(入力!$F:$F,D64+2,1)","v":0},null,null,"様",null,{"$f":"INDEX(入力!$F:$F,I64+2,1)","v":0},null,null,"様",null,{"$f":"INDEX(入力!$F:$F,N64+2,1)","v":0}]
[{"$f":"入力!$E$1","v":"villa中"},{"$f":"INDEX(入力!$A:$A,D67+2,1)","v":0},{"$f":"INDEX(入力!$B:$B,D67+2,1)","v":0},{"$f":"D64+3","v":67},{"$f":"INDEX(入力!$C:$C,D67+2,1)","v":0},{"$f":"入力!$E$1","v":"villa中"},{"$f":"INDEX(入力!$A:$A,I67+2,1)","v":0},{"$f":"INDEX(入力!$B:$B,I67+2,1)","v":0},{"$f":"1+D67","v":68},{"$f":"INDEX(入力!$C:$C,I67+2,1)","v":0},{"$f":"入力!$E$1","v":"villa中"},{"$f":"INDEX(入力!$A:$A,N67+2,1)","v":0},{"$f":"INDEX(入力!$B:$B,N67+2,1)","v":0},{"$f":"1+I67","v":69},{"$f":"INDEX(入力!$C:$C,N67+2,1)","v":0}]
[{"$f":"INDEX(入力!$E:$E,D67+2,1)","v":0},null,null,null,{"$f":"INDEX(入力!$H:$H,D67+2,1)","v":""},{"$f":"INDEX(入力!$E:$E,I67+2,1)","v":0},null,null,null,{"$f":"INDEX(入力!$H:$H,I67+2,1)","v":""},{"$f":"INDEX(入力!$E:$E,N67+2,1)","v":0},null,null,null,{"$f":"INDEX(入力!$H:$H,N67+2,1)","v":""}]
[null,null,"様",null,{"$f":"INDEX(入力!$F:$F,D67+2,1)","v":0},null,null,"様",null,{"$f":"INDEX(入力!$F:$F,I67+2,1)","v":0},null,null,"様",null,{"$f":"INDEX(入力!$F:$F,N67+2,1)","v":0}]
[{"$f":"入力!$E$1","v":"villa中"},{"$f":"INDEX(入力!$A:$A,D70+2,1)","v":0},{"$f":"INDEX(入力!$B:$B,D70+2,1)","v":0},{"$f":"D67+3","v":70},{"$f":"INDEX(入力!$C:$C,D70+2,1)","v":0},{"$f":"入力!$E$1","v":"villa中"},{"$f":"INDEX(入力!$A:$A,I70+2,1)","v":0},{"$f":"INDEX(入力!$B:$B,I70+2,1)","v":0},{"$f":"1+D70","v":71},{"$f":"INDEX(入力!$C:$C,I70+2,1)","v":0},{"$f":"入力!$E$1","v":"villa中"},{"$f":"INDEX(入力!$A:$A,N70+2,1)","v":0},{"$f":"INDEX(入力!$B:$B,N70+2,1)","v":0},{"$f":"1+I70","v":72},{"$f":"INDEX(入力!$C:$C,N70+2,1)","v":0}]
[{"$f":"INDEX(入力!$E:$E,D70+2,1)","v":0},null,null,null,{"$f":"INDEX(入力!$H:$H,D70+2,1)","v":""},{"$f":"INDEX(入力!$E:$E,I70+2,1)","v":0},null,null,null,{"$f":"INDEX(入力!$H:$H,I70+2,1)","v":""},{"$f":"INDEX(入力!$E:$E,N70+2,1)","v":0},null,null,null,{"$f":"INDEX(入力!$H:$H,N70+2,1)","v":""}]
[null,null,"様",null,{"$f":"INDEX(入力!$F:$F,D70+2,1)","v":0},null,null,"様",null,{"$f":"INDEX(入力!$F:$F,I70+2,1)","v":0},null,null,"様",null,{"$f":"INDEX(入力!$F:$F,N70+2,1)","v":0}]
[{"$f":"入力!$E$1","v":"villa中"},{"$f":"INDEX(入力!$A:$A,D73+2,1)","v":0},{"$f":"INDEX(入力!$B:$B,D73+2,1)","v":0},{"$f":"D70+3","v":73},{"$f":"INDEX(入力!$C:$C,D73+2,1)","v":0},{"$f":"入力!$E$1","v":"villa中"},{"$f":"INDEX(入力!$A:$A,I73+2,1)","v":0},{"$f":"INDEX(入力!$B:$B,I73+2,1)","v":0},{"$f":"1+D73","v":74},{"$f":"INDEX(入力!$C:$C,I73+2,1)","v":0},{"$f":"入力!$E$1","v":"villa中"},{"$f":"INDEX(入力!$A:$A,N73+2,1)","v":0},{"$f":"INDEX(入力!$B:$B,N73+2,1)","v":0},{"$f":"1+I73","v":75},{"$f":"INDEX(入力!$C:$C,N73+2,1)","v":0}]
[{"$f":"INDEX(入力!$E:$E,D73+2,1)","v":0},null,null,null,{"$f":"INDEX(入力!$H:$H,D73+2,1)","v":""},{"$f":"INDEX(入力!$E:$E,I73+2,1)","v":0},null,null,null,{"$f":"INDEX(入力!$H:$H,I73+2,1)","v":""},{"$f":"INDEX(入力!$E:$E,N73+2,1)","v":0},null,null,null,{"$f":"INDEX(入力!$H:$H,N73+2,1)","v":""}]
[null,null,"様",null,{"$f":"INDEX(入力!$F:$F,D73+2,1)","v":0},null,null,"様",null,{"$f":"INDEX(入力!$F:$F,I73+2,1)","v":0},null,null,"様",null,{"$f":"INDEX(入力!$F:$F,N73+2,1)","v":0}]
[{"$f":"入力!$E$1","v":"villa中"},{"$f":"INDEX(入力!$A:$A,D76+2,1)","v":0},{"$f":"INDEX(入力!$B:$B,D76+2,1)","v":0},{"$f":"D73+3","v":76},{"$f":"INDEX(入力!$C:$C,D76+2,1)","v":0},{"$f":"入力!$E$1","v":"villa中"},{"$f":"INDEX(入力!$A:$A,I76+2,1)","v":0},{"$f":"INDEX(入力!$B:$B,I76+2,1)","v":0},{"$f":"1+D76","v":77},{"$f":"INDEX(入力!$C:$C,I76+2,1)","v":0},{"$f":"入力!$E$1","v":"villa中"},{"$f":"INDEX(入力!$A:$A,N76+2,1)","v":0},{"$f":"INDEX(入力!$B:$B,N76+2,1)","v":0},{"$f":"1+I76","v":78},{"$f":"INDEX(入力!$C:$C,N76+2,1)","v":0}]
[{"$f":"INDEX(入力!$E:$E,D76+2,1)","v":0},null,null,null,{"$f":"INDEX(入力!$H:$H,D76+2,1)","v":""},{"$f":"INDEX(入力!$E:$E,I76+2,1)","v":0},null,null,null,{"$f":"INDEX(入力!$H:$H,I76+2,1)","v":""},{"$f":"INDEX(入力!$E:$E,N76+2,1)","v":0},null,null,null,{"$f":"INDEX(入力!$H:$H,N76+2,1)","v":""}]
[null,null,"様",null,{"$f":"INDEX(入力!$F:$F,D76+2,1)","v":0},null,null,"様",null,{"$f":"INDEX(入力!$F:$F,I76+2,1)","v":0},null,null,"様",null,{"$f":"INDEX(入力!$F:$F,N76+2,1)","v":0}]
[{"$f":"入力!$E$1","v":"villa中"},{"$f":"INDEX(入力!$A:$A,D79+2,1)","v":0},{"$f":"INDEX(入力!$B:$B,D79+2,1)","v":0},{"$f":"D76+3","v":79},{"$f":"INDEX(入力!$C:$C,D79+2,1)","v":0},{"$f":"入力!$E$1","v":"villa中"},{"$f":"INDEX(入力!$A:$A,I79+2,1)","v":0},{"$f":"INDEX(入力!$B:$B,I79+2,1)","v":0},{"$f":"1+D79","v":80},{"$f":"INDEX(入力!$C:$C,I79+2,1)","v":0},{"$f":"入力!$E$1","v":"villa中"},{"$f":"INDEX(入力!$A:$A,N79+2,1)","v":0},{"$f":"INDEX(入力!$B:$B,N79+2,1)","v":0},{"$f":"1+I79","v":81},{"$f":"INDEX(入力!$C:$C,N79+2,1)","v":0}]
[{"$f":"INDEX(入力!$E:$E,D79+2,1)","v":0},null,null,null,{"$f":"INDEX(入力!$H:$H,D79+2,1)","v":""},{"$f":"INDEX(入力!$E:$E,I79+2,1)","v":0},null,null,null,{"$f":"INDEX(入力!$H:$H,I79+2,1)","v":""},{"$f":"INDEX(入力!$E:$E,N79+2,1)","v":0},null,null,null,{"$f":"INDEX(入力!$H:$H,N79+2,1)","v":""}]
[null,null,"様",null,{"$f":"INDEX(入力!$F:$F,D79+2,1)","v":0},null,null,"様",null,{"$f":"INDEX(入力!$F:$F,I79+2,1)","v":0},null,null,"様",null,{"$f":"INDEX(入力!$F:$F,N79+2,1)","v":0}]
[{"$f":"入力!$E$1","v":"villa中"},{"$f":"INDEX(入力!$A:$A,D82+2,1)","v":0},{"$f":"INDEX(入力!$B:$B,D82+2,1)","v":0},{"$f":"D79+3","v":82},{"$f":"INDEX(入力!$C:$C,D82+2,1)","v":0},{"$f":"入力!$E$1","v":"villa中"},{"$f":"INDEX(入力!$A:$A,I82+2,1)","v":0},{"$f":"INDEX(入力!$B:$B,I82+2,1)","v":0},{"$f":"1+D82","v":83},{"$f":"INDEX(入力!$C:$C,I82+2,1)","v":0},{"$f":"入力!$E$1","v":"villa中"},{"$f":"INDEX(入力!$A:$A,N82+2,1)","v":0},{"$f":"INDEX(入力!$B:$B,N82+2,1)","v":0},{"$f":"1+I82","v":84},{"$f":"INDEX(入力!$C:$C,N82+2,1)","v":0}]
[{"$f":"INDEX(入力!$E:$E,D82+2,1)","v":0},null,null,null,{"$f":"INDEX(入力!$H:$H,D82+2,1)","v":""},{"$f":"INDEX(入力!$E:$E,I82+2,1)","v":0},null,null,null,{"$f":"INDEX(入力!$H:$H,I82+2,1)","v":""},{"$f":"INDEX(入力!$E:$E,N82+2,1)","v":0},null,null,null,{"$f":"INDEX(入力!$H:$H,N82+2,1)","v":""}]
[null,null,"様",null,{"$f":"INDEX(入力!$F:$F,D82+2,1)","v":0},null,null,"様",null,{"$f":"INDEX(入力!$F:$F,I82+2,1)","v":0},null,null,"様",null,{"$f":"INDEX(入力!$F:$F,N82+2,1)","v":0}]
[{"$f":"入力!$E$1","v":"villa中"},{"$f":"INDEX(入力!$A:$A,D85+2,1)","v":0},{"$f":"INDEX(入力!$B:$B,D85+2,1)","v":0},{"$f":"D82+3","v":85},{"$f":"INDEX(入力!$C:$C,D85+2,1)","v":0},{"$f":"入力!$E$1","v":"villa中"},{"$f":"INDEX(入力!$A:$A,I85+2,1)","v":0},{"$f":"INDEX(入力!$B:$B,I85+2,1)","v":0},{"$f":"1+D85","v":86},{"$f":"INDEX(入力!$C:$C,I85+2,1)","v":0},{"$f":"入力!$E$1","v":"villa中"},{"$f":"INDEX(入力!$A:$A,N85+2,1)","v":0},{"$f":"INDEX(入力!$B:$B,N85+2,1)","v":0},{"$f":"1+I85","v":87},{"$f":"INDEX(入力!$C:$C,N85+2,1)","v":0}]
[{"$f":"INDEX(入力!$E:$E,D85+2,1)","v":0},null,null,null,{"$f":"INDEX(入力!$H:$H,D85+2,1)","v":""},{"$f":"INDEX(入力!$E:$E,I85+2,1)","v":0},null,null,null,{"$f":"INDEX(入力!$H:$H,I85+2,1)","v":""},{"$f":"INDEX(入力!$E:$E,N85+2,1)","v":0},null,null,null,{"$f":"INDEX(入力!$H:$H,N85+2,1)","v":""}]
[null,null,"様",null,{"$f":"INDEX(入力!$F:$F,D85+2,1)","v":0},null,null,"様",null,{"$f":"INDEX(入力!$F:$F,I85+2,1)","v":0},null,null,"様",null,{"$f":"INDEX(入力!$F:$F,N85+2,1)","v":0}]
[{"$f":"入力!$E$1","v":"villa中"},{"$f":"INDEX(入力!$A:$A,D88+2,1)","v":0},{"$f":"INDEX(入力!$B:$B,D88+2,1)","v":0},{"$f":"D85+3","v":88},{"$f":"INDEX(入力!$C:$C,D88+2,1)","v":0},{"$f":"入力!$E$1","v":"villa中"},{"$f":"INDEX(入力!$A:$A,I88+2,1)","v":0},{"$f":"INDEX(入力!$B:$B,I88+2,1)","v":0},{"$f":"1+D88","v":89},{"$f":"INDEX(入力!$C:$C,I88+2,1)","v":0},{"$f":"入力!$E$1","v":"villa中"},{"$f":"INDEX(入力!$A:$A,N88+2,1)","v":0},{"$f":"INDEX(入力!$B:$B,N88+2,1)","v":0},{"$f":"1+I88","v":90},{"$f":"INDEX(入力!$C:$C,N88+2,1)","v":0}]
[{"$f":"INDEX(入力!$E:$E,D88+2,1)","v":0},null,null,null,{"$f":"INDEX(入力!$H:$H,D88+2,1)","v":""},{"$f":"INDEX(入力!$E:$E,I88+2,1)","v":0},null,null,null,{"$f":"INDEX(入力!$H:$H,I88+2,1)","v":""},{"$f":"INDEX(入力!$E:$E,N88+2,1)","v":0},null,null,null,{"$f":"INDEX(入力!$H:$H,N88+2,1)","v":""}]
[null,null,"様",null,{"$f":"INDEX(入力!$F:$F,D88+2,1)","v":0},null,null,"様",null,{"$f":"INDEX(入力!$F:$F,I88+2,1)","v":0},null,null,"様",null,{"$f":"INDEX(入力!$F:$F,N88+2,1)","v":0}]
[{"$f":"入力!$E$1","v":"villa中"},{"$f":"INDEX(入力!$A:$A,D91+2,1)","v":0},{"$f":"INDEX(入力!$B:$B,D91+2,1)","v":0},{"$f":"D88+3","v":91},{"$f":"INDEX(入力!$C:$C,D91+2,1)","v":0},{"$f":"入力!$E$1","v":"villa中"},{"$f":"INDEX(入力!$A:$A,I91+2,1)","v":0},{"$f":"INDEX(入力!$B:$B,I91+2,1)","v":0},{"$f":"1+D91","v":92},{"$f":"INDEX(入力!$C:$C,I91+2,1)","v":0},{"$f":"入力!$E$1","v":"villa中"},{"$f":"INDEX(入力!$A:$A,N91+2,1)","v":0},{"$f":"INDEX(入力!$B:$B,N91+2,1)","v":0},{"$f":"1+I91","v":93},{"$f":"INDEX(入力!$C:$C,N91+2,1)","v":0}]
[{"$f":"INDEX(入力!$E:$E,D91+2,1)","v":0},null,null,null,{"$f":"INDEX(入力!$H:$H,D91+2,1)","v":""},{"$f":"INDEX(入力!$E:$E,I91+2,1)","v":0},null,null,null,{"$f":"INDEX(入力!$H:$H,I91+2,1)","v":""},{"$f":"INDEX(入力!$E:$E,N91+2,1)","v":0},null,null,null,{"$f":"INDEX(入力!$H:$H,N91+2,1)","v":""}]
[null,null,"様",null,{"$f":"INDEX(入力!$F:$F,D91+2,1)","v":0},null,null,"様",null,{"$f":"INDEX(入力!$F:$F,I91+2,1)","v":0},null,null,"様",null,{"$f":"INDEX(入力!$F:$F,N91+2,1)","v":0}]
[{"$f":"入力!$E$1","v":"villa中"},{"$f":"INDEX(入力!$A:$A,D94+2,1)","v":0},{"$f":"INDEX(入力!$B:$B,D94+2,1)","v":0},{"$f":"D91+3","v":94},{"$f":"INDEX(入力!$C:$C,D94+2,1)","v":0},{"$f":"入力!$E$1","v":"villa中"},{"$f":"INDEX(入力!$A:$A,I94+2,1)","v":0},{"$f":"INDEX(入力!$B:$B,I94+2,1)","v":0},{"$f":"1+D94","v":95},{"$f":"INDEX(入力!$C:$C,I94+2,1)","v":0},{"$f":"入力!$E$1","v":"villa中"},{"$f":"INDEX(入力!$A:$A,N94+2,1)","v":0},{"$f":"INDEX(入力!$B:$B,N94+2,1)","v":0},{"$f":"1+I94","v":96},{"$f":"INDEX(入力!$C:$C,N94+2,1)","v":0}]
[{"$f":"INDEX(入力!$E:$E,D94+2,1)","v":0},null,null,null,{"$f":"INDEX(入力!$H:$H,D94+2,1)","v":""},{"$f":"INDEX(入力!$E:$E,I94+2,1)","v":0},null,null,null,{"$f":"INDEX(入力!$H:$H,I94+2,1)","v":""},{"$f":"INDEX(入力!$E:$E,N94+2,1)","v":0},null,null,null,{"$f":"INDEX(入力!$H:$H,N94+2,1)","v":""}]
[null,null,"様",null,{"$f":"INDEX(入力!$F:$F,D94+2,1)","v":0},null,null,"様",null,{"$f":"INDEX(入力!$F:$F,I94+2,1)","v":0},null,null,"様",null,{"$f":"INDEX(入力!$F:$F,N94+2,1)","v":0}]
[{"$f":"入力!$E$1","v":"villa中"},{"$f":"INDEX(入力!$A:$A,D97+2,1)","v":0},{"$f":"INDEX(入力!$B:$B,D97+2,1)","v":0},{"$f":"D94+3","v":97},{"$f":"INDEX(入力!$C:$C,D97+2,1)","v":0},{"$f":"入力!$E$1","v":"villa中"},{"$f":"INDEX(入力!$A:$A,I97+2,1)","v":0},{"$f":"INDEX(入力!$B:$B,I97+2,1)","v":0},{"$f":"1+D97","v":98},{"$f":"INDEX(入力!$C:$C,I97+2,1)","v":0},{"$f":"入力!$E$1","v":"villa中"},{"$f":"INDEX(入力!$A:$A,N97+2,1)","v":0},{"$f":"INDEX(入力!$B:$B,N97+2,1)","v":0},{"$f":"1+I97","v":99},{"$f":"INDEX(入力!$C:$C,N97+2,1)","v":0}]
[{"$f":"INDEX(入力!$E:$E,D97+2,1)","v":0},null,null,null,{"$f":"INDEX(入力!$H:$H,D97+2,1)","v":""},{"$f":"INDEX(入力!$E:$E,I97+2,1)","v":0},null,null,null,{"$f":"INDEX(入力!$H:$H,I97+2,1)","v":""},{"$f":"INDEX(入力!$E:$E,N97+2,1)","v":0},null,null,null,{"$f":"INDEX(入力!$H:$H,N97+2,1)","v":""}]
[null,null,"様",null,{"$f":"INDEX(入力!$F:$F,D97+2,1)","v":0},null,null,"様",null,{"$f":"INDEX(入力!$F:$F,I97+2,1)","v":0},null,null,"様",null,{"$f":"INDEX(入力!$F:$F,N97+2,1)","v":0}]
[{"$f":"入力!$E$1","v":"villa中"},{"$f":"INDEX(入力!$A:$A,D100+2,1)","v":0},{"$f":"INDEX(入力!$B:$B,D100+2,1)","v":0},{"$f":"D97+3","v":100},{"$f":"INDEX(入力!$C:$C,D100+2,1)","v":0},{"$f":"入力!$E$1","v":"villa中"},{"$f":"INDEX(入力!$A:$A,I100+2,1)","v":0},{"$f":"INDEX(入力!$B:$B,I100+2,1)","v":0},{"$f":"1+D100","v":101},{"$f":"INDEX(入力!$C:$C,I100+2,1)","v":0},{"$f":"入力!$E$1","v":"villa中"},{"$f":"INDEX(入力!$A:$A,N100+2,1)","v":0},{"$f":"INDEX(入力!$B:$B,N100+2,1)","v":0},{"$f":"1+I100","v":102},{"$f":"INDEX(入力!$C:$C,N100+2,1)","v":0}]
[{"$f":"INDEX(入力!$E:$E,D100+2,1)","v":0},null,null,null,{"$f":"INDEX(入力!$H:$H,D100+2,1)","v":""},{"$f":"INDEX(入力!$E:$E,I100+2,1)","v":0},null,null,null,{"$f":"INDEX(入力!$H:$H,I100+2,1)","v":""},{"$f":"INDEX(入力!$E:$E,N100+2,1)","v":0},null,null,null,{"$f":"INDEX(入力!$H:$H,N100+2,1)","v":""}]
[null,null,"様",null,{"$f":"INDEX(入力!$F:$F,D100+2,1)","v":0},null,null,"様",null,{"$f":"INDEX(入力!$F:$F,I100+2,1)","v":0},null,null,"様",null,{"$f":"INDEX(入力!$F:$F,N100+2,1)","v":0}]
[{"$f":"入力!$E$1","v":"villa中"},{"$f":"INDEX(入力!$A:$A,D103+2,1)","v":0},{"$f":"INDEX(入力!$B:$B,D103+2,1)","v":0},{"$f":"D100+3","v":103},{"$f":"INDEX(入力!$C:$C,D103+2,1)","v":0},{"$f":"入力!$E$1","v":"villa中"},{"$f":"INDEX(入力!$A:$A,I103+2,1)","v":0},{"$f":"INDEX(入力!$B:$B,I103+2,1)","v":0},{"$f":"1+D103","v":104},{"$f":"INDEX(入力!$C:$C,I103+2,1)","v":0},{"$f":"入力!$E$1","v":"villa中"},{"$f":"INDEX(入力!$A:$A,N103+2,1)","v":0},{"$f":"INDEX(入力!$B:$B,N103+2,1)","v":0},{"$f":"1+I103","v":105},{"$f":"INDEX(入力!$C:$C,N103+2,1)","v":0}]
[{"$f":"INDEX(入力!$E:$E,D103+2,1)","v":0},null,null,null,{"$f":"INDEX(入力!$H:$H,D103+2,1)","v":""},{"$f":"INDEX(入力!$E:$E,I103+2,1)","v":0},null,null,null,{"$f":"INDEX(入力!$H:$H,I103+2,1)","v":""},{"$f":"INDEX(入力!$E:$E,N103+2,1)","v":0},null,null,null,{"$f":"INDEX(入力!$H:$H,N103+2,1)","v":""}]
[null,null,"様",null,{"$f":"INDEX(入力!$F:$F,D103+2,1)","v":0},null,null,"様",null,{"$f":"INDEX(入力!$F:$F,I103+2,1)","v":0},null,null,"様",null,{"$f":"INDEX(入力!$F:$F,N103+2,1)","v":0}]
[{"$f":"入力!$E$1","v":"villa中"},{"$f":"INDEX(入力!$A:$A,D106+2,1)","v":0},{"$f":"INDEX(入力!$B:$B,D106+2,1)","v":0},{"$f":"D103+3","v":106},{"$f":"INDEX(入力!$C:$C,D106+2,1)","v":0},{"$f":"入力!$E$1","v":"villa中"},{"$f":"INDEX(入力!$A:$A,I106+2,1)","v":0},{"$f":"INDEX(入力!$B:$B,I106+2,1)","v":0},{"$f":"1+D106","v":107},{"$f":"INDEX(入力!$C:$C,I106+2,1)","v":0},{"$f":"入力!$E$1","v":"villa中"},{"$f":"INDEX(入力!$A:$A,N106+2,1)","v":0},{"$f":"INDEX(入力!$B:$B,N106+2,1)","v":0},{"$f":"1+I106","v":108},{"$f":"INDEX(入力!$C:$C,N106+2,1)","v":0}]
[{"$f":"INDEX(入力!$E:$E,D106+2,1)","v":0},null,null,null,{"$f":"INDEX(入力!$H:$H,D106+2,1)","v":""},{"$f":"INDEX(入力!$E:$E,I106+2,1)","v":0},null,null,null,{"$f":"INDEX(入力!$H:$H,I106+2,1)","v":""},{"$f":"INDEX(入力!$E:$E,N106+2,1)","v":0},null,null,null,{"$f":"INDEX(入力!$H:$H,N106+2,1)","v":""}]
[null,null,"様",null,{"$f":"INDEX(入力!$F:$F,D106+2,1)","v":0},null,null,"様",null,{"$f":"INDEX(入力!$F:$F,I106+2,1)","v":0},null,null,"様",null,{"$f":"INDEX(入力!$F:$F,N106+2,1)","v":0}]
[{"$f":"入力!$E$1","v":"villa中"},{"$f":"INDEX(入力!$A:$A,D109+2,1)","v":0},{"$f":"INDEX(入力!$B:$B,D109+2,1)","v":0},{"$f":"D106+3","v":109},{"$f":"INDEX(入力!$C:$C,D109+2,1)","v":0},{"$f":"入力!$E$1","v":"villa中"},{"$f":"INDEX(入力!$A:$A,I109+2,1)","v":0},{"$f":"INDEX(入力!$B:$B,I109+2,1)","v":0},{"$f":"1+D109","v":110},{"$f":"INDEX(入力!$C:$C,I109+2,1)","v":0},{"$f":"入力!$E$1","v":"villa中"},{"$f":"INDEX(入力!$A:$A,N109+2,1)","v":0},{"$f":"INDEX(入力!$B:$B,N109+2,1)","v":0},{"$f":"1+I109","v":111},{"$f":"INDEX(入力!$C:$C,N109+2,1)","v":0}]
[{"$f":"INDEX(入力!$E:$E,D109+2,1)","v":0},null,null,null,{"$f":"INDEX(入力!$H:$H,D109+2,1)","v":""},{"$f":"INDEX(入力!$E:$E,I109+2,1)","v":0},null,null,null,{"$f":"INDEX(入力!$H:$H,I109+2,1)","v":""},{"$f":"INDEX(入力!$E:$E,N109+2,1)","v":0},null,null,null,{"$f":"INDEX(入力!$H:$H,N109+2,1)","v":""}]
[null,null,"様",null,{"$f":"INDEX(入力!$F:$F,D109+2,1)","v":0},null,null,"様",null,{"$f":"INDEX(入力!$F:$F,I109+2,1)","v":0},null,null,"様",null,{"$f":"INDEX(入力!$F:$F,N109+2,1)","v":0}]
[{"$f":"入力!$E$1","v":"villa中"},{"$f":"INDEX(入力!$A:$A,D112+2,1)","v":0},{"$f":"INDEX(入力!$B:$B,D112+2,1)","v":0},{"$f":"D109+3","v":112},{"$f":"INDEX(入力!$C:$C,D112+2,1)","v":0},{"$f":"入力!$E$1","v":"villa中"},{"$f":"INDEX(入力!$A:$A,I112+2,1)","v":0},{"$f":"INDEX(入力!$B:$B,I112+2,1)","v":0},{"$f":"1+D112","v":113},{"$f":"INDEX(入力!$C:$C,I112+2,1)","v":0},{"$f":"入力!$E$1","v":"villa中"},{"$f":"INDEX(入力!$A:$A,N112+2,1)","v":0},{"$f":"INDEX(入力!$B:$B,N112+2,1)","v":0},{"$f":"1+I112","v":114},{"$f":"INDEX(入力!$C:$C,N112+2,1)","v":0}]
[{"$f":"INDEX(入力!$E:$E,D112+2,1)","v":0},null,null,null,{"$f":"INDEX(入力!$H:$H,D112+2,1)","v":""},{"$f":"INDEX(入力!$E:$E,I112+2,1)","v":0},null,null,null,{"$f":"INDEX(入力!$H:$H,I112+2,1)","v":""},{"$f":"INDEX(入力!$E:$E,N112+2,1)","v":0},null,null,null,{"$f":"INDEX(入力!$H:$H,N112+2,1)","v":""}]
[null,null,"様",null,{"$f":"INDEX(入力!$F:$F,D112+2,1)","v":0},null,null,"様",null,{"$f":"INDEX(入力!$F:$F,I112+2,1)","v":0},null,null,"様",null,{"$f":"INDEX(入力!$F:$F,N112+2,1)","v":0}]
[{"$f":"入力!$E$1","v":"villa中"},{"$f":"INDEX(入力!$A:$A,D115+2,1)","v":0},{"$f":"INDEX(入力!$B:$B,D115+2,1)","v":0},{"$f":"D112+3","v":115},{"$f":"INDEX(入力!$C:$C,D115+2,1)","v":0},{"$f":"入力!$E$1","v":"villa中"},{"$f":"INDEX(入力!$A:$A,I115+2,1)","v":0},{"$f":"INDEX(入力!$B:$B,I115+2,1)","v":0},{"$f":"1+D115","v":116},{"$f":"INDEX(入力!$C:$C,I115+2,1)","v":0},{"$f":"入力!$E$1","v":"villa中"},{"$f":"INDEX(入力!$A:$A,N115+2,1)","v":0},{"$f":"INDEX(入力!$B:$B,N115+2,1)","v":0},{"$f":"1+I115","v":117},{"$f":"INDEX(入力!$C:$C,N115+2,1)","v":0}]
[{"$f":"INDEX(入力!$E:$E,D115+2,1)","v":0},null,null,null,{"$f":"INDEX(入力!$H:$H,D115+2,1)","v":""},{"$f":"INDEX(入力!$E:$E,I115+2,1)","v":0},null,null,null,{"$f":"INDEX(入力!$H:$H,I115+2,1)","v":""},{"$f":"INDEX(入力!$E:$E,N115+2,1)","v":0},null,null,null,{"$f":"INDEX(入力!$H:$H,N115+2,1)","v":""}]
[null,null,"様",null,{"$f":"INDEX(入力!$F:$F,D115+2,1)","v":0},null,null,"様",null,{"$f":"INDEX(入力!$F:$F,I115+2,1)","v":0},null,null,"様",null,{"$f":"INDEX(入力!$F:$F,N115+2,1)","v":0}]
[{"$f":"入力!$E$1","v":"villa中"},{"$f":"INDEX(入力!$A:$A,D118+2,1)","v":0},{"$f":"INDEX(入力!$B:$B,D118+2,1)","v":0},{"$f":"D115+3","v":118},{"$f":"INDEX(入力!$C:$C,D118+2,1)","v":0},{"$f":"入力!$E$1","v":"villa中"},{"$f":"INDEX(入力!$A:$A,I118+2,1)","v":0},{"$f":"INDEX(入力!$B:$B,I118+2,1)","v":0},{"$f":"1+D118","v":119},{"$f":"INDEX(入力!$C:$C,I118+2,1)","v":0},{"$f":"入力!$E$1","v":"villa中"},{"$f":"INDEX(入力!$A:$A,N118+2,1)","v":0},{"$f":"INDEX(入力!$B:$B,N118+2,1)","v":0},{"$f":"1+I118","v":120},{"$f":"INDEX(入力!$C:$C,N118+2,1)","v":0}]
[{"$f":"INDEX(入力!$E:$E,D118+2,1)","v":0},null,null,null,{"$f":"INDEX(入力!$H:$H,D118+2,1)","v":""},{"$f":"INDEX(入力!$E:$E,I118+2,1)","v":0},null,null,null,{"$f":"INDEX(入力!$H:$H,I118+2,1)","v":""},{"$f":"INDEX(入力!$E:$E,N118+2,1)","v":0},null,null,null,{"$f":"INDEX(入力!$H:$H,N118+2,1)","v":""}]
[null,null,"様",null,{"$f":"INDEX(入力!$F:$F,D118+2,1)","v":0},null,null,"様",null,{"$f":"INDEX(入力!$F:$F,I118+2,1)","v":0},null,null,"様",null,{"$f":"INDEX(入力!$F:$F,N118+2,1)","v":0}]
[{"$f":"入力!$E$1","v":"villa中"},{"$f":"INDEX(入力!$A:$A,D121+2,1)","v":0},{"$f":"INDEX(入力!$B:$B,D121+2,1)","v":0},{"$f":"D118+3","v":121},{"$f":"INDEX(入力!$C:$C,D121+2,1)","v":0},{"$f":"入力!$E$1","v":"villa中"},{"$f":"INDEX(入力!$A:$A,I121+2,1)","v":0},{"$f":"INDEX(入力!$B:$B,I121+2,1)","v":0},{"$f":"1+D121","v":122},{"$f":"INDEX(入力!$C:$C,I121+2,1)","v":0},{"$f":"入力!$E$1","v":"villa中"},{"$f":"INDEX(入力!$A:$A,N121+2,1)","v":0},{"$f":"INDEX(入力!$B:$B,N121+2,1)","v":0},{"$f":"1+I121","v":123},{"$f":"INDEX(入力!$C:$C,N121+2,1)","v":0}]
[{"$f":"INDEX(入力!$E:$E,D121+2,1)","v":0},null,null,null,{"$f":"INDEX(入力!$H:$H,D121+2,1)","v":""},{"$f":"INDEX(入力!$E:$E,I121+2,1)","v":0},null,null,null,{"$f":"INDEX(入力!$H:$H,I121+2,1)","v":""},{"$f":"INDEX(入力!$E:$E,N121+2,1)","v":0},null,null,null,{"$f":"INDEX(入力!$H:$H,N121+2,1)","v":""}]
[null,null,"様",null,{"$f":"INDEX(入力!$F:$F,D121+2,1)","v":0},null,null,"様",null,{"$f":"INDEX(入力!$F:$F,I121+2,1)","v":0},null,null,"様",null,{"$f":"INDEX(入力!$F:$F,N121+2,1)","v":0}]
[{"$f":"入力!$E$1","v":"villa中"},{"$f":"INDEX(入力!$A:$A,D124+2,1)","v":0},{"$f":"INDEX(入力!$B:$B,D124+2,1)","v":0},{"$f":"D121+3","v":124},{"$f":"INDEX(入力!$C:$C,D124+2,1)","v":0},{"$f":"入力!$E$1","v":"villa中"},{"$f":"INDEX(入力!$A:$A,I124+2,1)","v":0},{"$f":"INDEX(入力!$B:$B,I124+2,1)","v":0},{"$f":"1+D124","v":125},{"$f":"INDEX(入力!$C:$C,I124+2,1)","v":0},{"$f":"入力!$E$1","v":"villa中"},{"$f":"INDEX(入力!$A:$A,N124+2,1)","v":0},{"$f":"INDEX(入力!$B:$B,N124+2,1)","v":0},{"$f":"1+I124","v":126},{"$f":"INDEX(入力!$C:$C,N124+2,1)","v":0}]
[{"$f":"INDEX(入力!$E:$E,D124+2,1)","v":0},null,null,null,{"$f":"INDEX(入力!$H:$H,D124+2,1)","v":""},{"$f":"INDEX(入力!$E:$E,I124+2,1)","v":0},null,null,null,{"$f":"INDEX(入力!$H:$H,I124+2,1)","v":""},{"$f":"INDEX(入力!$E:$E,N124+2,1)","v":0},null,null,null,{"$f":"INDEX(入力!$H:$H,N124+2,1)","v":""}]
[null,null,"様",null,{"$f":"INDEX(入力!$F:$F,D124+2,1)","v":0},null,null,"様",null,{"$f":"INDEX(入力!$F:$F,I124+2,1)","v":0},null,null,"様",null,{"$f":"INDEX(入力!$F:$F,N124+2,1)","v":0}]
[{"$f":"入力!$E$1","v":"villa中"},{"$f":"INDEX(入力!$A:$A,D127+2,1)","v":0},{"$f":"INDEX(入力!$B:$B,D127+2,1)","v":0},{"$f":"D124+3","v":127},{"$f":"INDEX(入力!$C:$C,D127+2,1)","v":0},{"$f":"入力!$E$1","v":"villa中"},{"$f":"INDEX(入力!$A:$A,I127+2,1)","v":0},{"$f":"INDEX(入力!$B:$B,I127+2,1)","v":0},{"$f":"1+D127","v":128},{"$f":"INDEX(入力!$C:$C,I127+2,1)","v":0},{"$f":"入力!$E$1","v":"villa中"},{"$f":"INDEX(入力!$A:$A,N127+2,1)","v":0},{"$f":"INDEX(入力!$B:$B,N127+2,1)","v":0},{"$f":"1+I127","v":129},{"$f":"INDEX(入力!$C:$C,N127+2,1)","v":0}]
[{"$f":"INDEX(入力!$E:$E,D127+2,1)","v":0},null,null,null,{"$f":"INDEX(入力!$H:$H,D127+2,1)","v":""},{"$f":"INDEX(入力!$E:$E,I127+2,1)","v":0},null,null,null,{"$f":"INDEX(入力!$H:$H,I127+2,1)","v":""},{"$f":"INDEX(入力!$E:$E,N127+2,1)","v":0},null,null,null,{"$f":"INDEX(入力!$H:$H,N127+2,1)","v":""}]
[null,null,"様",null,{"$f":"INDEX(入力!$F:$F,D127+2,1)","v":0},null,null,"様",null,{"$f":"INDEX(入力!$F:$F,I127+2,1)","v":0},null,null,"様",null,{"$f":"INDEX(入力!$F:$F,N127+2,1)","v":0}]
[{"$f":"入力!$E$1","v":"villa中"},{"$f":"INDEX(入力!$A:$A,D130+2,1)","v":0},{"$f":"INDEX(入力!$B:$B,D130+2,1)","v":0},{"$f":"D127+3","v":130},{"$f":"INDEX(入力!$C:$C,D130+2,1)","v":0},{"$f":"入力!$E$1","v":"villa中"},{"$f":"INDEX(入力!$A:$A,I130+2,1)","v":0},{"$f":"INDEX(入力!$B:$B,I130+2,1)","v":0},{"$f":"1+D130","v":131},{"$f":"INDEX(入力!$C:$C,I130+2,1)","v":0},{"$f":"入力!$E$1","v":"villa中"},{"$f":"INDEX(入力!$A:$A,N130+2,1)","v":0},{"$f":"INDEX(入力!$B:$B,N130+2,1)","v":0},{"$f":"1+I130","v":132},{"$f":"INDEX(入力!$C:$C,N130+2,1)","v":0}]
[{"$f":"INDEX(入力!$E:$E,D130+2,1)","v":0},null,null,null,{"$f":"INDEX(入力!$H:$H,D130+2,1)","v":""},{"$f":"INDEX(入力!$E:$E,I130+2,1)","v":0},null,null,null,{"$f":"INDEX(入力!$H:$H,I130+2,1)","v":""},{"$f":"INDEX(入力!$E:$E,N130+2,1)","v":0},null,null,null,{"$f":"INDEX(入力!$H:$H,N130+2,1)","v":""}]
[null,null,"様",null,{"$f":"INDEX(入力!$F:$F,D130+2,1)","v":0},null,null,"様",null,{"$f":"INDEX(入力!$F:$F,I130+2,1)","v":0},null,null,"様",null,{"$f":"INDEX(入力!$F:$F,N130+2,1)","v":0}]
[{"$f":"入力!$E$1","v":"villa中"},{"$f":"INDEX(入力!$A:$A,D133+2,1)","v":0},{"$f":"INDEX(入力!$B:$B,D133+2,1)","v":0},{"$f":"D130+3","v":133},{"$f":"INDEX(入力!$C:$C,D133+2,1)","v":0},{"$f":"入力!$E$1","v":"villa中"},{"$f":"INDEX(入力!$A:$A,I133+2,1)","v":0},{"$f":"INDEX(入力!$B:$B,I133+2,1)","v":0},{"$f":"1+D133","v":134},{"$f":"INDEX(入力!$C:$C,I133+2,1)","v":0},{"$f":"入力!$E$1","v":"villa中"},{"$f":"INDEX(入力!$A:$A,N133+2,1)","v":0},{"$f":"INDEX(入力!$B:$B,N133+2,1)","v":0},{"$f":"1+I133","v":135},{"$f":"INDEX(入力!$C:$C,N133+2,1)","v":0}]
[{"$f":"INDEX(入力!$E:$E,D133+2,1)","v":0},null,null,null,{"$f":"INDEX(入力!$H:$H,D133+2,1)","v":""},{"$f":"INDEX(入力!$E:$E,I133+2,1)","v":0},null,null,null,{"$f":"INDEX(入力!$H:$H,I133+2,1)","v":""},{"$f":"INDEX(入力!$E:$E,N133+2,1)","v":0},null,null,null,{"$f":"INDEX(入力!$H:$H,N133+2,1)","v":""}]
[null,null,"様",null,{"$f":"INDEX(入力!$F:$F,D133+2,1)","v":0},null,null,"様",null,{"$f":"INDEX(入力!$F:$F,I133+2,1)","v":0},null,null,"様",null,{"$f":"INDEX(入力!$F:$F,N133+2,1)","v":0}]
[{"$f":"入力!$E$1","v":"villa中"},{"$f":"INDEX(入力!$A:$A,D136+2,1)","v":0},{"$f":"INDEX(入力!$B:$B,D136+2,1)","v":0},{"$f":"D133+3","v":136},{"$f":"INDEX(入力!$C:$C,D136+2,1)","v":0},{"$f":"入力!$E$1","v":"villa中"},{"$f":"INDEX(入力!$A:$A,I136+2,1)","v":0},{"$f":"INDEX(入力!$B:$B,I136+2,1)","v":0},{"$f":"1+D136","v":137},{"$f":"INDEX(入力!$C:$C,I136+2,1)","v":0},{"$f":"入力!$E$1","v":"villa中"},{"$f":"INDEX(入力!$A:$A,N136+2,1)","v":0},{"$f":"INDEX(入力!$B:$B,N136+2,1)","v":0},{"$f":"1+I136","v":138},{"$f":"INDEX(入力!$C:$C,N136+2,1)","v":0}]
[{"$f":"INDEX(入力!$E:$E,D136+2,1)","v":0},null,null,null,{"$f":"INDEX(入力!$H:$H,D136+2,1)","v":""},{"$f":"INDEX(入力!$E:$E,I136+2,1)","v":0},null,null,null,{"$f":"INDEX(入力!$H:$H,I136+2,1)","v":""},{"$f":"INDEX(入力!$E:$E,N136+2,1)","v":0},null,null,null,{"$f":"INDEX(入力!$H:$H,N136+2,1)","v":""}]
[null,null,"様",null,{"$f":"INDEX(入力!$F:$F,D136+2,1)","v":0},null,null,"様",null,{"$f":"INDEX(入力!$F:$F,I136+2,1)","v":0},null,null,"様",null,{"$f":"INDEX(入力!$F:$F,N136+2,1)","v":0}]
[{"$f":"入力!$E$1","v":"villa中"},{"$f":"INDEX(入力!$A:$A,D139+2,1)","v":0},{"$f":"INDEX(入力!$B:$B,D139+2,1)","v":0},{"$f":"D136+3","v":139},{"$f":"INDEX(入力!$C:$C,D139+2,1)","v":0},{"$f":"入力!$E$1","v":"villa中"},{"$f":"INDEX(入力!$A:$A,I139+2,1)","v":0},{"$f":"INDEX(入力!$B:$B,I139+2,1)","v":0},{"$f":"1+D139","v":140},{"$f":"INDEX(入力!$C:$C,I139+2,1)","v":0},{"$f":"入力!$E$1","v":"villa中"},{"$f":"INDEX(入力!$A:$A,N139+2,1)","v":0},{"$f":"INDEX(入力!$B:$B,N139+2,1)","v":0},{"$f":"1+I139","v":141},{"$f":"INDEX(入力!$C:$C,N139+2,1)","v":0}]
[{"$f":"INDEX(入力!$E:$E,D139+2,1)","v":0},null,null,null,{"$f":"INDEX(入力!$H:$H,D139+2,1)","v":""},{"$f":"INDEX(入力!$E:$E,I139+2,1)","v":0},null,null,null,{"$f":"INDEX(入力!$H:$H,I139+2,1)","v":""},{"$f":"INDEX(入力!$E:$E,N139+2,1)","v":0},null,null,null,{"$f":"INDEX(入力!$H:$H,N139+2,1)","v":""}]
[null,null,"様",null,{"$f":"INDEX(入力!$F:$F,D139+2,1)","v":0},null,null,"様",null,{"$f":"INDEX(入力!$F:$F,I139+2,1)","v":0},null,null,"様",null,{"$f":"INDEX(入力!$F:$F,N139+2,1)","v":0}]
[{"$f":"入力!$E$1","v":"villa中"},{"$f":"INDEX(入力!$A:$A,D142+2,1)","v":0},{"$f":"INDEX(入力!$B:$B,D142+2,1)","v":0},{"$f":"D139+3","v":142},{"$f":"INDEX(入力!$C:$C,D142+2,1)","v":0},{"$f":"入力!$E$1","v":"villa中"},{"$f":"INDEX(入力!$A:$A,I142+2,1)","v":0},{"$f":"INDEX(入力!$B:$B,I142+2,1)","v":0},{"$f":"1+D142","v":143},{"$f":"INDEX(入力!$C:$C,I142+2,1)","v":0},{"$f":"入力!$E$1","v":"villa中"},{"$f":"INDEX(入力!$A:$A,N142+2,1)","v":0},{"$f":"INDEX(入力!$B:$B,N142+2,1)","v":0},{"$f":"1+I142","v":144},{"$f":"INDEX(入力!$C:$C,N142+2,1)","v":0}]
[{"$f":"INDEX(入力!$E:$E,D142+2,1)","v":0},null,null,null,{"$f":"INDEX(入力!$H:$H,D142+2,1)","v":""},{"$f":"INDEX(入力!$E:$E,I142+2,1)","v":0},null,null,null,{"$f":"INDEX(入力!$H:$H,I142+2,1)","v":""},{"$f":"INDEX(入力!$E:$E,N142+2,1)","v":0},null,null,null,{"$f":"INDEX(入力!$H:$H,N142+2,1)","v":""}]
[null,null,"様",null,{"$f":"INDEX(入力!$F:$F,D142+2,1)","v":0},null,null,"様",null,{"$f":"INDEX(入力!$F:$F,I142+2,1)","v":0},null,null,"様",null,{"$f":"INDEX(入力!$F:$F,N142+2,1)","v":0}]
[{"$f":"入力!$E$1","v":"villa中"},{"$f":"INDEX(入力!$A:$A,D145+2,1)","v":0},{"$f":"INDEX(入力!$B:$B,D145+2,1)","v":0},{"$f":"D142+3","v":145},{"$f":"INDEX(入力!$C:$C,D145+2,1)","v":0},{"$f":"入力!$E$1","v":"villa中"},{"$f":"INDEX(入力!$A:$A,I145+2,1)","v":0},{"$f":"INDEX(入力!$B:$B,I145+2,1)","v":0},{"$f":"1+D145","v":146},{"$f":"INDEX(入力!$C:$C,I145+2,1)","v":0},{"$f":"入力!$E$1","v":"villa中"},{"$f":"INDEX(入力!$A:$A,N145+2,1)","v":0},{"$f":"INDEX(入力!$B:$B,N145+2,1)","v":0},{"$f":"1+I145","v":147},{"$f":"INDEX(入力!$C:$C,N145+2,1)","v":0}]
[{"$f":"INDEX(入力!$E:$E,D145+2,1)","v":0},null,null,null,{"$f":"INDEX(入力!$H:$H,D145+2,1)","v":""},{"$f":"INDEX(入力!$E:$E,I145+2,1)","v":0},null,null,null,{"$f":"INDEX(入力!$H:$H,I145+2,1)","v":""},{"$f":"INDEX(入力!$E:$E,N145+2,1)","v":0},null,null,null,{"$f":"INDEX(入力!$H:$H,N145+2,1)","v":""}]
[null,null,"様",null,{"$f":"INDEX(入力!$F:$F,D145+2,1)","v":0},null,null,"様",null,{"$f":"INDEX(入力!$F:$F,I145+2,1)","v":0},null,null,"様",null,{"$f":"INDEX(入力!$F:$F,N145+2,1)","v":0}]
[{"$f":"入力!$E$1","v":"villa中"},{"$f":"INDEX(入力!$A:$A,D148+2,1)","v":0},{"$f":"INDEX(入力!$B:$B,D148+2,1)","v":0},{"$f":"D145+3","v":148},{"$f":"INDEX(入力!$C:$C,D148+2,1)","v":0},{"$f":"入力!$E$1","v":"villa中"},{"$f":"INDEX(入力!$A:$A,I148+2,1)","v":0},{"$f":"INDEX(入力!$B:$B,I148+2,1)","v":0},{"$f":"1+D148","v":149},{"$f":"INDEX(入力!$C:$C,I148+2,1)","v":0},{"$f":"入力!$E$1","v":"villa中"},{"$f":"INDEX(入力!$A:$A,N148+2,1)","v":0},{"$f":"INDEX(入力!$B:$B,N148+2,1)","v":0},{"$f":"1+I148","v":150},{"$f":"INDEX(入力!$C:$C,N148+2,1)","v":0}]
[{"$f":"INDEX(入力!$E:$E,D148+2,1)","v":0},null,null,null,{"$f":"INDEX(入力!$H:$H,D148+2,1)","v":""},{"$f":"INDEX(入力!$E:$E,I148+2,1)","v":0},null,null,null,{"$f":"INDEX(入力!$H:$H,I148+2,1)","v":""},{"$f":"INDEX(入力!$E:$E,N148+2,1)","v":0},null,null,null,{"$f":"INDEX(入力!$H:$H,N148+2,1)","v":""}]
[null,null,"様",null,{"$f":"INDEX(入力!$F:$F,D148+2,1)","v":0},null,null,"様",null,{"$f":"INDEX(入力!$F:$F,I148+2,1)","v":0},null,null,"様",null,{"$f":"INDEX(入力!$F:$F,N148+2,1)","v":0}]
[{"$f":"入力!$E$1","v":"villa中"},{"$f":"INDEX(入力!$A:$A,D151+2,1)","v":0},{"$f":"INDEX(入力!$B:$B,D151+2,1)","v":0},{"$f":"D148+3","v":151},{"$f":"INDEX(入力!$C:$C,D151+2,1)","v":0},{"$f":"入力!$E$1","v":"villa中"},{"$f":"INDEX(入力!$A:$A,I151+2,1)","v":0},{"$f":"INDEX(入力!$B:$B,I151+2,1)","v":0},{"$f":"1+D151","v":152},{"$f":"INDEX(入力!$C:$C,I151+2,1)","v":0},{"$f":"入力!$E$1","v":"villa中"},{"$f":"INDEX(入力!$A:$A,N151+2,1)","v":0},{"$f":"INDEX(入力!$B:$B,N151+2,1)","v":0},{"$f":"1+I151","v":153},{"$f":"INDEX(入力!$C:$C,N151+2,1)","v":0}]
[{"$f":"INDEX(入力!$E:$E,D151+2,1)","v":0},null,null,null,{"$f":"INDEX(入力!$H:$H,D151+2,1)","v":""},{"$f":"INDEX(入力!$E:$E,I151+2,1)","v":0},null,null,null,{"$f":"INDEX(入力!$H:$H,I151+2,1)","v":""},{"$f":"INDEX(入力!$E:$E,N151+2,1)","v":0},null,null,null,{"$f":"INDEX(入力!$H:$H,N151+2,1)","v":""}]
[null,null,"様",null,{"$f":"INDEX(入力!$F:$F,D151+2,1)","v":0},null,null,"様",null,{"$f":"INDEX(入力!$F:$F,I151+2,1)","v":0},null,null,"様",null,{"$f":"INDEX(入力!$F:$F,N151+2,1)","v":0}]
[{"$f":"入力!$E$1","v":"villa中"},{"$f":"INDEX(入力!$A:$A,D154+2,1)","v":0},{"$f":"INDEX(入力!$B:$B,D154+2,1)","v":0},{"$f":"D151+3","v":154},{"$f":"INDEX(入力!$C:$C,D154+2,1)","v":0},{"$f":"入力!$E$1","v":"villa中"},{"$f":"INDEX(入力!$A:$A,I154+2,1)","v":0},{"$f":"INDEX(入力!$B:$B,I154+2,1)","v":0},{"$f":"1+D154","v":155},{"$f":"INDEX(入力!$C:$C,I154+2,1)","v":0},{"$f":"入力!$E$1","v":"villa中"},{"$f":"INDEX(入力!$A:$A,N154+2,1)","v":0},{"$f":"INDEX(入力!$B:$B,N154+2,1)","v":0},{"$f":"1+I154","v":156},{"$f":"INDEX(入力!$C:$C,N154+2,1)","v":0}]
[{"$f":"INDEX(入力!$E:$E,D154+2,1)","v":0},null,null,null,{"$f":"INDEX(入力!$H:$H,D154+2,1)","v":""},{"$f":"INDEX(入力!$E:$E,I154+2,1)","v":0},null,null,null,{"$f":"INDEX(入力!$H:$H,I154+2,1)","v":""},{"$f":"INDEX(入力!$E:$E,N154+2,1)","v":0},null,null,null,{"$f":"INDEX(入力!$H:$H,N154+2,1)","v":""}]
[null,null,"様",null,{"$f":"INDEX(入力!$F:$F,D154+2,1)","v":0},null,null,"様",null,{"$f":"INDEX(入力!$F:$F,I154+2,1)","v":0},null,null,"様",null,{"$f":"INDEX(入力!$F:$F,N154+2,1)","v":0}]
[{"$f":"入力!$E$1","v":"villa中"},{"$f":"INDEX(入力!$A:$A,D157+2,1)","v":0},{"$f":"INDEX(入力!$B:$B,D157+2,1)","v":0},{"$f":"D154+3","v":157},{"$f":"INDEX(入力!$C:$C,D157+2,1)","v":0},{"$f":"入力!$E$1","v":"villa中"},{"$f":"INDEX(入力!$A:$A,I157+2,1)","v":0},{"$f":"INDEX(入力!$B:$B,I157+2,1)","v":0},{"$f":"1+D157","v":158},{"$f":"INDEX(入力!$C:$C,I157+2,1)","v":0},{"$f":"入力!$E$1","v":"villa中"},{"$f":"INDEX(入力!$A:$A,N157+2,1)","v":0},{"$f":"INDEX(入力!$B:$B,N157+2,1)","v":0},{"$f":"1+I157","v":159},{"$f":"INDEX(入力!$C:$C,N157+2,1)","v":0}]
[{"$f":"INDEX(入力!$E:$E,D157+2,1)","v":0},null,null,null,{"$f":"INDEX(入力!$H:$H,D157+2,1)","v":""},{"$f":"INDEX(入力!$E:$E,I157+2,1)","v":0},null,null,null,{"$f":"INDEX(入力!$H:$H,I157+2,1)","v":""},{"$f":"INDEX(入力!$E:$E,N157+2,1)","v":0},null,null,null,{"$f":"INDEX(入力!$H:$H,N157+2,1)","v":""}]
[null,null,"様",null,{"$f":"INDEX(入力!$F:$F,D157+2,1)","v":0},null,null,"様",null,{"$f":"INDEX(入力!$F:$F,I157+2,1)","v":0},null,null,"様",null,{"$f":"INDEX(入力!$F:$F,N157+2,1)","v":0}]
[{"$f":"入力!$E$1","v":"villa中"},{"$f":"INDEX(入力!$A:$A,D160+2,1)","v":0},{"$f":"INDEX(入力!$B:$B,D160+2,1)","v":0},{"$f":"D157+3","v":160},{"$f":"INDEX(入力!$C:$C,D160+2,1)","v":0},{"$f":"入力!$E$1","v":"villa中"},{"$f":"INDEX(入力!$A:$A,I160+2,1)","v":0},{"$f":"INDEX(入力!$B:$B,I160+2,1)","v":0},{"$f":"1+D160","v":161},{"$f":"INDEX(入力!$C:$C,I160+2,1)","v":0},{"$f":"入力!$E$1","v":"villa中"},{"$f":"INDEX(入力!$A:$A,N160+2,1)","v":0},{"$f":"INDEX(入力!$B:$B,N160+2,1)","v":0},{"$f":"1+I160","v":162},{"$f":"INDEX(入力!$C:$C,N160+2,1)","v":0}]
[{"$f":"INDEX(入力!$E:$E,D160+2,1)","v":0},null,null,null,{"$f":"INDEX(入力!$H:$H,D160+2,1)","v":""},{"$f":"INDEX(入力!$E:$E,I160+2,1)","v":0},null,null,null,{"$f":"INDEX(入力!$H:$H,I160+2,1)","v":""},{"$f":"INDEX(入力!$E:$E,N160+2,1)","v":0},null,null,null,{"$f":"INDEX(入力!$H:$H,N160+2,1)","v":""}]
[null,null,"様",null,{"$f":"INDEX(入力!$F:$F,D160+2,1)","v":0},null,null,"様",null,{"$f":"INDEX(入力!$F:$F,I160+2,1)","v":0},null,null,"様",null,{"$f":"INDEX(入力!$F:$F,N160+2,1)","v":0}]
[{"$f":"入力!$E$1","v":"villa中"},{"$f":"INDEX(入力!$A:$A,D163+2,1)","v":0},{"$f":"INDEX(入力!$B:$B,D163+2,1)","v":0},{"$f":"D160+3","v":163},{"$f":"INDEX(入力!$C:$C,D163+2,1)","v":0},{"$f":"入力!$E$1","v":"villa中"},{"$f":"INDEX(入力!$A:$A,I163+2,1)","v":0},{"$f":"INDEX(入力!$B:$B,I163+2,1)","v":0},{"$f":"1+D163","v":164},{"$f":"INDEX(入力!$C:$C,I163+2,1)","v":0},{"$f":"入力!$E$1","v":"villa中"},{"$f":"INDEX(入力!$A:$A,N163+2,1)","v":0},{"$f":"INDEX(入力!$B:$B,N163+2,1)","v":0},{"$f":"1+I163","v":165},{"$f":"INDEX(入力!$C:$C,N163+2,1)","v":0}]
[{"$f":"INDEX(入力!$E:$E,D163+2,1)","v":0},null,null,null,{"$f":"INDEX(入力!$H:$H,D163+2,1)","v":""},{"$f":"INDEX(入力!$E:$E,I163+2,1)","v":0},null,null,null,{"$f":"INDEX(入力!$H:$H,I163+2,1)","v":""},{"$f":"INDEX(入力!$E:$E,N163+2,1)","v":0},null,null,null,{"$f":"INDEX(入力!$H:$H,N163+2,1)","v":""}]
[null,null,"様",null,{"$f":"INDEX(入力!$F:$F,D163+2,1)","v":0},null,null,"様",null,{"$f":"INDEX(入力!$F:$F,I163+2,1)","v":0},null,null,"様",null,{"$f":"INDEX(入力!$F:$F,N163+2,1)","v":0}]
[{"$f":"入力!$E$1","v":"villa中"},{"$f":"INDEX(入力!$A:$A,D166+2,1)","v":0},{"$f":"INDEX(入力!$B:$B,D166+2,1)","v":0},{"$f":"D163+3","v":166},{"$f":"INDEX(入力!$C:$C,D166+2,1)","v":0},{"$f":"入力!$E$1","v":"villa中"},{"$f":"INDEX(入力!$A:$A,I166+2,1)","v":0},{"$f":"INDEX(入力!$B:$B,I166+2,1)","v":0},{"$f":"1+D166","v":167},{"$f":"INDEX(入力!$C:$C,I166+2,1)","v":0},{"$f":"入力!$E$1","v":"villa中"},{"$f":"INDEX(入力!$A:$A,N166+2,1)","v":0},{"$f":"INDEX(入力!$B:$B,N166+2,1)","v":0},{"$f":"1+I166","v":168},{"$f":"INDEX(入力!$C:$C,N166+2,1)","v":0}]
[{"$f":"INDEX(入力!$E:$E,D166+2,1)","v":0},null,null,null,{"$f":"INDEX(入力!$H:$H,D166+2,1)","v":""},{"$f":"INDEX(入力!$E:$E,I166+2,1)","v":0},null,null,null,{"$f":"INDEX(入力!$H:$H,I166+2,1)","v":""},{"$f":"INDEX(入力!$E:$E,N166+2,1)","v":0},null,null,null,{"$f":"INDEX(入力!$H:$H,N166+2,1)","v":""}]
[null,null,"様",null,{"$f":"INDEX(入力!$F:$F,D166+2,1)","v":0},null,null,"様",null,{"$f":"INDEX(入力!$F:$F,I166+2,1)","v":0},null,null,"様",null,{"$f":"INDEX(入力!$F:$F,N166+2,1)","v":0}]
[{"$f":"入力!$E$1","v":"villa中"},{"$f":"INDEX(入力!$A:$A,D169+2,1)","v":0},{"$f":"INDEX(入力!$B:$B,D169+2,1)","v":0},{"$f":"D166+3","v":169},{"$f":"INDEX(入力!$C:$C,D169+2,1)","v":0},{"$f":"入力!$E$1","v":"villa中"},{"$f":"INDEX(入力!$A:$A,I169+2,1)","v":0},{"$f":"INDEX(入力!$B:$B,I169+2,1)","v":0},{"$f":"1+D169","v":170},{"$f":"INDEX(入力!$C:$C,I169+2,1)","v":0},{"$f":"入力!$E$1","v":"villa中"},{"$f":"INDEX(入力!$A:$A,N169+2,1)","v":0},{"$f":"INDEX(入力!$B:$B,N169+2,1)","v":0},{"$f":"1+I169","v":171},{"$f":"INDEX(入力!$C:$C,N169+2,1)","v":0}]
[{"$f":"INDEX(入力!$E:$E,D169+2,1)","v":0},null,null,null,{"$f":"INDEX(入力!$H:$H,D169+2,1)","v":""},{"$f":"INDEX(入力!$E:$E,I169+2,1)","v":0},null,null,null,{"$f":"INDEX(入力!$H:$H,I169+2,1)","v":""},{"$f":"INDEX(入力!$E:$E,N169+2,1)","v":0},null,null,null,{"$f":"INDEX(入力!$H:$H,N169+2,1)","v":""}]
[null,null,"様",null,{"$f":"INDEX(入力!$F:$F,D169+2,1)","v":0},null,null,"様",null,{"$f":"INDEX(入力!$F:$F,I169+2,1)","v":0},null,null,"様",null,{"$f":"INDEX(入力!$F:$F,N169+2,1)","v":0}]
[{"$f":"入力!$E$1","v":"villa中"},{"$f":"INDEX(入力!$A:$A,D172+2,1)","v":0},{"$f":"INDEX(入力!$B:$B,D172+2,1)","v":0},{"$f":"D169+3","v":172},{"$f":"INDEX(入力!$C:$C,D172+2,1)","v":0},{"$f":"入力!$E$1","v":"villa中"},{"$f":"INDEX(入力!$A:$A,I172+2,1)","v":0},{"$f":"INDEX(入力!$B:$B,I172+2,1)","v":0},{"$f":"1+D172","v":173},{"$f":"INDEX(入力!$C:$C,I172+2,1)","v":0},{"$f":"入力!$E$1","v":"villa中"},{"$f":"INDEX(入力!$A:$A,N172+2,1)","v":0},{"$f":"INDEX(入力!$B:$B,N172+2,1)","v":0},{"$f":"1+I172","v":174},{"$f":"INDEX(入力!$C:$C,N172+2,1)","v":0}]
[{"$f":"INDEX(入力!$E:$E,D172+2,1)","v":0},null,null,null,{"$f":"INDEX(入力!$H:$H,D172+2,1)","v":""},{"$f":"INDEX(入力!$E:$E,I172+2,1)","v":0},null,null,null,{"$f":"INDEX(入力!$H:$H,I172+2,1)","v":""},{"$f":"INDEX(入力!$E:$E,N172+2,1)","v":0},null,null,null,{"$f":"INDEX(入力!$H:$H,N172+2,1)","v":""}]
[null,null,"様",null,{"$f":"INDEX(入力!$F:$F,D172+2,1)","v":0},null,null,"様",null,{"$f":"INDEX(入力!$F:$F,I172+2,1)","v":0},null,null,"様",null,{"$f":"INDEX(入力!$F:$F,N172+2,1)","v":0}]
[{"$f":"入力!$E$1","v":"villa中"},{"$f":"INDEX(入力!$A:$A,D175+2,1)","v":0},{"$f":"INDEX(入力!$B:$B,D175+2,1)","v":0},{"$f":"D172+3","v":175},{"$f":"INDEX(入力!$C:$C,D175+2,1)","v":0},{"$f":"入力!$E$1","v":"villa中"},{"$f":"INDEX(入力!$A:$A,I175+2,1)","v":0},{"$f":"INDEX(入力!$B:$B,I175+2,1)","v":0},{"$f":"1+D175","v":176},{"$f":"INDEX(入力!$C:$C,I175+2,1)","v":0},{"$f":"入力!$E$1","v":"villa中"},{"$f":"INDEX(入力!$A:$A,N175+2,1)","v":0},{"$f":"INDEX(入力!$B:$B,N175+2,1)","v":0},{"$f":"1+I175","v":177},{"$f":"INDEX(入力!$C:$C,N175+2,1)","v":0}]
[{"$f":"INDEX(入力!$E:$E,D175+2,1)","v":0},null,null,null,{"$f":"INDEX(入力!$H:$H,D175+2,1)","v":""},{"$f":"INDEX(入力!$E:$E,I175+2,1)","v":0},null,null,null,{"$f":"INDEX(入力!$H:$H,I175+2,1)","v":""},{"$f":"INDEX(入力!$E:$E,N175+2,1)","v":0},null,null,null,{"$f":"INDEX(入力!$H:$H,N175+2,1)","v":""}]
[null,null,"様",null,{"$f":"INDEX(入力!$F:$F,D175+2,1)","v":0},null,null,"様",null,{"$f":"INDEX(入力!$F:$F,I175+2,1)","v":0},null,null,"様",null,{"$f":"INDEX(入力!$F:$F,N175+2,1)","v":0}]
[{"$f":"入力!$E$1","v":"villa中"},{"$f":"INDEX(入力!$A:$A,D178+2,1)","v":0},{"$f":"INDEX(入力!$B:$B,D178+2,1)","v":0},{"$f":"D175+3","v":178},{"$f":"INDEX(入力!$C:$C,D178+2,1)","v":0},{"$f":"入力!$E$1","v":"villa中"},{"$f":"INDEX(入力!$A:$A,I178+2,1)","v":0},{"$f":"INDEX(入力!$B:$B,I178+2,1)","v":0},{"$f":"1+D178","v":179},{"$f":"INDEX(入力!$C:$C,I178+2,1)","v":0},{"$f":"入力!$E$1","v":"villa中"},{"$f":"INDEX(入力!$A:$A,N178+2,1)","v":0},{"$f":"INDEX(入力!$B:$B,N178+2,1)","v":0},{"$f":"1+I178","v":180},{"$f":"INDEX(入力!$C:$C,N178+2,1)","v":0}]
[{"$f":"INDEX(入力!$E:$E,D178+2,1)","v":0},null,null,null,{"$f":"INDEX(入力!$H:$H,D178+2,1)","v":""},{"$f":"INDEX(入力!$E:$E,I178+2,1)","v":0},null,null,null,{"$f":"INDEX(入力!$H:$H,I178+2,1)","v":""},{"$f":"INDEX(入力!$E:$E,N178+2,1)","v":0},null,null,null,{"$f":"INDEX(入力!$H:$H,N178+2,1)","v":""}]
[null,null,"様",null,{"$f":"INDEX(入力!$F:$F,D178+2,1)","v":0},null,null,"様",null,{"$f":"INDEX(入力!$F:$F,I178+2,1)","v":0},null,null,"様",null,{"$f":"INDEX(入力!$F:$F,N178+2,1)","v":0}]
[{"$f":"入力!$E$1","v":"villa中"},{"$f":"INDEX(入力!$A:$A,D181+2,1)","v":0},{"$f":"INDEX(入力!$B:$B,D181+2,1)","v":0},{"$f":"D178+3","v":181},{"$f":"INDEX(入力!$C:$C,D181+2,1)","v":0},{"$f":"入力!$E$1","v":"villa中"},{"$f":"INDEX(入力!$A:$A,I181+2,1)","v":0},{"$f":"INDEX(入力!$B:$B,I181+2,1)","v":0},{"$f":"1+D181","v":182},{"$f":"INDEX(入力!$C:$C,I181+2,1)","v":0},{"$f":"入力!$E$1","v":"villa中"},{"$f":"INDEX(入力!$A:$A,N181+2,1)","v":0},{"$f":"INDEX(入力!$B:$B,N181+2,1)","v":0},{"$f":"1+I181","v":183},{"$f":"INDEX(入力!$C:$C,N181+2,1)","v":0}]
[{"$f":"INDEX(入力!$E:$E,D181+2,1)","v":0},null,null,null,{"$f":"INDEX(入力!$H:$H,D181+2,1)","v":""},{"$f":"INDEX(入力!$E:$E,I181+2,1)","v":0},null,null,null,{"$f":"INDEX(入力!$H:$H,I181+2,1)","v":""},{"$f":"INDEX(入力!$E:$E,N181+2,1)","v":0},null,null,null,{"$f":"INDEX(入力!$H:$H,N181+2,1)","v":""}]
[null,null,"様",null,{"$f":"INDEX(入力!$F:$F,D181+2,1)","v":0},null,null,"様",null,{"$f":"INDEX(入力!$F:$F,I181+2,1)","v":0},null,null,"様",null,{"$f":"INDEX(入力!$F:$F,N181+2,1)","v":0}]
[{"$f":"入力!$E$1","v":"villa中"},{"$f":"INDEX(入力!$A:$A,D184+2,1)","v":0},{"$f":"INDEX(入力!$B:$B,D184+2,1)","v":0},{"$f":"D181+3","v":184},{"$f":"INDEX(入力!$C:$C,D184+2,1)","v":0},{"$f":"入力!$E$1","v":"villa中"},{"$f":"INDEX(入力!$A:$A,I184+2,1)","v":0},{"$f":"INDEX(入力!$B:$B,I184+2,1)","v":0},{"$f":"1+D184","v":185},{"$f":"INDEX(入力!$C:$C,I184+2,1)","v":0},{"$f":"入力!$E$1","v":"villa中"},{"$f":"INDEX(入力!$A:$A,N184+2,1)","v":0},{"$f":"INDEX(入力!$B:$B,N184+2,1)","v":0},{"$f":"1+I184","v":186},{"$f":"INDEX(入力!$C:$C,N184+2,1)","v":0}]
[{"$f":"INDEX(入力!$E:$E,D184+2,1)","v":0},null,null,null,{"$f":"INDEX(入力!$H:$H,D184+2,1)","v":""},{"$f":"INDEX(入力!$E:$E,I184+2,1)","v":0},null,null,null,{"$f":"INDEX(入力!$H:$H,I184+2,1)","v":""},{"$f":"INDEX(入力!$E:$E,N184+2,1)","v":0},null,null,null,{"$f":"INDEX(入力!$H:$H,N184+2,1)","v":""}]
[null,null,"様",null,{"$f":"INDEX(入力!$F:$F,D184+2,1)","v":0},null,null,"様",null,{"$f":"INDEX(入力!$F:$F,I184+2,1)","v":0},null,null,"様",null,{"$f":"INDEX(入力!$F:$F,N184+2,1)","v":0}]
[{"$f":"入力!$E$1","v":"villa中"},{"$f":"INDEX(入力!$A:$A,D187+2,1)","v":0},{"$f":"INDEX(入力!$B:$B,D187+2,1)","v":0},{"$f":"D184+3","v":187},{"$f":"INDEX(入力!$C:$C,D187+2,1)","v":0},{"$f":"入力!$E$1","v":"villa中"},{"$f":"INDEX(入力!$A:$A,I187+2,1)","v":0},{"$f":"INDEX(入力!$B:$B,I187+2,1)","v":0},{"$f":"1+D187","v":188},{"$f":"INDEX(入力!$C:$C,I187+2,1)","v":0},{"$f":"入力!$E$1","v":"villa中"},{"$f":"INDEX(入力!$A:$A,N187+2,1)","v":0},{"$f":"INDEX(入力!$B:$B,N187+2,1)","v":0},{"$f":"1+I187","v":189},{"$f":"INDEX(入力!$C:$C,N187+2,1)","v":0}]
[{"$f":"INDEX(入力!$E:$E,D187+2,1)","v":0},null,null,null,{"$f":"INDEX(入力!$H:$H,D187+2,1)","v":""},{"$f":"INDEX(入力!$E:$E,I187+2,1)","v":0},null,null,null,{"$f":"INDEX(入力!$H:$H,I187+2,1)","v":""},{"$f":"INDEX(入力!$E:$E,N187+2,1)","v":0},null,null,null,{"$f":"INDEX(入力!$H:$H,N187+2,1)","v":""}]
[null,null,"様",null,{"$f":"INDEX(入力!$F:$F,D187+2,1)","v":0},null,null,"様",null,{"$f":"INDEX(入力!$F:$F,I187+2,1)","v":0},null,null,"様",null,{"$f":"INDEX(入力!$F:$F,N187+2,1)","v":0}]
[{"$f":"入力!$E$1","v":"villa中"},{"$f":"INDEX(入力!$A:$A,D190+2,1)","v":0},{"$f":"INDEX(入力!$B:$B,D190+2,1)","v":0},{"$f":"D187+3","v":190},{"$f":"INDEX(入力!$C:$C,D190+2,1)","v":0},{"$f":"入力!$E$1","v":"villa中"},{"$f":"INDEX(入力!$A:$A,I190+2,1)","v":0},{"$f":"INDEX(入力!$B:$B,I190+2,1)","v":0},{"$f":"1+D190","v":191},{"$f":"INDEX(入力!$C:$C,I190+2,1)","v":0},{"$f":"入力!$E$1","v":"villa中"},{"$f":"INDEX(入力!$A:$A,N190+2,1)","v":0},{"$f":"INDEX(入力!$B:$B,N190+2,1)","v":0},{"$f":"1+I190","v":192},{"$f":"INDEX(入力!$C:$C,N190+2,1)","v":0}]
[{"$f":"INDEX(入力!$E:$E,D190+2,1)","v":0},null,null,null,{"$f":"INDEX(入力!$H:$H,D190+2,1)","v":""},{"$f":"INDEX(入力!$E:$E,I190+2,1)","v":0},null,null,null,{"$f":"INDEX(入力!$H:$H,I190+2,1)","v":""},{"$f":"INDEX(入力!$E:$E,N190+2,1)","v":0},null,null,null,{"$f":"INDEX(入力!$H:$H,N190+2,1)","v":""}]
[null,null,"様",null,{"$f":"INDEX(入力!$F:$F,D190+2,1)","v":0},null,null,"様",null,{"$f":"INDEX(入力!$F:$F,I190+2,1)","v":0},null,null,"様",null,{"$f":"INDEX(入力!$F:$F,N190+2,1)","v":0}]
[{"$f":"入力!$E$1","v":"villa中"},{"$f":"INDEX(入力!$A:$A,D193+2,1)","v":0},{"$f":"INDEX(入力!$B:$B,D193+2,1)","v":0},{"$f":"D190+3","v":193},{"$f":"INDEX(入力!$C:$C,D193+2,1)","v":0},{"$f":"入力!$E$1","v":"villa中"},{"$f":"INDEX(入力!$A:$A,I193+2,1)","v":0},{"$f":"INDEX(入力!$B:$B,I193+2,1)","v":0},{"$f":"1+D193","v":194},{"$f":"INDEX(入力!$C:$C,I193+2,1)","v":0},{"$f":"入力!$E$1","v":"villa中"},{"$f":"INDEX(入力!$A:$A,N193+2,1)","v":0},{"$f":"INDEX(入力!$B:$B,N193+2,1)","v":0},{"$f":"1+I193","v":195},{"$f":"INDEX(入力!$C:$C,N193+2,1)","v":0}]
[{"$f":"INDEX(入力!$E:$E,D193+2,1)","v":0},null,null,null,{"$f":"INDEX(入力!$H:$H,D193+2,1)","v":""},{"$f":"INDEX(入力!$E:$E,I193+2,1)","v":0},null,null,null,{"$f":"INDEX(入力!$H:$H,I193+2,1)","v":""},{"$f":"INDEX(入力!$E:$E,N193+2,1)","v":0},null,null,null,{"$f":"INDEX(入力!$H:$H,N193+2,1)","v":""}]
[null,null,"様",null,{"$f":"INDEX(入力!$F:$F,D193+2,1)","v":0},null,null,"様",null,{"$f":"INDEX(入力!$F:$F,I193+2,1)","v":0},null,null,"様",null,{"$f":"INDEX(入力!$F:$F,N193+2,1)","v":0}]
[{"$f":"入力!$E$1","v":"villa中"},{"$f":"INDEX(入力!$A:$A,D196+2,1)","v":0},{"$f":"INDEX(入力!$B:$B,D196+2,1)","v":0},{"$f":"D193+3","v":196},{"$f":"INDEX(入力!$C:$C,D196+2,1)","v":0},{"$f":"入力!$E$1","v":"villa中"},{"$f":"INDEX(入力!$A:$A,I196+2,1)","v":0},{"$f":"INDEX(入力!$B:$B,I196+2,1)","v":0},{"$f":"1+D196","v":197},{"$f":"INDEX(入力!$C:$C,I196+2,1)","v":0},{"$f":"入力!$E$1","v":"villa中"},{"$f":"INDEX(入力!$A:$A,N196+2,1)","v":0},{"$f":"INDEX(入力!$B:$B,N196+2,1)","v":0},{"$f":"1+I196","v":198},{"$f":"INDEX(入力!$C:$C,N196+2,1)","v":0}]
[{"$f":"INDEX(入力!$E:$E,D196+2,1)","v":0},null,null,null,{"$f":"INDEX(入力!$H:$H,D196+2,1)","v":""},{"$f":"INDEX(入力!$E:$E,I196+2,1)","v":0},null,null,null,{"$f":"INDEX(入力!$H:$H,I196+2,1)","v":""},{"$f":"INDEX(入力!$E:$E,N196+2,1)","v":0},null,null,null,{"$f":"INDEX(入力!$H:$H,N196+2,1)","v":""}]
[null,null,"様",null,{"$f":"INDEX(入力!$F:$F,D196+2,1)","v":0},null,null,"様",null,{"$f":"INDEX(入力!$F:$F,I196+2,1)","v":0},null,null,"様",null,{"$f":"INDEX(入力!$F:$F,N196+2,1)","v":0}]
[{"$f":"入力!$E$1","v":"villa中"},{"$f":"INDEX(入力!$A:$A,D199+2,1)","v":0},{"$f":"INDEX(入力!$B:$B,D199+2,1)","v":0},{"$f":"D196+3","v":199},{"$f":"INDEX(入力!$C:$C,D199+2,1)","v":0},{"$f":"入力!$E$1","v":"villa中"},{"$f":"INDEX(入力!$A:$A,I199+2,1)","v":0},{"$f":"INDEX(入力!$B:$B,I199+2,1)","v":0},{"$f":"1+D199","v":200},{"$f":"INDEX(入力!$C:$C,I199+2,1)","v":0},{"$f":"入力!$E$1","v":"villa中"},{"$f":"INDEX(入力!$A:$A,N199+2,1)","v":0},{"$f":"INDEX(入力!$B:$B,N199+2,1)","v":0},{"$f":"1+I199","v":201},{"$f":"INDEX(入力!$C:$C,N199+2,1)","v":0}]
[{"$f":"INDEX(入力!$E:$E,D199+2,1)","v":0},null,null,null,{"$f":"INDEX(入力!$H:$H,D199+2,1)","v":""},{"$f":"INDEX(入力!$E:$E,I199+2,1)","v":0},null,null,null,{"$f":"INDEX(入力!$H:$H,I199+2,1)","v":""},{"$f":"INDEX(入力!$E:$E,N199+2,1)","v":0},null,null,null,{"$f":"INDEX(入力!$H:$H,N199+2,1)","v":""}]
[null,null,"様",null,{"$f":"INDEX(入力!$F:$F,D199+2,1)","v":0},null,null,"様",null,{"$f":"INDEX(入力!$F:$F,I199+2,1)","v":0},null,null,"様",null,{"$f":"INDEX(入力!$F:$F,N199+2,1)","v":0}]
[{"$f":"入力!$E$1","v":"villa中"},{"$f":"INDEX(入力!$A:$A,D202+2,1)","v":0},{"$f":"INDEX(入力!$B:$B,D202+2,1)","v":0},{"$f":"D199+3","v":202},{"$f":"INDEX(入力!$C:$C,D202+2,1)","v":0},{"$f":"入力!$E$1","v":"villa中"},{"$f":"INDEX(入力!$A:$A,I202+2,1)","v":0},{"$f":"INDEX(入力!$B:$B,I202+2,1)","v":0},{"$f":"1+D202","v":203},{"$f":"INDEX(入力!$C:$C,I202+2,1)","v":0},{"$f":"入力!$E$1","v":"villa中"},{"$f":"INDEX(入力!$A:$A,N202+2,1)","v":0},{"$f":"INDEX(入力!$B:$B,N202+2,1)","v":0},{"$f":"1+I202","v":204},{"$f":"INDEX(入力!$C:$C,N202+2,1)","v":0}]
[{"$f":"INDEX(入力!$E:$E,D202+2,1)","v":0},null,null,null,{"$f":"INDEX(入力!$H:$H,D202+2,1)","v":""},{"$f":"INDEX(入力!$E:$E,I202+2,1)","v":0},null,null,null,{"$f":"INDEX(入力!$H:$H,I202+2,1)","v":""},{"$f":"INDEX(入力!$E:$E,N202+2,1)","v":0},null,null,null,{"$f":"INDEX(入力!$H:$H,N202+2,1)","v":""}]
[null,null,"様",null,{"$f":"INDEX(入力!$F:$F,D202+2,1)","v":0},null,null,"様",null,{"$f":"INDEX(入力!$F:$F,I202+2,1)","v":0},null,null,"様",null,{"$f":"INDEX(入力!$F:$F,N202+2,1)","v":0}]
[{"$f":"入力!$E$1","v":"villa中"},{"$f":"INDEX(入力!$A:$A,D205+2,1)","v":0},{"$f":"INDEX(入力!$B:$B,D205+2,1)","v":0},{"$f":"D202+3","v":205},{"$f":"INDEX(入力!$C:$C,D205+2,1)","v":0},{"$f":"入力!$E$1","v":"villa中"},{"$f":"INDEX(入力!$A:$A,I205+2,1)","v":0},{"$f":"INDEX(入力!$B:$B,I205+2,1)","v":0},{"$f":"1+D205","v":206},{"$f":"INDEX(入力!$C:$C,I205+2,1)","v":0},{"$f":"入力!$E$1","v":"villa中"},{"$f":"INDEX(入力!$A:$A,N205+2,1)","v":0},{"$f":"INDEX(入力!$B:$B,N205+2,1)","v":0},{"$f":"1+I205","v":207},{"$f":"INDEX(入力!$C:$C,N205+2,1)","v":0}]
[{"$f":"INDEX(入力!$E:$E,D205+2,1)","v":0},null,null,null,{"$f":"INDEX(入力!$H:$H,D205+2,1)","v":""},{"$f":"INDEX(入力!$E:$E,I205+2,1)","v":0},null,null,null,{"$f":"INDEX(入力!$H:$H,I205+2,1)","v":""},{"$f":"INDEX(入力!$E:$E,N205+2,1)","v":0},null,null,null,{"$f":"INDEX(入力!$H:$H,N205+2,1)","v":""}]
[null,null,"様",null,{"$f":"INDEX(入力!$F:$F,D205+2,1)","v":0},null,null,"様",null,{"$f":"INDEX(入力!$F:$F,I205+2,1)","v":0},null,null,"様",null,{"$f":"INDEX(入力!$F:$F,N205+2,1)","v":0}]
[{"$f":"入力!$E$1","v":"villa中"},{"$f":"INDEX(入力!$A:$A,D208+2,1)","v":0},{"$f":"INDEX(入力!$B:$B,D208+2,1)","v":0},{"$f":"D205+3","v":208},{"$f":"INDEX(入力!$C:$C,D208+2,1)","v":0},{"$f":"入力!$E$1","v":"villa中"},{"$f":"INDEX(入力!$A:$A,I208+2,1)","v":0},{"$f":"INDEX(入力!$B:$B,I208+2,1)","v":0},{"$f":"1+D208","v":209},{"$f":"INDEX(入力!$C:$C,I208+2,1)","v":0},{"$f":"入力!$E$1","v":"villa中"},{"$f":"INDEX(入力!$A:$A,N208+2,1)","v":0},{"$f":"INDEX(入力!$B:$B,N208+2,1)","v":0},{"$f":"1+I208","v":210},{"$f":"INDEX(入力!$C:$C,N208+2,1)","v":0}]
[{"$f":"INDEX(入力!$E:$E,D208+2,1)","v":0},null,null,null,{"$f":"INDEX(入力!$H:$H,D208+2,1)","v":""},{"$f":"INDEX(入力!$E:$E,I208+2,1)","v":0},null,null,null,{"$f":"INDEX(入力!$H:$H,I208+2,1)","v":""},{"$f":"INDEX(入力!$E:$E,N208+2,1)","v":0},null,null,null,{"$f":"INDEX(入力!$H:$H,N208+2,1)","v":""}]
[null,null,"様",null,{"$f":"INDEX(入力!$F:$F,D208+2,1)","v":0},null,null,"様",null,{"$f":"INDEX(入力!$F:$F,I208+2,1)","v":0},null,null,"様",null,{"$f":"INDEX(入力!$F:$F,N208+2,1)","v":0}]
[{"$f":"入力!$E$1","v":"villa中"},{"$f":"INDEX(入力!$A:$A,D211+2,1)","v":0},{"$f":"INDEX(入力!$B:$B,D211+2,1)","v":0},{"$f":"D208+3","v":211},{"$f":"INDEX(入力!$C:$C,D211+2,1)","v":0},{"$f":"入力!$E$1","v":"villa中"},{"$f":"INDEX(入力!$A:$A,I211+2,1)","v":0},{"$f":"INDEX(入力!$B:$B,I211+2,1)","v":0},{"$f":"1+D211","v":212},{"$f":"INDEX(入力!$C:$C,I211+2,1)","v":0},{"$f":"入力!$E$1","v":"villa中"},{"$f":"INDEX(入力!$A:$A,N211+2,1)","v":0},{"$f":"INDEX(入力!$B:$B,N211+2,1)","v":0},{"$f":"1+I211","v":213},{"$f":"INDEX(入力!$C:$C,N211+2,1)","v":0}]
[{"$f":"INDEX(入力!$E:$E,D211+2,1)","v":0},null,null,null,{"$f":"INDEX(入力!$H:$H,D211+2,1)","v":""},{"$f":"INDEX(入力!$E:$E,I211+2,1)","v":0},null,null,null,{"$f":"INDEX(入力!$H:$H,I211+2,1)","v":""},{"$f":"INDEX(入力!$E:$E,N211+2,1)","v":0},null,null,null,{"$f":"INDEX(入力!$H:$H,N211+2,1)","v":""}]
[null,null,"様",null,{"$f":"INDEX(入力!$F:$F,D211+2,1)","v":0},null,null,"様",null,{"$f":"INDEX(入力!$F:$F,I211+2,1)","v":0},null,null,"様",null,{"$f":"INDEX(入力!$F:$F,N211+2,1)","v":0}]
[{"$f":"入力!$E$1","v":"villa中"},{"$f":"INDEX(入力!$A:$A,D214+2,1)","v":0},{"$f":"INDEX(入力!$B:$B,D214+2,1)","v":0},{"$f":"D211+3","v":214},{"$f":"INDEX(入力!$C:$C,D214+2,1)","v":0},{"$f":"入力!$E$1","v":"villa中"},{"$f":"INDEX(入力!$A:$A,I214+2,1)","v":0},{"$f":"INDEX(入力!$B:$B,I214+2,1)","v":0},{"$f":"1+D214","v":215},{"$f":"INDEX(入力!$C:$C,I214+2,1)","v":0},{"$f":"入力!$E$1","v":"villa中"},{"$f":"INDEX(入力!$A:$A,N214+2,1)","v":0},{"$f":"INDEX(入力!$B:$B,N214+2,1)","v":0},{"$f":"1+I214","v":216},{"$f":"INDEX(入力!$C:$C,N214+2,1)","v":0}]
[{"$f":"INDEX(入力!$E:$E,D214+2,1)","v":0},null,null,null,{"$f":"INDEX(入力!$H:$H,D214+2,1)","v":""},{"$f":"INDEX(入力!$E:$E,I214+2,1)","v":0},null,null,null,{"$f":"INDEX(入力!$H:$H,I214+2,1)","v":""},{"$f":"INDEX(入力!$E:$E,N214+2,1)","v":0},null,null,null,{"$f":"INDEX(入力!$H:$H,N214+2,1)","v":""}]
[null,null,"様",null,{"$f":"INDEX(入力!$F:$F,D214+2,1)","v":0},null,null,"様",null,{"$f":"INDEX(入力!$F:$F,I214+2,1)","v":0},null,null,"様",null,{"$f":"INDEX(入力!$F:$F,N214+2,1)","v":0}]
[{"$f":"入力!$E$1","v":"villa中"},{"$f":"INDEX(入力!$A:$A,D217+2,1)","v":0},{"$f":"INDEX(入力!$B:$B,D217+2,1)","v":0},{"$f":"D214+3","v":217},{"$f":"INDEX(入力!$C:$C,D217+2,1)","v":0},{"$f":"入力!$E$1","v":"villa中"},{"$f":"INDEX(入力!$A:$A,I217+2,1)","v":0},{"$f":"INDEX(入力!$B:$B,I217+2,1)","v":0},{"$f":"1+D217","v":218},{"$f":"INDEX(入力!$C:$C,I217+2,1)","v":0},{"$f":"入力!$E$1","v":"villa中"},{"$f":"INDEX(入力!$A:$A,N217+2,1)","v":0},{"$f":"INDEX(入力!$B:$B,N217+2,1)","v":0},{"$f":"1+I217","v":219},{"$f":"INDEX(入力!$C:$C,N217+2,1)","v":0}]
[{"$f":"INDEX(入力!$E:$E,D217+2,1)","v":0},null,null,null,{"$f":"INDEX(入力!$H:$H,D217+2,1)","v":""},{"$f":"INDEX(入力!$E:$E,I217+2,1)","v":0},null,null,null,{"$f":"INDEX(入力!$H:$H,I217+2,1)","v":""},{"$f":"INDEX(入力!$E:$E,N217+2,1)","v":0},null,null,null,{"$f":"INDEX(入力!$H:$H,N217+2,1)","v":""}]
[null,null,"様",null,{"$f":"INDEX(入力!$F:$F,D217+2,1)","v":0},null,null,"様",null,{"$f":"INDEX(入力!$F:$F,I217+2,1)","v":0},null,null,"様",null,{"$f":"INDEX(入力!$F:$F,N217+2,1)","v":0}]
[{"$f":"入力!$E$1","v":"villa中"},{"$f":"INDEX(入力!$A:$A,D220+2,1)","v":0},{"$f":"INDEX(入力!$B:$B,D220+2,1)","v":0},{"$f":"D217+3","v":220},{"$f":"INDEX(入力!$C:$C,D220+2,1)","v":0},{"$f":"入力!$E$1","v":"villa中"},{"$f":"INDEX(入力!$A:$A,I220+2,1)","v":0},{"$f":"INDEX(入力!$B:$B,I220+2,1)","v":0},{"$f":"1+D220","v":221},{"$f":"INDEX(入力!$C:$C,I220+2,1)","v":0},{"$f":"入力!$E$1","v":"villa中"},{"$f":"INDEX(入力!$A:$A,N220+2,1)","v":0},{"$f":"INDEX(入力!$B:$B,N220+2,1)","v":0},{"$f":"1+I220","v":222},{"$f":"INDEX(入力!$C:$C,N220+2,1)","v":0}]
[{"$f":"INDEX(入力!$E:$E,D220+2,1)","v":0},null,null,null,{"$f":"INDEX(入力!$H:$H,D220+2,1)","v":""},{"$f":"INDEX(入力!$E:$E,I220+2,1)","v":0},null,null,null,{"$f":"INDEX(入力!$H:$H,I220+2,1)","v":""},{"$f":"INDEX(入力!$E:$E,N220+2,1)","v":0},null,null,null,{"$f":"INDEX(入力!$H:$H,N220+2,1)","v":""}]
[null,null,"様",null,{"$f":"INDEX(入力!$F:$F,D220+2,1)","v":0},null,null,"様",null,{"$f":"INDEX(入力!$F:$F,I220+2,1)","v":0},null,null,"様",null,{"$f":"INDEX(入力!$F:$F,N220+2,1)","v":0}]
[{"$f":"入力!$E$1","v":"villa中"},{"$f":"INDEX(入力!$A:$A,D223+2,1)","v":0},{"$f":"INDEX(入力!$B:$B,D223+2,1)","v":0},{"$f":"D220+3","v":223},{"$f":"INDEX(入力!$C:$C,D223+2,1)","v":0},{"$f":"入力!$E$1","v":"villa中"},{"$f":"INDEX(入力!$A:$A,I223+2,1)","v":0},{"$f":"INDEX(入力!$B:$B,I223+2,1)","v":0},{"$f":"1+D223","v":224},{"$f":"INDEX(入力!$C:$C,I223+2,1)","v":0},{"$f":"入力!$E$1","v":"villa中"},{"$f":"INDEX(入力!$A:$A,N223+2,1)","v":0},{"$f":"INDEX(入力!$B:$B,N223+2,1)","v":0},{"$f":"1+I223","v":225},{"$f":"INDEX(入力!$C:$C,N223+2,1)","v":0}]
[{"$f":"INDEX(入力!$E:$E,D223+2,1)","v":0},null,null,null,{"$f":"INDEX(入力!$H:$H,D223+2,1)","v":""},{"$f":"INDEX(入力!$E:$E,I223+2,1)","v":0},null,null,null,{"$f":"INDEX(入力!$H:$H,I223+2,1)","v":""},{"$f":"INDEX(入力!$E:$E,N223+2,1)","v":0},null,null,null,{"$f":"INDEX(入力!$H:$H,N223+2,1)","v":""}]
[null,null,"様",null,{"$f":"INDEX(入力!$F:$F,D223+2,1)","v":0},null,null,"様",null,{"$f":"INDEX(入力!$F:$F,I223+2,1)","v":0},null,null,"様",null,{"$f":"INDEX(入力!$F:$F,N223+2,1)","v":0}]
[{"$f":"入力!$E$1","v":"villa中"},{"$f":"INDEX(入力!$A:$A,D226+2,1)","v":0},{"$f":"INDEX(入力!$B:$B,D226+2,1)","v":0},{"$f":"D223+3","v":226},{"$f":"INDEX(入力!$C:$C,D226+2,1)","v":0},{"$f":"入力!$E$1","v":"villa中"},{"$f":"INDEX(入力!$A:$A,I226+2,1)","v":0},{"$f":"INDEX(入力!$B:$B,I226+2,1)","v":0},{"$f":"1+D226","v":227},{"$f":"INDEX(入力!$C:$C,I226+2,1)","v":0},{"$f":"入力!$E$1","v":"villa中"},{"$f":"INDEX(入力!$A:$A,N226+2,1)","v":0},{"$f":"INDEX(入力!$B:$B,N226+2,1)","v":0},{"$f":"1+I226","v":228},{"$f":"INDEX(入力!$C:$C,N226+2,1)","v":0}]
[{"$f":"INDEX(入力!$E:$E,D226+2,1)","v":0},null,null,null,{"$f":"INDEX(入力!$H:$H,D226+2,1)","v":""},{"$f":"INDEX(入力!$E:$E,I226+2,1)","v":0},null,null,null,{"$f":"INDEX(入力!$H:$H,I226+2,1)","v":""},{"$f":"INDEX(入力!$E:$E,N226+2,1)","v":0},null,null,null,{"$f":"INDEX(入力!$H:$H,N226+2,1)","v":""}]
[null,null,"様",null,{"$f":"INDEX(入力!$F:$F,D226+2,1)","v":0},null,null,"様",null,{"$f":"INDEX(入力!$F:$F,I226+2,1)","v":0},null,null,"様",null,{"$f":"INDEX(入力!$F:$F,N226+2,1)","v":0}]
[{"$f":"入力!$E$1","v":"villa中"},{"$f":"INDEX(入力!$A:$A,D229+2,1)","v":0},{"$f":"INDEX(入力!$B:$B,D229+2,1)","v":0},{"$f":"D226+3","v":229},{"$f":"INDEX(入力!$C:$C,D229+2,1)","v":0},{"$f":"入力!$E$1","v":"villa中"},{"$f":"INDEX(入力!$A:$A,I229+2,1)","v":0},{"$f":"INDEX(入力!$B:$B,I229+2,1)","v":0},{"$f":"1+D229","v":230},{"$f":"INDEX(入力!$C:$C,I229+2,1)","v":0},{"$f":"入力!$E$1","v":"villa中"},{"$f":"INDEX(入力!$A:$A,N229+2,1)","v":0},{"$f":"INDEX(入力!$B:$B,N229+2,1)","v":0},{"$f":"1+I229","v":231},{"$f":"INDEX(入力!$C:$C,N229+2,1)","v":0}]
[{"$f":"INDEX(入力!$E:$E,D229+2,1)","v":0},null,null,null,{"$f":"INDEX(入力!$H:$H,D229+2,1)","v":""},{"$f":"INDEX(入力!$E:$E,I229+2,1)","v":0},null,null,null,{"$f":"INDEX(入力!$H:$H,I229+2,1)","v":""},{"$f":"INDEX(入力!$E:$E,N229+2,1)","v":0},null,null,null,{"$f":"INDEX(入力!$H:$H,N229+2,1)","v":""}]
[null,null,"様",null,{"$f":"INDEX(入力!$F:$F,D229+2,1)","v":0},null,null,"様",null,{"$f":"INDEX(入力!$F:$F,I229+2,1)","v":0},null,null,"様",null,{"$f":"INDEX(入力!$F:$F,N229+2,1)","v":0}]
[{"$f":"入力!$E$1","v":"villa中"},{"$f":"INDEX(入力!$A:$A,D232+2,1)","v":0},{"$f":"INDEX(入力!$B:$B,D232+2,1)","v":0},{"$f":"D229+3","v":232},{"$f":"INDEX(入力!$C:$C,D232+2,1)","v":0},{"$f":"入力!$E$1","v":"villa中"},{"$f":"INDEX(入力!$A:$A,I232+2,1)","v":0},{"$f":"INDEX(入力!$B:$B,I232+2,1)","v":0},{"$f":"1+D232","v":233},{"$f":"INDEX(入力!$C:$C,I232+2,1)","v":0},{"$f":"入力!$E$1","v":"villa中"},{"$f":"INDEX(入力!$A:$A,N232+2,1)","v":0},{"$f":"INDEX(入力!$B:$B,N232+2,1)","v":0},{"$f":"1+I232","v":234},{"$f":"INDEX(入力!$C:$C,N232+2,1)","v":0}]
[{"$f":"INDEX(入力!$E:$E,D232+2,1)","v":0},null,null,null,{"$f":"INDEX(入力!$H:$H,D232+2,1)","v":""},{"$f":"INDEX(入力!$E:$E,I232+2,1)","v":0},null,null,null,{"$f":"INDEX(入力!$H:$H,I232+2,1)","v":""},{"$f":"INDEX(入力!$E:$E,N232+2,1)","v":0},null,null,null,{"$f":"INDEX(入力!$H:$H,N232+2,1)","v":""}]
[null,null,"様",null,{"$f":"INDEX(入力!$F:$F,D232+2,1)","v":0},null,null,"様",null,{"$f":"INDEX(入力!$F:$F,I232+2,1)","v":0},null,null,"様",null,{"$f":"INDEX(入力!$F:$F,N232+2,1)","v":0}]
[{"$f":"入力!$E$1","v":"villa中"},{"$f":"INDEX(入力!$A:$A,D235+2,1)","v":0},{"$f":"INDEX(入力!$B:$B,D235+2,1)","v":0},{"$f":"D232+3","v":235},{"$f":"INDEX(入力!$C:$C,D235+2,1)","v":0},{"$f":"入力!$E$1","v":"villa中"},{"$f":"INDEX(入力!$A:$A,I235+2,1)","v":0},{"$f":"INDEX(入力!$B:$B,I235+2,1)","v":0},{"$f":"1+D235","v":236},{"$f":"INDEX(入力!$C:$C,I235+2,1)","v":0},{"$f":"入力!$E$1","v":"villa中"},{"$f":"INDEX(入力!$A:$A,N235+2,1)","v":0},{"$f":"INDEX(入力!$B:$B,N235+2,1)","v":0},{"$f":"1+I235","v":237},{"$f":"INDEX(入力!$C:$C,N235+2,1)","v":0}]
[{"$f":"INDEX(入力!$E:$E,D235+2,1)","v":0},null,null,null,{"$f":"INDEX(入力!$H:$H,D235+2,1)","v":""},{"$f":"INDEX(入力!$E:$E,I235+2,1)","v":0},null,null,null,{"$f":"INDEX(入力!$H:$H,I235+2,1)","v":""},{"$f":"INDEX(入力!$E:$E,N235+2,1)","v":0},null,null,null,{"$f":"INDEX(入力!$H:$H,N235+2,1)","v":""}]
[null,null,"様",null,{"$f":"INDEX(入力!$F:$F,D235+2,1)","v":0},null,null,"様",null,{"$f":"INDEX(入力!$F:$F,I235+2,1)","v":0},null,null,"様",null,{"$f":"INDEX(入力!$F:$F,N235+2,1)","v":0}]
[{"$f":"入力!$E$1","v":"villa中"},{"$f":"INDEX(入力!$A:$A,D238+2,1)","v":0},{"$f":"INDEX(入力!$B:$B,D238+2,1)","v":0},{"$f":"D235+3","v":238},{"$f":"INDEX(入力!$C:$C,D238+2,1)","v":0},{"$f":"入力!$E$1","v":"villa中"},{"$f":"INDEX(入力!$A:$A,I238+2,1)","v":0},{"$f":"INDEX(入力!$B:$B,I238+2,1)","v":0},{"$f":"1+D238","v":239},{"$f":"INDEX(入力!$C:$C,I238+2,1)","v":0},{"$f":"入力!$E$1","v":"villa中"},{"$f":"INDEX(入力!$A:$A,N238+2,1)","v":0},{"$f":"INDEX(入力!$B:$B,N238+2,1)","v":0},{"$f":"1+I238","v":240},{"$f":"INDEX(入力!$C:$C,N238+2,1)","v":0}]
[{"$f":"INDEX(入力!$E:$E,D238+2,1)","v":0},null,null,null,{"$f":"INDEX(入力!$H:$H,D238+2,1)","v":""},{"$f":"INDEX(入力!$E:$E,I238+2,1)","v":0},null,null,null,{"$f":"INDEX(入力!$H:$H,I238+2,1)","v":""},{"$f":"INDEX(入力!$E:$E,N238+2,1)","v":0},null,null,null,{"$f":"INDEX(入力!$H:$H,N238+2,1)","v":""}]
[null,null,"様",null,{"$f":"INDEX(入力!$F:$F,D238+2,1)","v":0},null,null,"様",null,{"$f":"INDEX(入力!$F:$F,I238+2,1)","v":0},null,null,"様",null,{"$f":"INDEX(入力!$F:$F,N238+2,1)","v":0}]
[{"$f":"入力!$E$1","v":"villa中"},{"$f":"INDEX(入力!$A:$A,D241+2,1)","v":0},{"$f":"INDEX(入力!$B:$B,D241+2,1)","v":0},{"$f":"D238+3","v":241},{"$f":"INDEX(入力!$C:$C,D241+2,1)","v":0},{"$f":"入力!$E$1","v":"villa中"},{"$f":"INDEX(入力!$A:$A,I241+2,1)","v":0},{"$f":"INDEX(入力!$B:$B,I241+2,1)","v":0},{"$f":"1+D241","v":242},{"$f":"INDEX(入力!$C:$C,I241+2,1)","v":0},{"$f":"入力!$E$1","v":"villa中"},{"$f":"INDEX(入力!$A:$A,N241+2,1)","v":0},{"$f":"INDEX(入力!$B:$B,N241+2,1)","v":0},{"$f":"1+I241","v":243},{"$f":"INDEX(入力!$C:$C,N241+2,1)","v":0}]
[{"$f":"INDEX(入力!$E:$E,D241+2,1)","v":0},null,null,null,{"$f":"INDEX(入力!$H:$H,D241+2,1)","v":""},{"$f":"INDEX(入力!$E:$E,I241+2,1)","v":0},null,null,null,{"$f":"INDEX(入力!$H:$H,I241+2,1)","v":""},{"$f":"INDEX(入力!$E:$E,N241+2,1)","v":0},null,null,null,{"$f":"INDEX(入力!$H:$H,N241+2,1)","v":""}]
[null,null,"様",null,{"$f":"INDEX(入力!$F:$F,D241+2,1)","v":0},null,null,"様",null,{"$f":"INDEX(入力!$F:$F,I241+2,1)","v":0},null,null,"様",null,{"$f":"INDEX(入力!$F:$F,N241+2,1)","v":0}]
[{"$f":"入力!$E$1","v":"villa中"},{"$f":"INDEX(入力!$A:$A,D244+2,1)","v":0},{"$f":"INDEX(入力!$B:$B,D244+2,1)","v":0},{"$f":"D241+3","v":244},{"$f":"INDEX(入力!$C:$C,D244+2,1)","v":0},{"$f":"入力!$E$1","v":"villa中"},{"$f":"INDEX(入力!$A:$A,I244+2,1)","v":0},{"$f":"INDEX(入力!$B:$B,I244+2,1)","v":0},{"$f":"1+D244","v":245},{"$f":"INDEX(入力!$C:$C,I244+2,1)","v":0},{"$f":"入力!$E$1","v":"villa中"},{"$f":"INDEX(入力!$A:$A,N244+2,1)","v":0},{"$f":"INDEX(入力!$B:$B,N244+2,1)","v":0},{"$f":"1+I244","v":246},{"$f":"INDEX(入力!$C:$C,N244+2,1)","v":0}]
[{"$f":"INDEX(入力!$E:$E,D244+2,1)","v":0},null,null,null,{"$f":"INDEX(入力!$H:$H,D244+2,1)","v":""},{"$f":"INDEX(入力!$E:$E,I244+2,1)","v":0},null,null,null,{"$f":"INDEX(入力!$H:$H,I244+2,1)","v":""},{"$f":"INDEX(入力!$E:$E,N244+2,1)","v":0},null,null,null,{"$f":"INDEX(入力!$H:$H,N244+2,1)","v":""}]
[null,null,"様",null,{"$f":"INDEX(入力!$F:$F,D244+2,1)","v":0},null,null,"様",null,{"$f":"INDEX(入力!$F:$F,I244+2,1)","v":0},null,null,"様",null,{"$f":"INDEX(入力!$F:$F,N244+2,1)","v":0}]
[{"$f":"入力!$E$1","v":"villa中"},{"$f":"INDEX(入力!$A:$A,D247+2,1)","v":0},{"$f":"INDEX(入力!$B:$B,D247+2,1)","v":0},{"$f":"D244+3","v":247},{"$f":"INDEX(入力!$C:$C,D247+2,1)","v":0},{"$f":"入力!$E$1","v":"villa中"},{"$f":"INDEX(入力!$A:$A,I247+2,1)","v":0},{"$f":"INDEX(入力!$B:$B,I247+2,1)","v":0},{"$f":"1+D247","v":248},{"$f":"INDEX(入力!$C:$C,I247+2,1)","v":0},{"$f":"入力!$E$1","v":"villa中"},{"$f":"INDEX(入力!$A:$A,N247+2,1)","v":0},{"$f":"INDEX(入力!$B:$B,N247+2,1)","v":0},{"$f":"1+I247","v":249},{"$f":"INDEX(入力!$C:$C,N247+2,1)","v":0}]
[{"$f":"INDEX(入力!$E:$E,D247+2,1)","v":0},null,null,null,{"$f":"INDEX(入力!$H:$H,D247+2,1)","v":""},{"$f":"INDEX(入力!$E:$E,I247+2,1)","v":0},null,null,null,{"$f":"INDEX(入力!$H:$H,I247+2,1)","v":""},{"$f":"INDEX(入力!$E:$E,N247+2,1)","v":0},null,null,null,{"$f":"INDEX(入力!$H:$H,N247+2,1)","v":""}]
[null,null,"様",null,{"$f":"INDEX(入力!$F:$F,D247+2,1)","v":0},null,null,"様",null,{"$f":"INDEX(入力!$F:$F,I247+2,1)","v":0},null,null,"様",null,{"$f":"INDEX(入力!$F:$F,N247+2,1)","v":0}]
[{"$f":"入力!$E$1","v":"villa中"},{"$f":"INDEX(入力!$A:$A,D250+2,1)","v":0},{"$f":"INDEX(入力!$B:$B,D250+2,1)","v":0},{"$f":"D247+3","v":250},{"$f":"INDEX(入力!$C:$C,D250+2,1)","v":0},{"$f":"入力!$E$1","v":"villa中"},{"$f":"INDEX(入力!$A:$A,I250+2,1)","v":0},{"$f":"INDEX(入力!$B:$B,I250+2,1)","v":0},{"$f":"1+D250","v":251},{"$f":"INDEX(入力!$C:$C,I250+2,1)","v":0},{"$f":"入力!$E$1","v":"villa中"},{"$f":"INDEX(入力!$A:$A,N250+2,1)","v":0},{"$f":"INDEX(入力!$B:$B,N250+2,1)","v":0},{"$f":"1+I250","v":252},{"$f":"INDEX(入力!$C:$C,N250+2,1)","v":0}]
[{"$f":"INDEX(入力!$E:$E,D250+2,1)","v":0},null,null,null,{"$f":"INDEX(入力!$H:$H,D250+2,1)","v":""},{"$f":"INDEX(入力!$E:$E,I250+2,1)","v":0},null,null,null,{"$f":"INDEX(入力!$H:$H,I250+2,1)","v":""},{"$f":"INDEX(入力!$E:$E,N250+2,1)","v":0},null,null,null,{"$f":"INDEX(入力!$H:$H,N250+2,1)","v":""}]
[null,null,"様",null,{"$f":"INDEX(入力!$F:$F,D250+2,1)","v":0},null,null,"様",null,{"$f":"INDEX(入力!$F:$F,I250+2,1)","v":0},null,null,"様",null,{"$f":"INDEX(入力!$F:$F,N250+2,1)","v":0}]
[{"$f":"入力!$E$1","v":"villa中"},{"$f":"INDEX(入力!$A:$A,D253+2,1)","v":0},{"$f":"INDEX(入力!$B:$B,D253+2,1)","v":0},{"$f":"D250+3","v":253},{"$f":"INDEX(入力!$C:$C,D253+2,1)","v":0},{"$f":"入力!$E$1","v":"villa中"},{"$f":"INDEX(入力!$A:$A,I253+2,1)","v":0},{"$f":"INDEX(入力!$B:$B,I253+2,1)","v":0},{"$f":"1+D253","v":254},{"$f":"INDEX(入力!$C:$C,I253+2,1)","v":0},{"$f":"入力!$E$1","v":"villa中"},{"$f":"INDEX(入力!$A:$A,N253+2,1)","v":0},{"$f":"INDEX(入力!$B:$B,N253+2,1)","v":0},{"$f":"1+I253","v":255},{"$f":"INDEX(入力!$C:$C,N253+2,1)","v":0}]
[{"$f":"INDEX(入力!$E:$E,D253+2,1)","v":0},null,null,null,{"$f":"INDEX(入力!$H:$H,D253+2,1)","v":""},{"$f":"INDEX(入力!$E:$E,I253+2,1)","v":0},null,null,null,{"$f":"INDEX(入力!$H:$H,I253+2,1)","v":""},{"$f":"INDEX(入力!$E:$E,N253+2,1)","v":0},null,null,null,{"$f":"INDEX(入力!$H:$H,N253+2,1)","v":""}]
[null,null,"様",null,{"$f":"INDEX(入力!$F:$F,D253+2,1)","v":0},null,null,"様",null,{"$f":"INDEX(入力!$F:$F,I253+2,1)","v":0},null,null,"様",null,{"$f":"INDEX(入力!$F:$F,N253+2,1)","v":0}]
[{"$f":"入力!$E$1","v":"villa中"},{"$f":"INDEX(入力!$A:$A,D256+2,1)","v":0},{"$f":"INDEX(入力!$B:$B,D256+2,1)","v":0},{"$f":"D253+3","v":256},{"$f":"INDEX(入力!$C:$C,D256+2,1)","v":0},{"$f":"入力!$E$1","v":"villa中"},{"$f":"INDEX(入力!$A:$A,I256+2,1)","v":0},{"$f":"INDEX(入力!$B:$B,I256+2,1)","v":0},{"$f":"1+D256","v":257},{"$f":"INDEX(入力!$C:$C,I256+2,1)","v":0},{"$f":"入力!$E$1","v":"villa中"},{"$f":"INDEX(入力!$A:$A,N256+2,1)","v":0},{"$f":"INDEX(入力!$B:$B,N256+2,1)","v":0},{"$f":"1+I256","v":258},{"$f":"INDEX(入力!$C:$C,N256+2,1)","v":0}]
[{"$f":"INDEX(入力!$E:$E,D256+2,1)","v":0},null,null,null,{"$f":"INDEX(入力!$H:$H,D256+2,1)","v":""},{"$f":"INDEX(入力!$E:$E,I256+2,1)","v":0},null,null,null,{"$f":"INDEX(入力!$H:$H,I256+2,1)","v":""},{"$f":"INDEX(入力!$E:$E,N256+2,1)","v":0},null,null,null,{"$f":"INDEX(入力!$H:$H,N256+2,1)","v":""}]
[null,null,"様",null,{"$f":"INDEX(入力!$F:$F,D256+2,1)","v":0},null,null,"様",null,{"$f":"INDEX(入力!$F:$F,I256+2,1)","v":0},null,null,"様",null,{"$f":"INDEX(入力!$F:$F,N256+2,1)","v":0}]
[{"$f":"入力!$E$1","v":"villa中"},{"$f":"INDEX(入力!$A:$A,D259+2,1)","v":0},{"$f":"INDEX(入力!$B:$B,D259+2,1)","v":0},{"$f":"D256+3","v":259},{"$f":"INDEX(入力!$C:$C,D259+2,1)","v":0},{"$f":"入力!$E$1","v":"villa中"},{"$f":"INDEX(入力!$A:$A,I259+2,1)","v":0},{"$f":"INDEX(入力!$B:$B,I259+2,1)","v":0},{"$f":"1+D259","v":260},{"$f":"INDEX(入力!$C:$C,I259+2,1)","v":0},{"$f":"入力!$E$1","v":"villa中"},{"$f":"INDEX(入力!$A:$A,N259+2,1)","v":0},{"$f":"INDEX(入力!$B:$B,N259+2,1)","v":0},{"$f":"1+I259","v":261},{"$f":"INDEX(入力!$C:$C,N259+2,1)","v":0}]
[{"$f":"INDEX(入力!$E:$E,D259+2,1)","v":0},null,null,null,{"$f":"INDEX(入力!$H:$H,D259+2,1)","v":""},{"$f":"INDEX(入力!$E:$E,I259+2,1)","v":0},null,null,null,{"$f":"INDEX(入力!$H:$H,I259+2,1)","v":""},{"$f":"INDEX(入力!$E:$E,N259+2,1)","v":0},null,null,null,{"$f":"INDEX(入力!$H:$H,N259+2,1)","v":""}]
[null,null,"様",null,{"$f":"INDEX(入力!$F:$F,D259+2,1)","v":0},null,null,"様",null,{"$f":"INDEX(入力!$F:$F,I259+2,1)","v":0},null,null,"様",null,{"$f":"INDEX(入力!$F:$F,N259+2,1)","v":0}]
[{"$f":"入力!$E$1","v":"villa中"},{"$f":"INDEX(入力!$A:$A,D262+2,1)","v":0},{"$f":"INDEX(入力!$B:$B,D262+2,1)","v":0},{"$f":"D259+3","v":262},{"$f":"INDEX(入力!$C:$C,D262+2,1)","v":0},{"$f":"入力!$E$1","v":"villa中"},{"$f":"INDEX(入力!$A:$A,I262+2,1)","v":0},{"$f":"INDEX(入力!$B:$B,I262+2,1)","v":0},{"$f":"1+D262","v":263},{"$f":"INDEX(入力!$C:$C,I262+2,1)","v":0},{"$f":"入力!$E$1","v":"villa中"},{"$f":"INDEX(入力!$A:$A,N262+2,1)","v":0},{"$f":"INDEX(入力!$B:$B,N262+2,1)","v":0},{"$f":"1+I262","v":264},{"$f":"INDEX(入力!$C:$C,N262+2,1)","v":0}]
[{"$f":"INDEX(入力!$E:$E,D262+2,1)","v":0},null,null,null,{"$f":"INDEX(入力!$H:$H,D262+2,1)","v":""},{"$f":"INDEX(入力!$E:$E,I262+2,1)","v":0},null,null,null,{"$f":"INDEX(入力!$H:$H,I262+2,1)","v":""},{"$f":"INDEX(入力!$E:$E,N262+2,1)","v":0},null,null,null,{"$f":"INDEX(入力!$H:$H,N262+2,1)","v":""}]
[null,null,"様",null,{"$f":"INDEX(入力!$F:$F,D262+2,1)","v":0},null,null,"様",null,{"$f":"INDEX(入力!$F:$F,I262+2,1)","v":0},null,null,"様",null,{"$f":"INDEX(入力!$F:$F,N262+2,1)","v":0}]
[{"$f":"入力!$E$1","v":"villa中"},{"$f":"INDEX(入力!$A:$A,D265+2,1)","v":0},{"$f":"INDEX(入力!$B:$B,D265+2,1)","v":0},{"$f":"D262+3","v":265},{"$f":"INDEX(入力!$C:$C,D265+2,1)","v":0},{"$f":"入力!$E$1","v":"villa中"},{"$f":"INDEX(入力!$A:$A,I265+2,1)","v":0},{"$f":"INDEX(入力!$B:$B,I265+2,1)","v":0},{"$f":"1+D265","v":266},{"$f":"INDEX(入力!$C:$C,I265+2,1)","v":0},{"$f":"入力!$E$1","v":"villa中"},{"$f":"INDEX(入力!$A:$A,N265+2,1)","v":0},{"$f":"INDEX(入力!$B:$B,N265+2,1)","v":0},{"$f":"1+I265","v":267},{"$f":"INDEX(入力!$C:$C,N265+2,1)","v":0}]
[{"$f":"INDEX(入力!$E:$E,D265+2,1)","v":0},null,null,null,{"$f":"INDEX(入力!$H:$H,D265+2,1)","v":""},{"$f":"INDEX(入力!$E:$E,I265+2,1)","v":0},null,null,null,{"$f":"INDEX(入力!$H:$H,I265+2,1)","v":""},{"$f":"INDEX(入力!$E:$E,N265+2,1)","v":0},null,null,null,{"$f":"INDEX(入力!$H:$H,N265+2,1)","v":""}]
[null,null,"様",null,{"$f":"INDEX(入力!$F:$F,D265+2,1)","v":0},null,null,"様",null,{"$f":"INDEX(入力!$F:$F,I265+2,1)","v":0},null,null,"様",null,{"$f":"INDEX(入力!$F:$F,N265+2,1)","v":0}]
[{"$f":"入力!$E$1","v":"villa中"},{"$f":"INDEX(入力!$A:$A,D268+2,1)","v":0},{"$f":"INDEX(入力!$B:$B,D268+2,1)","v":0},{"$f":"D265+3","v":268},{"$f":"INDEX(入力!$C:$C,D268+2,1)","v":0},{"$f":"入力!$E$1","v":"villa中"},{"$f":"INDEX(入力!$A:$A,I268+2,1)","v":0},{"$f":"INDEX(入力!$B:$B,I268+2,1)","v":0},{"$f":"1+D268","v":269},{"$f":"INDEX(入力!$C:$C,I268+2,1)","v":0},{"$f":"入力!$E$1","v":"villa中"},{"$f":"INDEX(入力!$A:$A,N268+2,1)","v":0},{"$f":"INDEX(入力!$B:$B,N268+2,1)","v":0},{"$f":"1+I268","v":270},{"$f":"INDEX(入力!$C:$C,N268+2,1)","v":0}]
[{"$f":"INDEX(入力!$E:$E,D268+2,1)","v":0},null,null,null,{"$f":"INDEX(入力!$H:$H,D268+2,1)","v":""},{"$f":"INDEX(入力!$E:$E,I268+2,1)","v":0},null,null,null,{"$f":"INDEX(入力!$H:$H,I268+2,1)","v":""},{"$f":"INDEX(入力!$E:$E,N268+2,1)","v":0},null,null,null,{"$f":"INDEX(入力!$H:$H,N268+2,1)","v":""}]
[null,null,"様",null,{"$f":"INDEX(入力!$F:$F,D268+2,1)","v":0},null,null,"様",null,{"$f":"INDEX(入力!$F:$F,I268+2,1)","v":0},null,null,"様",null,{"$f":"INDEX(入力!$F:$F,N268+2,1)","v":0}]
[{"$f":"入力!$E$1","v":"villa中"},{"$f":"INDEX(入力!$A:$A,D271+2,1)","v":0},{"$f":"INDEX(入力!$B:$B,D271+2,1)","v":0},{"$f":"D268+3","v":271},{"$f":"INDEX(入力!$C:$C,D271+2,1)","v":0},{"$f":"入力!$E$1","v":"villa中"},{"$f":"INDEX(入力!$A:$A,I271+2,1)","v":0},{"$f":"INDEX(入力!$B:$B,I271+2,1)","v":0},{"$f":"1+D271","v":272},{"$f":"INDEX(入力!$C:$C,I271+2,1)","v":0},{"$f":"入力!$E$1","v":"villa中"},{"$f":"INDEX(入力!$A:$A,N271+2,1)","v":0},{"$f":"INDEX(入力!$B:$B,N271+2,1)","v":0},{"$f":"1+I271","v":273},{"$f":"INDEX(入力!$C:$C,N271+2,1)","v":0}]
[{"$f":"INDEX(入力!$E:$E,D271+2,1)","v":0},null,null,null,{"$f":"INDEX(入力!$H:$H,D271+2,1)","v":""},{"$f":"INDEX(入力!$E:$E,I271+2,1)","v":0},null,null,null,{"$f":"INDEX(入力!$H:$H,I271+2,1)","v":""},{"$f":"INDEX(入力!$E:$E,N271+2,1)","v":0},null,null,null,{"$f":"INDEX(入力!$H:$H,N271+2,1)","v":""}]
[null,null,"様",null,{"$f":"INDEX(入力!$F:$F,D271+2,1)","v":0},null,null,"様",null,{"$f":"INDEX(入力!$F:$F,I271+2,1)","v":0},null,null,"様",null,{"$f":"INDEX(入力!$F:$F,N271+2,1)","v":0}]
[{"$f":"入力!$E$1","v":"villa中"},{"$f":"INDEX(入力!$A:$A,D274+2,1)","v":0},{"$f":"INDEX(入力!$B:$B,D274+2,1)","v":0},{"$f":"D271+3","v":274},{"$f":"INDEX(入力!$C:$C,D274+2,1)","v":0},{"$f":"入力!$E$1","v":"villa中"},{"$f":"INDEX(入力!$A:$A,I274+2,1)","v":0},{"$f":"INDEX(入力!$B:$B,I274+2,1)","v":0},{"$f":"1+D274","v":275},{"$f":"INDEX(入力!$C:$C,I274+2,1)","v":0},{"$f":"入力!$E$1","v":"villa中"},{"$f":"INDEX(入力!$A:$A,N274+2,1)","v":0},{"$f":"INDEX(入力!$B:$B,N274+2,1)","v":0},{"$f":"1+I274","v":276},{"$f":"INDEX(入力!$C:$C,N274+2,1)","v":0}]
[{"$f":"INDEX(入力!$E:$E,D274+2,1)","v":0},null,null,null,{"$f":"INDEX(入力!$H:$H,D274+2,1)","v":""},{"$f":"INDEX(入力!$E:$E,I274+2,1)","v":0},null,null,null,{"$f":"INDEX(入力!$H:$H,I274+2,1)","v":""},{"$f":"INDEX(入力!$E:$E,N274+2,1)","v":0},null,null,null,{"$f":"INDEX(入力!$H:$H,N274+2,1)","v":""}]
[null,null,"様",null,{"$f":"INDEX(入力!$F:$F,D274+2,1)","v":0},null,null,"様",null,{"$f":"INDEX(入力!$F:$F,I274+2,1)","v":0},null,null,"様",null,{"$f":"INDEX(入力!$F:$F,N274+2,1)","v":0}]
[{"$f":"入力!$E$1","v":"villa中"},{"$f":"INDEX(入力!$A:$A,D277+2,1)","v":0},{"$f":"INDEX(入力!$B:$B,D277+2,1)","v":0},{"$f":"D274+3","v":277},{"$f":"INDEX(入力!$C:$C,D277+2,1)","v":0},{"$f":"入力!$E$1","v":"villa中"},{"$f":"INDEX(入力!$A:$A,I277+2,1)","v":0},{"$f":"INDEX(入力!$B:$B,I277+2,1)","v":0},{"$f":"1+D277","v":278},{"$f":"INDEX(入力!$C:$C,I277+2,1)","v":0},{"$f":"入力!$E$1","v":"villa中"},{"$f":"INDEX(入力!$A:$A,N277+2,1)","v":0},{"$f":"INDEX(入力!$B:$B,N277+2,1)","v":0},{"$f":"1+I277","v":279},{"$f":"INDEX(入力!$C:$C,N277+2,1)","v":0}]
[{"$f":"INDEX(入力!$E:$E,D277+2,1)","v":0},null,null,null,{"$f":"INDEX(入力!$H:$H,D277+2,1)","v":""},{"$f":"INDEX(入力!$E:$E,I277+2,1)","v":0},null,null,null,{"$f":"INDEX(入力!$H:$H,I277+2,1)","v":""},{"$f":"INDEX(入力!$E:$E,N277+2,1)","v":0},null,null,null,{"$f":"INDEX(入力!$H:$H,N277+2,1)","v":""}]
[null,null,"様",null,{"$f":"INDEX(入力!$F:$F,D277+2,1)","v":0},null,null,"様",null,{"$f":"INDEX(入力!$F:$F,I277+2,1)","v":0},null,null,"様",null,{"$f":"INDEX(入力!$F:$F,N277+2,1)","v":0}]
[{"$f":"入力!$E$1","v":"villa中"},{"$f":"INDEX(入力!$A:$A,D280+2,1)","v":0},{"$f":"INDEX(入力!$B:$B,D280+2,1)","v":0},{"$f":"D277+3","v":280},{"$f":"INDEX(入力!$C:$C,D280+2,1)","v":0},{"$f":"入力!$E$1","v":"villa中"},{"$f":"INDEX(入力!$A:$A,I280+2,1)","v":0},{"$f":"INDEX(入力!$B:$B,I280+2,1)","v":0},{"$f":"1+D280","v":281},{"$f":"INDEX(入力!$C:$C,I280+2,1)","v":0},{"$f":"入力!$E$1","v":"villa中"},{"$f":"INDEX(入力!$A:$A,N280+2,1)","v":0},{"$f":"INDEX(入力!$B:$B,N280+2,1)","v":0},{"$f":"1+I280","v":282},{"$f":"INDEX(入力!$C:$C,N280+2,1)","v":0}]
[{"$f":"INDEX(入力!$E:$E,D280+2,1)","v":0},null,null,null,{"$f":"INDEX(入力!$H:$H,D280+2,1)","v":""},{"$f":"INDEX(入力!$E:$E,I280+2,1)","v":0},null,null,null,{"$f":"INDEX(入力!$H:$H,I280+2,1)","v":""},{"$f":"INDEX(入力!$E:$E,N280+2,1)","v":0},null,null,null,{"$f":"INDEX(入力!$H:$H,N280+2,1)","v":""}]
[null,null,"様",null,{"$f":"INDEX(入力!$F:$F,D280+2,1)","v":0},null,null,"様",null,{"$f":"INDEX(入力!$F:$F,I280+2,1)","v":0},null,null,"様",null,{"$f":"INDEX(入力!$F:$F,N280+2,1)","v":0}]
[{"$f":"入力!$E$1","v":"villa中"},{"$f":"INDEX(入力!$A:$A,D283+2,1)","v":0},{"$f":"INDEX(入力!$B:$B,D283+2,1)","v":0},{"$f":"D280+3","v":283},{"$f":"INDEX(入力!$C:$C,D283+2,1)","v":0},{"$f":"入力!$E$1","v":"villa中"},{"$f":"INDEX(入力!$A:$A,I283+2,1)","v":0},{"$f":"INDEX(入力!$B:$B,I283+2,1)","v":0},{"$f":"1+D283","v":284},{"$f":"INDEX(入力!$C:$C,I283+2,1)","v":0},{"$f":"入力!$E$1","v":"villa中"},{"$f":"INDEX(入力!$A:$A,N283+2,1)","v":0},{"$f":"INDEX(入力!$B:$B,N283+2,1)","v":0},{"$f":"1+I283","v":285},{"$f":"INDEX(入力!$C:$C,N283+2,1)","v":0}]
[{"$f":"INDEX(入力!$E:$E,D283+2,1)","v":0},null,null,null,{"$f":"INDEX(入力!$H:$H,D283+2,1)","v":""},{"$f":"INDEX(入力!$E:$E,I283+2,1)","v":0},null,null,null,{"$f":"INDEX(入力!$H:$H,I283+2,1)","v":""},{"$f":"INDEX(入力!$E:$E,N283+2,1)","v":0},null,null,null,{"$f":"INDEX(入力!$H:$H,N283+2,1)","v":""}]
[null,null,"様",null,{"$f":"INDEX(入力!$F:$F,D283+2,1)","v":0},null,null,"様",null,{"$f":"INDEX(入力!$F:$F,I283+2,1)","v":0},null,null,"様",null,{"$f":"INDEX(入力!$F:$F,N283+2,1)","v":0}]
[{"$f":"入力!$E$1","v":"villa中"},{"$f":"INDEX(入力!$A:$A,D286+2,1)","v":0},{"$f":"INDEX(入力!$B:$B,D286+2,1)","v":0},{"$f":"D283+3","v":286},{"$f":"INDEX(入力!$C:$C,D286+2,1)","v":0},{"$f":"入力!$E$1","v":"villa中"},{"$f":"INDEX(入力!$A:$A,I286+2,1)","v":0},{"$f":"INDEX(入力!$B:$B,I286+2,1)","v":0},{"$f":"1+D286","v":287},{"$f":"INDEX(入力!$C:$C,I286+2,1)","v":0},{"$f":"入力!$E$1","v":"villa中"},{"$f":"INDEX(入力!$A:$A,N286+2,1)","v":0},{"$f":"INDEX(入力!$B:$B,N286+2,1)","v":0},{"$f":"1+I286","v":288},{"$f":"INDEX(入力!$C:$C,N286+2,1)","v":0}]
[{"$f":"INDEX(入力!$E:$E,D286+2,1)","v":0},null,null,null,{"$f":"INDEX(入力!$H:$H,D286+2,1)","v":""},{"$f":"INDEX(入力!$E:$E,I286+2,1)","v":0},null,null,null,{"$f":"INDEX(入力!$H:$H,I286+2,1)","v":""},{"$f":"INDEX(入力!$E:$E,N286+2,1)","v":0},null,null,null,{"$f":"INDEX(入力!$H:$H,N286+2,1)","v":""}]
[null,null,"様",null,{"$f":"INDEX(入力!$F:$F,D286+2,1)","v":0},null,null,"様",null,{"$f":"INDEX(入力!$F:$F,I286+2,1)","v":0},null,null,"様",null,{"$f":"INDEX(入力!$F:$F,N286+2,1)","v":0}]
[{"$f":"入力!$E$1","v":"villa中"},{"$f":"INDEX(入力!$A:$A,D289+2,1)","v":0},{"$f":"INDEX(入力!$B:$B,D289+2,1)","v":0},{"$f":"D286+3","v":289},{"$f":"INDEX(入力!$C:$C,D289+2,1)","v":0},{"$f":"入力!$E$1","v":"villa中"},{"$f":"INDEX(入力!$A:$A,I289+2,1)","v":0},{"$f":"INDEX(入力!$B:$B,I289+2,1)","v":0},{"$f":"1+D289","v":290},{"$f":"INDEX(入力!$C:$C,I289+2,1)","v":0},{"$f":"入力!$E$1","v":"villa中"},{"$f":"INDEX(入力!$A:$A,N289+2,1)","v":0},{"$f":"INDEX(入力!$B:$B,N289+2,1)","v":0},{"$f":"1+I289","v":291},{"$f":"INDEX(入力!$C:$C,N289+2,1)","v":0}]
[{"$f":"INDEX(入力!$E:$E,D289+2,1)","v":0},null,null,null,{"$f":"INDEX(入力!$H:$H,D289+2,1)","v":""},{"$f":"INDEX(入力!$E:$E,I289+2,1)","v":0},null,null,null,{"$f":"INDEX(入力!$H:$H,I289+2,1)","v":""},{"$f":"INDEX(入力!$E:$E,N289+2,1)","v":0},null,null,null,{"$f":"INDEX(入力!$H:$H,N289+2,1)","v":""}]
[null,null,"様",null,{"$f":"INDEX(入力!$F:$F,D289+2,1)","v":0},null,null,"様",null,{"$f":"INDEX(入力!$F:$F,I289+2,1)","v":0},null,null,"様",null,{"$f":"INDEX(入力!$F:$F,N289+2,1)","v":0}]
[{"$f":"入力!$E$1","v":"villa中"},{"$f":"INDEX(入力!$A:$A,D292+2,1)","v":0},{"$f":"INDEX(入力!$B:$B,D292+2,1)","v":0},{"$f":"D289+3","v":292},{"$f":"INDEX(入力!$C:$C,D292+2,1)","v":0},{"$f":"入力!$E$1","v":"villa中"},{"$f":"INDEX(入力!$A:$A,I292+2,1)","v":0},{"$f":"INDEX(入力!$B:$B,I292+2,1)","v":0},{"$f":"1+D292","v":293},{"$f":"INDEX(入力!$C:$C,I292+2,1)","v":0},{"$f":"入力!$E$1","v":"villa中"},{"$f":"INDEX(入力!$A:$A,N292+2,1)","v":0},{"$f":"INDEX(入力!$B:$B,N292+2,1)","v":0},{"$f":"1+I292","v":294},{"$f":"INDEX(入力!$C:$C,N292+2,1)","v":0}]
[{"$f":"INDEX(入力!$E:$E,D292+2,1)","v":0},null,null,null,{"$f":"INDEX(入力!$H:$H,D292+2,1)","v":""},{"$f":"INDEX(入力!$E:$E,I292+2,1)","v":0},null,null,null,{"$f":"INDEX(入力!$H:$H,I292+2,1)","v":""},{"$f":"INDEX(入力!$E:$E,N292+2,1)","v":0},null,null,null,{"$f":"INDEX(入力!$H:$H,N292+2,1)","v":""}]
[null,null,"様",null,{"$f":"INDEX(入力!$F:$F,D292+2,1)","v":0},null,null,"様",null,{"$f":"INDEX(入力!$F:$F,I292+2,1)","v":0},null,null,"様",null,{"$f":"INDEX(入力!$F:$F,N292+2,1)","v":0}]
[{"$f":"入力!$E$1","v":"villa中"},{"$f":"INDEX(入力!$A:$A,D295+2,1)","v":0},{"$f":"INDEX(入力!$B:$B,D295+2,1)","v":0},{"$f":"D292+3","v":295},{"$f":"INDEX(入力!$C:$C,D295+2,1)","v":0},{"$f":"入力!$E$1","v":"villa中"},{"$f":"INDEX(入力!$A:$A,I295+2,1)","v":0},{"$f":"INDEX(入力!$B:$B,I295+2,1)","v":0},{"$f":"1+D295","v":296},{"$f":"INDEX(入力!$C:$C,I295+2,1)","v":0},{"$f":"入力!$E$1","v":"villa中"},{"$f":"INDEX(入力!$A:$A,N295+2,1)","v":0},{"$f":"INDEX(入力!$B:$B,N295+2,1)","v":0},{"$f":"1+I295","v":297},{"$f":"INDEX(入力!$C:$C,N295+2,1)","v":0}]
[{"$f":"INDEX(入力!$E:$E,D295+2,1)","v":0},null,null,null,{"$f":"INDEX(入力!$H:$H,D295+2,1)","v":""},{"$f":"INDEX(入力!$E:$E,I295+2,1)","v":0},null,null,null,{"$f":"INDEX(入力!$H:$H,I295+2,1)","v":""},{"$f":"INDEX(入力!$E:$E,N295+2,1)","v":0},null,null,null,{"$f":"INDEX(入力!$H:$H,N295+2,1)","v":""}]
[null,null,"様",null,{"$f":"INDEX(入力!$F:$F,D295+2,1)","v":0},null,null,"様",null,{"$f":"INDEX(入力!$F:$F,I295+2,1)","v":0},null,null,"様",null,{"$f":"INDEX(入力!$F:$F,N295+2,1)","v":0}]
[{"$f":"入力!$E$1","v":"villa中"},{"$f":"INDEX(入力!$A:$A,D298+2,1)","v":0},{"$f":"INDEX(入力!$B:$B,D298+2,1)","v":0},{"$f":"D295+3","v":298},{"$f":"INDEX(入力!$C:$C,D298+2,1)","v":0},{"$f":"入力!$E$1","v":"villa中"},{"$f":"INDEX(入力!$A:$A,I298+2,1)","v":0},{"$f":"INDEX(入力!$B:$B,I298+2,1)","v":0},{"$f":"1+D298","v":299},{"$f":"INDEX(入力!$C:$C,I298+2,1)","v":0},{"$f":"入力!$E$1","v":"villa中"},{"$f":"INDEX(入力!$A:$A,N298+2,1)","v":0},{"$f":"INDEX(入力!$B:$B,N298+2,1)","v":0},{"$f":"1+I298","v":300},{"$f":"INDEX(入力!$C:$C,N298+2,1)","v":0}]
[{"$f":"INDEX(入力!$E:$E,D298+2,1)","v":0},null,null,null,{"$f":"INDEX(入力!$H:$H,D298+2,1)","v":""},{"$f":"INDEX(入力!$E:$E,I298+2,1)","v":0},null,null,null,{"$f":"INDEX(入力!$H:$H,I298+2,1)","v":""},{"$f":"INDEX(入力!$E:$E,N298+2,1)","v":0},null,null,null,{"$f":"INDEX(入力!$H:$H,N298+2,1)","v":""}]
[null,null,"様",null,{"$f":"INDEX(入力!$F:$F,D298+2,1)","v":0},null,null,"様",null,{"$f":"INDEX(入力!$F:$F,I298+2,1)","v":0},null,null,"様",null,{"$f":"INDEX(入力!$F:$F,N298+2,1)","v":0}]
[{"$f":"入力!$E$1","v":"villa中"},{"$f":"INDEX(入力!$A:$A,D301+2,1)","v":0},{"$f":"INDEX(入力!$B:$B,D301+2,1)","v":0},{"$f":"D298+3","v":301},{"$f":"INDEX(入力!$C:$C,D301+2,1)","v":0},{"$f":"入力!$E$1","v":"villa中"},{"$f":"INDEX(入力!$A:$A,I301+2,1)","v":0},{"$f":"INDEX(入力!$B:$B,I301+2,1)","v":0},{"$f":"1+D301","v":302},{"$f":"INDEX(入力!$C:$C,I301+2,1)","v":0},{"$f":"入力!$E$1","v":"villa中"},{"$f":"INDEX(入力!$A:$A,N301+2,1)","v":0},{"$f":"INDEX(入力!$B:$B,N301+2,1)","v":0},{"$f":"1+I301","v":303},{"$f":"INDEX(入力!$C:$C,N301+2,1)","v":0}]
[{"$f":"INDEX(入力!$E:$E,D301+2,1)","v":0},null,null,null,{"$f":"INDEX(入力!$H:$H,D301+2,1)","v":""},{"$f":"INDEX(入力!$E:$E,I301+2,1)","v":0},null,null,null,{"$f":"INDEX(入力!$H:$H,I301+2,1)","v":""},{"$f":"INDEX(入力!$E:$E,N301+2,1)","v":0},null,null,null,{"$f":"INDEX(入力!$H:$H,N301+2,1)","v":""}]
[null,null,"様",null,{"$f":"INDEX(入力!$F:$F,D301+2,1)","v":0},null,null,"様",null,{"$f":"INDEX(入力!$F:$F,I301+2,1)","v":0},null,null,"様",null,{"$f":"INDEX(入力!$F:$F,N301+2,1)","v":0}]
[{"$f":"入力!$E$1","v":"villa中"},{"$f":"INDEX(入力!$A:$A,D304+2,1)","v":0},{"$f":"INDEX(入力!$B:$B,D304+2,1)","v":0},{"$f":"D301+3","v":304},{"$f":"INDEX(入力!$C:$C,D304+2,1)","v":0},{"$f":"入力!$E$1","v":"villa中"},{"$f":"INDEX(入力!$A:$A,I304+2,1)","v":0},{"$f":"INDEX(入力!$B:$B,I304+2,1)","v":0},{"$f":"1+D304","v":305},{"$f":"INDEX(入力!$C:$C,I304+2,1)","v":0},{"$f":"入力!$E$1","v":"villa中"},{"$f":"INDEX(入力!$A:$A,N304+2,1)","v":0},{"$f":"INDEX(入力!$B:$B,N304+2,1)","v":0},{"$f":"1+I304","v":306},{"$f":"INDEX(入力!$C:$C,N304+2,1)","v":0}]
[{"$f":"INDEX(入力!$E:$E,D304+2,1)","v":0},null,null,null,{"$f":"INDEX(入力!$H:$H,D304+2,1)","v":""},{"$f":"INDEX(入力!$E:$E,I304+2,1)","v":0},null,null,null,{"$f":"INDEX(入力!$H:$H,I304+2,1)","v":""},{"$f":"INDEX(入力!$E:$E,N304+2,1)","v":0},null,null,null,{"$f":"INDEX(入力!$H:$H,N304+2,1)","v":""}]
[null,null,"様",null,{"$f":"INDEX(入力!$F:$F,D304+2,1)","v":0},null,null,"様",null,{"$f":"INDEX(入力!$F:$F,I304+2,1)","v":0},null,null,"様",null,{"$f":"INDEX(入力!$F:$F,N304+2,1)","v":0}]
[{"$f":"入力!$E$1","v":"villa中"},{"$f":"INDEX(入力!$A:$A,D307+2,1)","v":0},{"$f":"INDEX(入力!$B:$B,D307+2,1)","v":0},{"$f":"D304+3","v":307},{"$f":"INDEX(入力!$C:$C,D307+2,1)","v":0},{"$f":"入力!$E$1","v":"villa中"},{"$f":"INDEX(入力!$A:$A,I307+2,1)","v":0},{"$f":"INDEX(入力!$B:$B,I307+2,1)","v":0},{"$f":"1+D307","v":308},{"$f":"INDEX(入力!$C:$C,I307+2,1)","v":0},{"$f":"入力!$E$1","v":"villa中"},{"$f":"INDEX(入力!$A:$A,N307+2,1)","v":0},{"$f":"INDEX(入力!$B:$B,N307+2,1)","v":0},{"$f":"1+I307","v":309},{"$f":"INDEX(入力!$C:$C,N307+2,1)","v":0}]
[{"$f":"INDEX(入力!$E:$E,D307+2,1)","v":0},null,null,null,{"$f":"INDEX(入力!$H:$H,D307+2,1)","v":""},{"$f":"INDEX(入力!$E:$E,I307+2,1)","v":0},null,null,null,{"$f":"INDEX(入力!$H:$H,I307+2,1)","v":""},{"$f":"INDEX(入力!$E:$E,N307+2,1)","v":0},null,null,null,{"$f":"INDEX(入力!$H:$H,N307+2,1)","v":""}]
[null,null,"様",null,{"$f":"INDEX(入力!$F:$F,D307+2,1)","v":0},null,null,"様",null,{"$f":"INDEX(入力!$F:$F,I307+2,1)","v":0},null,null,"様",null,{"$f":"INDEX(入力!$F:$F,N307+2,1)","v":0}]
[{"$f":"入力!$E$1","v":"villa中"},{"$f":"INDEX(入力!$A:$A,D310+2,1)","v":0},{"$f":"INDEX(入力!$B:$B,D310+2,1)","v":0},{"$f":"D307+3","v":310},{"$f":"INDEX(入力!$C:$C,D310+2,1)","v":0},{"$f":"入力!$E$1","v":"villa中"},{"$f":"INDEX(入力!$A:$A,I310+2,1)","v":0},{"$f":"INDEX(入力!$B:$B,I310+2,1)","v":0},{"$f":"1+D310","v":311},{"$f":"INDEX(入力!$C:$C,I310+2,1)","v":0},{"$f":"入力!$E$1","v":"villa中"},{"$f":"INDEX(入力!$A:$A,N310+2,1)","v":0},{"$f":"INDEX(入力!$B:$B,N310+2,1)","v":0},{"$f":"1+I310","v":312},{"$f":"INDEX(入力!$C:$C,N310+2,1)","v":0}]
[{"$f":"INDEX(入力!$E:$E,D310+2,1)","v":0},null,null,null,{"$f":"INDEX(入力!$H:$H,D310+2,1)","v":""},{"$f":"INDEX(入力!$E:$E,I310+2,1)","v":0},null,null,null,{"$f":"INDEX(入力!$H:$H,I310+2,1)","v":""},{"$f":"INDEX(入力!$E:$E,N310+2,1)","v":0},null,null,null,{"$f":"INDEX(入力!$H:$H,N310+2,1)","v":""}]
[null,null,"様",null,{"$f":"INDEX(入力!$F:$F,D310+2,1)","v":0},null,null,"様",null,{"$f":"INDEX(入力!$F:$F,I310+2,1)","v":0},null,null,"様",null,{"$f":"INDEX(入力!$F:$F,N310+2,1)","v":0}]
[{"$f":"入力!$E$1","v":"villa中"},{"$f":"INDEX(入力!$A:$A,D313+2,1)","v":0},{"$f":"INDEX(入力!$B:$B,D313+2,1)","v":0},{"$f":"D310+3","v":313},{"$f":"INDEX(入力!$C:$C,D313+2,1)","v":0},{"$f":"入力!$E$1","v":"villa中"},{"$f":"INDEX(入力!$A:$A,I313+2,1)","v":0},{"$f":"INDEX(入力!$B:$B,I313+2,1)","v":0},{"$f":"1+D313","v":314},{"$f":"INDEX(入力!$C:$C,I313+2,1)","v":0},{"$f":"入力!$E$1","v":"villa中"},{"$f":"INDEX(入力!$A:$A,N313+2,1)","v":0},{"$f":"INDEX(入力!$B:$B,N313+2,1)","v":0},{"$f":"1+I313","v":315},{"$f":"INDEX(入力!$C:$C,N313+2,1)","v":0}]
[{"$f":"INDEX(入力!$E:$E,D313+2,1)","v":0},null,null,null,{"$f":"INDEX(入力!$H:$H,D313+2,1)","v":""},{"$f":"INDEX(入力!$E:$E,I313+2,1)","v":0},null,null,null,{"$f":"INDEX(入力!$H:$H,I313+2,1)","v":""},{"$f":"INDEX(入力!$E:$E,N313+2,1)","v":0},null,null,null,{"$f":"INDEX(入力!$H:$H,N313+2,1)","v":""}]
[null,null,"様",null,{"$f":"INDEX(入力!$F:$F,D313+2,1)","v":0},null,null,"様",null,{"$f":"INDEX(入力!$F:$F,I313+2,1)","v":0},null,null,"様",null,{"$f":"INDEX(入力!$F:$F,N313+2,1)","v":0}]
[{"$f":"入力!$E$1","v":"villa中"},{"$f":"INDEX(入力!$A:$A,D316+2,1)","v":0},{"$f":"INDEX(入力!$B:$B,D316+2,1)","v":0},{"$f":"D313+3","v":316},{"$f":"INDEX(入力!$C:$C,D316+2,1)","v":0},{"$f":"入力!$E$1","v":"villa中"},{"$f":"INDEX(入力!$A:$A,I316+2,1)","v":0},{"$f":"INDEX(入力!$B:$B,I316+2,1)","v":0},{"$f":"1+D316","v":317},{"$f":"INDEX(入力!$C:$C,I316+2,1)","v":0},{"$f":"入力!$E$1","v":"villa中"},{"$f":"INDEX(入力!$A:$A,N316+2,1)","v":0},{"$f":"INDEX(入力!$B:$B,N316+2,1)","v":0},{"$f":"1+I316","v":318},{"$f":"INDEX(入力!$C:$C,N316+2,1)","v":0}]
[{"$f":"INDEX(入力!$E:$E,D316+2,1)","v":0},null,null,null,{"$f":"INDEX(入力!$H:$H,D316+2,1)","v":""},{"$f":"INDEX(入力!$E:$E,I316+2,1)","v":0},null,null,null,{"$f":"INDEX(入力!$H:$H,I316+2,1)","v":""},{"$f":"INDEX(入力!$E:$E,N316+2,1)","v":0},null,null,null,{"$f":"INDEX(入力!$H:$H,N316+2,1)","v":""}]
[null,null,"様",null,{"$f":"INDEX(入力!$F:$F,D316+2,1)","v":0},null,null,"様",null,{"$f":"INDEX(入力!$F:$F,I316+2,1)","v":0},null,null,"様",null,{"$f":"INDEX(入力!$F:$F,N316+2,1)","v":0}]
[{"$f":"入力!$E$1","v":"villa中"},{"$f":"INDEX(入力!$A:$A,D319+2,1)","v":0},{"$f":"INDEX(入力!$B:$B,D319+2,1)","v":0},{"$f":"D316+3","v":319},{"$f":"INDEX(入力!$C:$C,D319+2,1)","v":0},{"$f":"入力!$E$1","v":"villa中"},{"$f":"INDEX(入力!$A:$A,I319+2,1)","v":0},{"$f":"INDEX(入力!$B:$B,I319+2,1)","v":0},{"$f":"1+D319","v":320},{"$f":"INDEX(入力!$C:$C,I319+2,1)","v":0},{"$f":"入力!$E$1","v":"villa中"},{"$f":"INDEX(入力!$A:$A,N319+2,1)","v":0},{"$f":"INDEX(入力!$B:$B,N319+2,1)","v":0},{"$f":"1+I319","v":321},{"$f":"INDEX(入力!$C:$C,N319+2,1)","v":0}]
[{"$f":"INDEX(入力!$E:$E,D319+2,1)","v":0},null,null,null,{"$f":"INDEX(入力!$H:$H,D319+2,1)","v":""},{"$f":"INDEX(入力!$E:$E,I319+2,1)","v":0},null,null,null,{"$f":"INDEX(入力!$H:$H,I319+2,1)","v":""},{"$f":"INDEX(入力!$E:$E,N319+2,1)","v":0},null,null,null,{"$f":"INDEX(入力!$H:$H,N319+2,1)","v":""}]
[null,null,"様",null,{"$f":"INDEX(入力!$F:$F,D319+2,1)","v":0},null,null,"様",null,{"$f":"INDEX(入力!$F:$F,I319+2,1)","v":0},null,null,"様",null,{"$f":"INDEX(入力!$F:$F,N319+2,1)","v":0}]
[{"$f":"入力!$E$1","v":"villa中"},{"$f":"INDEX(入力!$A:$A,D322+2,1)","v":0},{"$f":"INDEX(入力!$B:$B,D322+2,1)","v":0},{"$f":"D319+3","v":322},{"$f":"INDEX(入力!$C:$C,D322+2,1)","v":0},{"$f":"入力!$E$1","v":"villa中"},{"$f":"INDEX(入力!$A:$A,I322+2,1)","v":0},{"$f":"INDEX(入力!$B:$B,I322+2,1)","v":0},{"$f":"1+D322","v":323},{"$f":"INDEX(入力!$C:$C,I322+2,1)","v":0},{"$f":"入力!$E$1","v":"villa中"},{"$f":"INDEX(入力!$A:$A,N322+2,1)","v":0},{"$f":"INDEX(入力!$B:$B,N322+2,1)","v":0},{"$f":"1+I322","v":324},{"$f":"INDEX(入力!$C:$C,N322+2,1)","v":0}]
[{"$f":"INDEX(入力!$E:$E,D322+2,1)","v":0},null,null,null,{"$f":"INDEX(入力!$H:$H,D322+2,1)","v":""},{"$f":"INDEX(入力!$E:$E,I322+2,1)","v":0},null,null,null,{"$f":"INDEX(入力!$H:$H,I322+2,1)","v":""},{"$f":"INDEX(入力!$E:$E,N322+2,1)","v":0},null,null,null,{"$f":"INDEX(入力!$H:$H,N322+2,1)","v":""}]
[null,null,"様",null,{"$f":"INDEX(入力!$F:$F,D322+2,1)","v":0},null,null,"様",null,{"$f":"INDEX(入力!$F:$F,I322+2,1)","v":0},null,null,"様",null,{"$f":"INDEX(入力!$F:$F,N322+2,1)","v":0}]
[{"$f":"入力!$E$1","v":"villa中"},{"$f":"INDEX(入力!$A:$A,D325+2,1)","v":0},{"$f":"INDEX(入力!$B:$B,D325+2,1)","v":0},{"$f":"D322+3","v":325},{"$f":"INDEX(入力!$C:$C,D325+2,1)","v":0},{"$f":"入力!$E$1","v":"villa中"},{"$f":"INDEX(入力!$A:$A,I325+2,1)","v":0},{"$f":"INDEX(入力!$B:$B,I325+2,1)","v":0},{"$f":"1+D325","v":326},{"$f":"INDEX(入力!$C:$C,I325+2,1)","v":0},{"$f":"入力!$E$1","v":"villa中"},{"$f":"INDEX(入力!$A:$A,N325+2,1)","v":0},{"$f":"INDEX(入力!$B:$B,N325+2,1)","v":0},{"$f":"1+I325","v":327},{"$f":"INDEX(入力!$C:$C,N325+2,1)","v":0}]
[{"$f":"INDEX(入力!$E:$E,D325+2,1)","v":0},null,null,null,{"$f":"INDEX(入力!$H:$H,D325+2,1)","v":""},{"$f":"INDEX(入力!$E:$E,I325+2,1)","v":0},null,null,null,{"$f":"INDEX(入力!$H:$H,I325+2,1)","v":""},{"$f":"INDEX(入力!$E:$E,N325+2,1)","v":0},null,null,null,{"$f":"INDEX(入力!$H:$H,N325+2,1)","v":""}]
[null,null,"様",null,{"$f":"INDEX(入力!$F:$F,D325+2,1)","v":0},null,null,"様",null,{"$f":"INDEX(入力!$F:$F,I325+2,1)","v":0},null,null,"様",null,{"$f":"INDEX(入力!$F:$F,N325+2,1)","v":0}]
[{"$f":"入力!$E$1","v":"villa中"},{"$f":"INDEX(入力!$A:$A,D328+2,1)","v":0},{"$f":"INDEX(入力!$B:$B,D328+2,1)","v":0},{"$f":"D325+3","v":328},{"$f":"INDEX(入力!$C:$C,D328+2,1)","v":0},{"$f":"入力!$E$1","v":"villa中"},{"$f":"INDEX(入力!$A:$A,I328+2,1)","v":0},{"$f":"INDEX(入力!$B:$B,I328+2,1)","v":0},{"$f":"1+D328","v":329},{"$f":"INDEX(入力!$C:$C,I328+2,1)","v":0},{"$f":"入力!$E$1","v":"villa中"},{"$f":"INDEX(入力!$A:$A,N328+2,1)","v":0},{"$f":"INDEX(入力!$B:$B,N328+2,1)","v":0},{"$f":"1+I328","v":330},{"$f":"INDEX(入力!$C:$C,N328+2,1)","v":0}]
[{"$f":"INDEX(入力!$E:$E,D328+2,1)","v":0},null,null,null,{"$f":"INDEX(入力!$H:$H,D328+2,1)","v":""},{"$f":"INDEX(入力!$E:$E,I328+2,1)","v":0},null,null,null,{"$f":"INDEX(入力!$H:$H,I328+2,1)","v":""},{"$f":"INDEX(入力!$E:$E,N328+2,1)","v":0},null,null,null,{"$f":"INDEX(入力!$H:$H,N328+2,1)","v":""}]
[null,null,"様",null,{"$f":"INDEX(入力!$F:$F,D328+2,1)","v":0},null,null,"様",null,{"$f":"INDEX(入力!$F:$F,I328+2,1)","v":0},null,null,"様",null,{"$f":"INDEX(入力!$F:$F,N328+2,1)","v":0}]
[{"$f":"入力!$E$1","v":"villa中"},{"$f":"INDEX(入力!$A:$A,D331+2,1)","v":0},{"$f":"INDEX(入力!$B:$B,D331+2,1)","v":0},{"$f":"D328+3","v":331},{"$f":"INDEX(入力!$C:$C,D331+2,1)","v":0},{"$f":"入力!$E$1","v":"villa中"},{"$f":"INDEX(入力!$A:$A,I331+2,1)","v":0},{"$f":"INDEX(入力!$B:$B,I331+2,1)","v":0},{"$f":"1+D331","v":332},{"$f":"INDEX(入力!$C:$C,I331+2,1)","v":0},{"$f":"入力!$E$1","v":"villa中"},{"$f":"INDEX(入力!$A:$A,N331+2,1)","v":0},{"$f":"INDEX(入力!$B:$B,N331+2,1)","v":0},{"$f":"1+I331","v":333},{"$f":"INDEX(入力!$C:$C,N331+2,1)","v":0}]
[{"$f":"INDEX(入力!$E:$E,D331+2,1)","v":0},null,null,null,{"$f":"INDEX(入力!$H:$H,D331+2,1)","v":""},{"$f":"INDEX(入力!$E:$E,I331+2,1)","v":0},null,null,null,{"$f":"INDEX(入力!$H:$H,I331+2,1)","v":""},{"$f":"INDEX(入力!$E:$E,N331+2,1)","v":0},null,null,null,{"$f":"INDEX(入力!$H:$H,N331+2,1)","v":""}]
[null,null,"様",null,{"$f":"INDEX(入力!$F:$F,D331+2,1)","v":0},null,null,"様",null,{"$f":"INDEX(入力!$F:$F,I331+2,1)","v":0},null,null,"様",null,{"$f":"INDEX(入力!$F:$F,N331+2,1)","v":0}]
[{"$f":"入力!$E$1","v":"villa中"},{"$f":"INDEX(入力!$A:$A,D334+2,1)","v":0},{"$f":"INDEX(入力!$B:$B,D334+2,1)","v":0},{"$f":"D331+3","v":334},{"$f":"INDEX(入力!$C:$C,D334+2,1)","v":0},{"$f":"入力!$E$1","v":"villa中"},{"$f":"INDEX(入力!$A:$A,I334+2,1)","v":0},{"$f":"INDEX(入力!$B:$B,I334+2,1)","v":0},{"$f":"1+D334","v":335},{"$f":"INDEX(入力!$C:$C,I334+2,1)","v":0},{"$f":"入力!$E$1","v":"villa中"},{"$f":"INDEX(入力!$A:$A,N334+2,1)","v":0},{"$f":"INDEX(入力!$B:$B,N334+2,1)","v":0},{"$f":"1+I334","v":336},{"$f":"INDEX(入力!$C:$C,N334+2,1)","v":0}]
[{"$f":"INDEX(入力!$E:$E,D334+2,1)","v":0},null,null,null,{"$f":"INDEX(入力!$H:$H,D334+2,1)","v":""},{"$f":"INDEX(入力!$E:$E,I334+2,1)","v":0},null,null,null,{"$f":"INDEX(入力!$H:$H,I334+2,1)","v":""},{"$f":"INDEX(入力!$E:$E,N334+2,1)","v":0},null,null,null,{"$f":"INDEX(入力!$H:$H,N334+2,1)","v":""}]
[null,null,"様",null,{"$f":"INDEX(入力!$F:$F,D334+2,1)","v":0},null,null,"様",null,{"$f":"INDEX(入力!$F:$F,I334+2,1)","v":0},null,null,"様",null,{"$f":"INDEX(入力!$F:$F,N334+2,1)","v":0}]
[{"$f":"入力!$E$1","v":"villa中"},{"$f":"INDEX(入力!$A:$A,D337+2,1)","v":0},{"$f":"INDEX(入力!$B:$B,D337+2,1)","v":0},{"$f":"D334+3","v":337},{"$f":"INDEX(入力!$C:$C,D337+2,1)","v":0},{"$f":"入力!$E$1","v":"villa中"},{"$f":"INDEX(入力!$A:$A,I337+2,1)","v":0},{"$f":"INDEX(入力!$B:$B,I337+2,1)","v":0},{"$f":"1+D337","v":338},{"$f":"INDEX(入力!$C:$C,I337+2,1)","v":0},{"$f":"入力!$E$1","v":"villa中"},{"$f":"INDEX(入力!$A:$A,N337+2,1)","v":0},{"$f":"INDEX(入力!$B:$B,N337+2,1)","v":0},{"$f":"1+I337","v":339},{"$f":"INDEX(入力!$C:$C,N337+2,1)","v":0}]
[{"$f":"INDEX(入力!$E:$E,D337+2,1)","v":0},null,null,null,{"$f":"INDEX(入力!$H:$H,D337+2,1)","v":""},{"$f":"INDEX(入力!$E:$E,I337+2,1)","v":0},null,null,null,{"$f":"INDEX(入力!$H:$H,I337+2,1)","v":""},{"$f":"INDEX(入力!$E:$E,N337+2,1)","v":0},null,null,null,{"$f":"INDEX(入力!$H:$H,N337+2,1)","v":""}]
[null,null,"様",null,{"$f":"INDEX(入力!$F:$F,D337+2,1)","v":0},null,null,"様",null,{"$f":"INDEX(入力!$F:$F,I337+2,1)","v":0},null,null,"様",null,{"$f":"INDEX(入力!$F:$F,N337+2,1)","v":0}]
[{"$f":"入力!$E$1","v":"villa中"},{"$f":"INDEX(入力!$A:$A,D340+2,1)","v":0},{"$f":"INDEX(入力!$B:$B,D340+2,1)","v":0},{"$f":"D337+3","v":340},{"$f":"INDEX(入力!$C:$C,D340+2,1)","v":0},{"$f":"入力!$E$1","v":"villa中"},{"$f":"INDEX(入力!$A:$A,I340+2,1)","v":0},{"$f":"INDEX(入力!$B:$B,I340+2,1)","v":0},{"$f":"1+D340","v":341},{"$f":"INDEX(入力!$C:$C,I340+2,1)","v":0},{"$f":"入力!$E$1","v":"villa中"},{"$f":"INDEX(入力!$A:$A,N340+2,1)","v":0},{"$f":"INDEX(入力!$B:$B,N340+2,1)","v":0},{"$f":"1+I340","v":342},{"$f":"INDEX(入力!$C:$C,N340+2,1)","v":0}]
[{"$f":"INDEX(入力!$E:$E,D340+2,1)","v":0},null,null,null,{"$f":"INDEX(入力!$H:$H,D340+2,1)","v":""},{"$f":"INDEX(入力!$E:$E,I340+2,1)","v":0},null,null,null,{"$f":"INDEX(入力!$H:$H,I340+2,1)","v":""},{"$f":"INDEX(入力!$E:$E,N340+2,1)","v":0},null,null,null,{"$f":"INDEX(入力!$H:$H,N340+2,1)","v":""}]
[null,null,"様",null,{"$f":"INDEX(入力!$F:$F,D340+2,1)","v":0},null,null,"様",null,{"$f":"INDEX(入力!$F:$F,I340+2,1)","v":0},null,null,"様",null,{"$f":"INDEX(入力!$F:$F,N340+2,1)","v":0}]
[{"$f":"入力!$E$1","v":"villa中"},{"$f":"INDEX(入力!$A:$A,D343+2,1)","v":0},{"$f":"INDEX(入力!$B:$B,D343+2,1)","v":0},{"$f":"D340+3","v":343},{"$f":"INDEX(入力!$C:$C,D343+2,1)","v":0},{"$f":"入力!$E$1","v":"villa中"},{"$f":"INDEX(入力!$A:$A,I343+2,1)","v":0},{"$f":"INDEX(入力!$B:$B,I343+2,1)","v":0},{"$f":"1+D343","v":344},{"$f":"INDEX(入力!$C:$C,I343+2,1)","v":0},{"$f":"入力!$E$1","v":"villa中"},{"$f":"INDEX(入力!$A:$A,N343+2,1)","v":0},{"$f":"INDEX(入力!$B:$B,N343+2,1)","v":0},{"$f":"1+I343","v":345},{"$f":"INDEX(入力!$C:$C,N343+2,1)","v":0}]
[{"$f":"INDEX(入力!$E:$E,D343+2,1)","v":0},null,null,null,{"$f":"INDEX(入力!$H:$H,D343+2,1)","v":""},{"$f":"INDEX(入力!$E:$E,I343+2,1)","v":0},null,null,null,{"$f":"INDEX(入力!$H:$H,I343+2,1)","v":""},{"$f":"INDEX(入力!$E:$E,N343+2,1)","v":0},null,null,null,{"$f":"INDEX(入力!$H:$H,N343+2,1)","v":""}]
[null,null,"様",null,{"$f":"INDEX(入力!$F:$F,D343+2,1)","v":0},null,null,"様",null,{"$f":"INDEX(入力!$F:$F,I343+2,1)","v":0},null,null,"様",null,{"$f":"INDEX(入力!$F:$F,N343+2,1)","v":0}]
[{"$f":"入力!$E$1","v":"villa中"},{"$f":"INDEX(入力!$A:$A,D346+2,1)","v":0},{"$f":"INDEX(入力!$B:$B,D346+2,1)","v":0},{"$f":"D343+3","v":346},{"$f":"INDEX(入力!$C:$C,D346+2,1)","v":0},{"$f":"入力!$E$1","v":"villa中"},{"$f":"INDEX(入力!$A:$A,I346+2,1)","v":0},{"$f":"INDEX(入力!$B:$B,I346+2,1)","v":0},{"$f":"1+D346","v":347},{"$f":"INDEX(入力!$C:$C,I346+2,1)","v":0},{"$f":"入力!$E$1","v":"villa中"},{"$f":"INDEX(入力!$A:$A,N346+2,1)","v":0},{"$f":"INDEX(入力!$B:$B,N346+2,1)","v":0},{"$f":"1+I346","v":348},{"$f":"INDEX(入力!$C:$C,N346+2,1)","v":0}]
[{"$f":"INDEX(入力!$E:$E,D346+2,1)","v":0},null,null,null,{"$f":"INDEX(入力!$H:$H,D346+2,1)","v":""},{"$f":"INDEX(入力!$E:$E,I346+2,1)","v":0},null,null,null,{"$f":"INDEX(入力!$H:$H,I346+2,1)","v":""},{"$f":"INDEX(入力!$E:$E,N346+2,1)","v":0},null,null,null,{"$f":"INDEX(入力!$H:$H,N346+2,1)","v":""}]
[null,null,"様",null,{"$f":"INDEX(入力!$F:$F,D346+2,1)","v":0},null,null,"様",null,{"$f":"INDEX(入力!$F:$F,I346+2,1)","v":0},null,null,"様",null,{"$f":"INDEX(入力!$F:$F,N346+2,1)","v":0}]
[{"$f":"入力!$E$1","v":"villa中"},{"$f":"INDEX(入力!$A:$A,D349+2,1)","v":0},{"$f":"INDEX(入力!$B:$B,D349+2,1)","v":0},{"$f":"D346+3","v":349},{"$f":"INDEX(入力!$C:$C,D349+2,1)","v":0},{"$f":"入力!$E$1","v":"villa中"},{"$f":"INDEX(入力!$A:$A,I349+2,1)","v":0},{"$f":"INDEX(入力!$B:$B,I349+2,1)","v":0},{"$f":"1+D349","v":350},{"$f":"INDEX(入力!$C:$C,I349+2,1)","v":0},{"$f":"入力!$E$1","v":"villa中"},{"$f":"INDEX(入力!$A:$A,N349+2,1)","v":0},{"$f":"INDEX(入力!$B:$B,N349+2,1)","v":0},{"$f":"1+I349","v":351},{"$f":"INDEX(入力!$C:$C,N349+2,1)","v":0}]
[{"$f":"INDEX(入力!$E:$E,D349+2,1)","v":0},null,null,null,{"$f":"INDEX(入力!$H:$H,D349+2,1)","v":""},{"$f":"INDEX(入力!$E:$E,I349+2,1)","v":0},null,null,null,{"$f":"INDEX(入力!$H:$H,I349+2,1)","v":""},{"$f":"INDEX(入力!$E:$E,N349+2,1)","v":0},null,null,null,{"$f":"INDEX(入力!$H:$H,N349+2,1)","v":""}]
[null,null,"様",null,{"$f":"INDEX(入力!$F:$F,D349+2,1)","v":0},null,null,"様",null,{"$f":"INDEX(入力!$F:$F,I349+2,1)","v":0},null,null,"様",null,{"$f":"INDEX(入力!$F:$F,N349+2,1)","v":0}]
[{"$f":"入力!$E$1","v":"villa中"},{"$f":"INDEX(入力!$A:$A,D352+2,1)","v":0},{"$f":"INDEX(入力!$B:$B,D352+2,1)","v":0},{"$f":"D349+3","v":352},{"$f":"INDEX(入力!$C:$C,D352+2,1)","v":0},{"$f":"入力!$E$1","v":"villa中"},{"$f":"INDEX(入力!$A:$A,I352+2,1)","v":0},{"$f":"INDEX(入力!$B:$B,I352+2,1)","v":0},{"$f":"1+D352","v":353},{"$f":"INDEX(入力!$C:$C,I352+2,1)","v":0},{"$f":"入力!$E$1","v":"villa中"},{"$f":"INDEX(入力!$A:$A,N352+2,1)","v":0},{"$f":"INDEX(入力!$B:$B,N352+2,1)","v":0},{"$f":"1+I352","v":354},{"$f":"INDEX(入力!$C:$C,N352+2,1)","v":0}]
[{"$f":"INDEX(入力!$E:$E,D352+2,1)","v":0},null,null,null,{"$f":"INDEX(入力!$H:$H,D352+2,1)","v":""},{"$f":"INDEX(入力!$E:$E,I352+2,1)","v":0},null,null,null,{"$f":"INDEX(入力!$H:$H,I352+2,1)","v":""},{"$f":"INDEX(入力!$E:$E,N352+2,1)","v":0},null,null,null,{"$f":"INDEX(入力!$H:$H,N352+2,1)","v":""}]
[null,null,"様",null,{"$f":"INDEX(入力!$F:$F,D352+2,1)","v":0},null,null,"様",null,{"$f":"INDEX(入力!$F:$F,I352+2,1)","v":0},null,null,"様",null,{"$f":"INDEX(入力!$F:$F,N352+2,1)","v":0}]
[{"$f":"入力!$E$1","v":"villa中"},{"$f":"INDEX(入力!$A:$A,D355+2,1)","v":0},{"$f":"INDEX(入力!$B:$B,D355+2,1)","v":0},{"$f":"D352+3","v":355},{"$f":"INDEX(入力!$C:$C,D355+2,1)","v":0},{"$f":"入力!$E$1","v":"villa中"},{"$f":"INDEX(入力!$A:$A,I355+2,1)","v":0},{"$f":"INDEX(入力!$B:$B,I355+2,1)","v":0},{"$f":"1+D355","v":356},{"$f":"INDEX(入力!$C:$C,I355+2,1)","v":0},{"$f":"入力!$E$1","v":"villa中"},{"$f":"INDEX(入力!$A:$A,N355+2,1)","v":0},{"$f":"INDEX(入力!$B:$B,N355+2,1)","v":0},{"$f":"1+I355","v":357},{"$f":"INDEX(入力!$C:$C,N355+2,1)","v":0}]
[{"$f":"INDEX(入力!$E:$E,D355+2,1)","v":0},null,null,null,{"$f":"INDEX(入力!$H:$H,D355+2,1)","v":""},{"$f":"INDEX(入力!$E:$E,I355+2,1)","v":0},null,null,null,{"$f":"INDEX(入力!$H:$H,I355+2,1)","v":""},{"$f":"INDEX(入力!$E:$E,N355+2,1)","v":0},null,null,null,{"$f":"INDEX(入力!$H:$H,N355+2,1)","v":""}]
[null,null,"様",null,{"$f":"INDEX(入力!$F:$F,D355+2,1)","v":0},null,null,"様",null,{"$f":"INDEX(入力!$F:$F,I355+2,1)","v":0},null,null,"様",null,{"$f":"INDEX(入力!$F:$F,N355+2,1)","v":0}]
[{"$f":"入力!$E$1","v":"villa中"},{"$f":"INDEX(入力!$A:$A,D358+2,1)","v":0},{"$f":"INDEX(入力!$B:$B,D358+2,1)","v":0},{"$f":"D355+3","v":358},{"$f":"INDEX(入力!$C:$C,D358+2,1)","v":0},{"$f":"入力!$E$1","v":"villa中"},{"$f":"INDEX(入力!$A:$A,I358+2,1)","v":0},{"$f":"INDEX(入力!$B:$B,I358+2,1)","v":0},{"$f":"1+D358","v":359},{"$f":"INDEX(入力!$C:$C,I358+2,1)","v":0},{"$f":"入力!$E$1","v":"villa中"},{"$f":"INDEX(入力!$A:$A,N358+2,1)","v":0},{"$f":"INDEX(入力!$B:$B,N358+2,1)","v":0},{"$f":"1+I358","v":360},{"$f":"INDEX(入力!$C:$C,N358+2,1)","v":0}]
[{"$f":"INDEX(入力!$E:$E,D358+2,1)","v":0},null,null,null,{"$f":"INDEX(入力!$H:$H,D358+2,1)","v":""},{"$f":"INDEX(入力!$E:$E,I358+2,1)","v":0},null,null,null,{"$f":"INDEX(入力!$H:$H,I358+2,1)","v":""},{"$f":"INDEX(入力!$E:$E,N358+2,1)","v":0},null,null,null,{"$f":"INDEX(入力!$H:$H,N358+2,1)","v":""}]
[null,null,"様",null,{"$f":"INDEX(入力!$F:$F,D358+2,1)","v":0},null,null,"様",null,{"$f":"INDEX(入力!$F:$F,I358+2,1)","v":0},null,null,"様",null,{"$f":"INDEX(入力!$F:$F,N358+2,1)","v":0}]
[{"$f":"入力!$E$1","v":"villa中"},{"$f":"INDEX(入力!$A:$A,D361+2,1)","v":0},{"$f":"INDEX(入力!$B:$B,D361+2,1)","v":0},{"$f":"D358+3","v":361},{"$f":"INDEX(入力!$C:$C,D361+2,1)","v":0},{"$f":"入力!$E$1","v":"villa中"},{"$f":"INDEX(入力!$A:$A,I361+2,1)","v":0},{"$f":"INDEX(入力!$B:$B,I361+2,1)","v":0},{"$f":"1+D361","v":362},{"$f":"INDEX(入力!$C:$C,I361+2,1)","v":0},{"$f":"入力!$E$1","v":"villa中"},{"$f":"INDEX(入力!$A:$A,N361+2,1)","v":0},{"$f":"INDEX(入力!$B:$B,N361+2,1)","v":0},{"$f":"1+I361","v":363},{"$f":"INDEX(入力!$C:$C,N361+2,1)","v":0}]
[{"$f":"INDEX(入力!$E:$E,D361+2,1)","v":0},null,null,null,{"$f":"INDEX(入力!$H:$H,D361+2,1)","v":""},{"$f":"INDEX(入力!$E:$E,I361+2,1)","v":0},null,null,null,{"$f":"INDEX(入力!$H:$H,I361+2,1)","v":""},{"$f":"INDEX(入力!$E:$E,N361+2,1)","v":0},null,null,null,{"$f":"INDEX(入力!$H:$H,N361+2,1)","v":""}]
[null,null,"様",null,{"$f":"INDEX(入力!$F:$F,D361+2,1)","v":0},null,null,"様",null,{"$f":"INDEX(入力!$F:$F,I361+2,1)","v":0},null,null,"様",null,{"$f":"INDEX(入力!$F:$F,N361+2,1)","v":0}]
[{"$f":"入力!$E$1","v":"villa中"},{"$f":"INDEX(入力!$A:$A,D364+2,1)","v":0},{"$f":"INDEX(入力!$B:$B,D364+2,1)","v":0},{"$f":"D361+3","v":364},{"$f":"INDEX(入力!$C:$C,D364+2,1)","v":0},{"$f":"入力!$E$1","v":"villa中"},{"$f":"INDEX(入力!$A:$A,I364+2,1)","v":0},{"$f":"INDEX(入力!$B:$B,I364+2,1)","v":0},{"$f":"1+D364","v":365},{"$f":"INDEX(入力!$C:$C,I364+2,1)","v":0},{"$f":"入力!$E$1","v":"villa中"},{"$f":"INDEX(入力!$A:$A,N364+2,1)","v":0},{"$f":"INDEX(入力!$B:$B,N364+2,1)","v":0},{"$f":"1+I364","v":366},{"$f":"INDEX(入力!$C:$C,N364+2,1)","v":0}]
[{"$f":"INDEX(入力!$E:$E,D364+2,1)","v":0},null,null,null,{"$f":"INDEX(入力!$H:$H,D364+2,1)","v":""},{"$f":"INDEX(入力!$E:$E,I364+2,1)","v":0},null,null,null,{"$f":"INDEX(入力!$H:$H,I364+2,1)","v":""},{"$f":"INDEX(入力!$E:$E,N364+2,1)","v":0},null,null,null,{"$f":"INDEX(入力!$H:$H,N364+2,1)","v":""}]
[null,null,"様",null,{"$f":"INDEX(入力!$F:$F,D364+2,1)","v":0},null,null,"様",null,{"$f":"INDEX(入力!$F:$F,I364+2,1)","v":0},null,null,"様",null,{"$f":"INDEX(入力!$F:$F,N364+2,1)","v":0}]
[{"$f":"入力!$E$1","v":"villa中"},{"$f":"INDEX(入力!$A:$A,D367+2,1)","v":0},{"$f":"INDEX(入力!$B:$B,D367+2,1)","v":0},{"$f":"D364+3","v":367},{"$f":"INDEX(入力!$C:$C,D367+2,1)","v":0},{"$f":"入力!$E$1","v":"villa中"},{"$f":"INDEX(入力!$A:$A,I367+2,1)","v":0},{"$f":"INDEX(入力!$B:$B,I367+2,1)","v":0},{"$f":"1+D367","v":368},{"$f":"INDEX(入力!$C:$C,I367+2,1)","v":0},{"$f":"入力!$E$1","v":"villa中"},{"$f":"INDEX(入力!$A:$A,N367+2,1)","v":0},{"$f":"INDEX(入力!$B:$B,N367+2,1)","v":0},{"$f":"1+I367","v":369},{"$f":"INDEX(入力!$C:$C,N367+2,1)","v":0}]
[{"$f":"INDEX(入力!$E:$E,D367+2,1)","v":0},null,null,null,{"$f":"INDEX(入力!$H:$H,D367+2,1)","v":""},{"$f":"INDEX(入力!$E:$E,I367+2,1)","v":0},null,null,null,{"$f":"INDEX(入力!$H:$H,I367+2,1)","v":""},{"$f":"INDEX(入力!$E:$E,N367+2,1)","v":0},null,null,null,{"$f":"INDEX(入力!$H:$H,N367+2,1)","v":""}]
[null,null,"様",null,{"$f":"INDEX(入力!$F:$F,D367+2,1)","v":0},null,null,"様",null,{"$f":"INDEX(入力!$F:$F,I367+2,1)","v":0},null,null,"様",null,{"$f":"INDEX(入力!$F:$F,N367+2,1)","v":0}]
[{"$f":"入力!$E$1","v":"villa中"},{"$f":"INDEX(入力!$A:$A,D370+2,1)","v":0},{"$f":"INDEX(入力!$B:$B,D370+2,1)","v":0},{"$f":"D367+3","v":370},{"$f":"INDEX(入力!$C:$C,D370+2,1)","v":0},{"$f":"入力!$E$1","v":"villa中"},{"$f":"INDEX(入力!$A:$A,I370+2,1)","v":0},{"$f":"INDEX(入力!$B:$B,I370+2,1)","v":0},{"$f":"1+D370","v":371},{"$f":"INDEX(入力!$C:$C,I370+2,1)","v":0},{"$f":"入力!$E$1","v":"villa中"},{"$f":"INDEX(入力!$A:$A,N370+2,1)","v":0},{"$f":"INDEX(入力!$B:$B,N370+2,1)","v":0},{"$f":"1+I370","v":372},{"$f":"INDEX(入力!$C:$C,N370+2,1)","v":0}]
[{"$f":"INDEX(入力!$E:$E,D370+2,1)","v":0},null,null,null,{"$f":"INDEX(入力!$H:$H,D370+2,1)","v":""},{"$f":"INDEX(入力!$E:$E,I370+2,1)","v":0},null,null,null,{"$f":"INDEX(入力!$H:$H,I370+2,1)","v":""},{"$f":"INDEX(入力!$E:$E,N370+2,1)","v":0},null,null,null,{"$f":"INDEX(入力!$H:$H,N370+2,1)","v":""}]
[null,null,"様",null,{"$f":"INDEX(入力!$F:$F,D370+2,1)","v":0},null,null,"様",null,{"$f":"INDEX(入力!$F:$F,I370+2,1)","v":0},null,null,"様",null,{"$f":"INDEX(入力!$F:$F,N370+2,1)","v":0}]
[{"$f":"入力!$E$1","v":"villa中"},{"$f":"INDEX(入力!$A:$A,D373+2,1)","v":0},{"$f":"INDEX(入力!$B:$B,D373+2,1)","v":0},{"$f":"D370+3","v":373},{"$f":"INDEX(入力!$C:$C,D373+2,1)","v":0},{"$f":"入力!$E$1","v":"villa中"},{"$f":"INDEX(入力!$A:$A,I373+2,1)","v":0},{"$f":"INDEX(入力!$B:$B,I373+2,1)","v":0},{"$f":"1+D373","v":374},{"$f":"INDEX(入力!$C:$C,I373+2,1)","v":0},{"$f":"入力!$E$1","v":"villa中"},{"$f":"INDEX(入力!$A:$A,N373+2,1)","v":0},{"$f":"INDEX(入力!$B:$B,N373+2,1)","v":0},{"$f":"1+I373","v":375},{"$f":"INDEX(入力!$C:$C,N373+2,1)","v":0}]
[{"$f":"INDEX(入力!$E:$E,D373+2,1)","v":0},null,null,null,{"$f":"INDEX(入力!$H:$H,D373+2,1)","v":""},{"$f":"INDEX(入力!$E:$E,I373+2,1)","v":0},null,null,null,{"$f":"INDEX(入力!$H:$H,I373+2,1)","v":""},{"$f":"INDEX(入力!$E:$E,N373+2,1)","v":0},null,null,null,{"$f":"INDEX(入力!$H:$H,N373+2,1)","v":""}]
[null,null,"様",null,{"$f":"INDEX(入力!$F:$F,D373+2,1)","v":0},null,null,"様",null,{"$f":"INDEX(入力!$F:$F,I373+2,1)","v":0},null,null,"様",null,{"$f":"INDEX(入力!$F:$F,N373+2,1)","v":0}]
[{"$f":"入力!$E$1","v":"villa中"},{"$f":"INDEX(入力!$A:$A,D376+2,1)","v":0},{"$f":"INDEX(入力!$B:$B,D376+2,1)","v":0},{"$f":"D373+3","v":376},{"$f":"INDEX(入力!$C:$C,D376+2,1)","v":0},{"$f":"入力!$E$1","v":"villa中"},{"$f":"INDEX(入力!$A:$A,I376+2,1)","v":0},{"$f":"INDEX(入力!$B:$B,I376+2,1)","v":0},{"$f":"1+D376","v":377},{"$f":"INDEX(入力!$C:$C,I376+2,1)","v":0},{"$f":"入力!$E$1","v":"villa中"},{"$f":"INDEX(入力!$A:$A,N376+2,1)","v":0},{"$f":"INDEX(入力!$B:$B,N376+2,1)","v":0},{"$f":"1+I376","v":378},{"$f":"INDEX(入力!$C:$C,N376+2,1)","v":0}]
[{"$f":"INDEX(入力!$E:$E,D376+2,1)","v":0},null,null,null,{"$f":"INDEX(入力!$H:$H,D376+2,1)","v":""},{"$f":"INDEX(入力!$E:$E,I376+2,1)","v":0},null,null,null,{"$f":"INDEX(入力!$H:$H,I376+2,1)","v":""},{"$f":"INDEX(入力!$E:$E,N376+2,1)","v":0},null,null,null,{"$f":"INDEX(入力!$H:$H,N376+2,1)","v":""}]
[null,null,"様",null,{"$f":"INDEX(入力!$F:$F,D376+2,1)","v":0},null,null,"様",null,{"$f":"INDEX(入力!$F:$F,I376+2,1)","v":0},null,null,"様",null,{"$f":"INDEX(入力!$F:$F,N376+2,1)","v":0}]
[{"$f":"入力!$E$1","v":"villa中"},{"$f":"INDEX(入力!$A:$A,D379+2,1)","v":0},{"$f":"INDEX(入力!$B:$B,D379+2,1)","v":0},{"$f":"D376+3","v":379},{"$f":"INDEX(入力!$C:$C,D379+2,1)","v":0},{"$f":"入力!$E$1","v":"villa中"},{"$f":"INDEX(入力!$A:$A,I379+2,1)","v":0},{"$f":"INDEX(入力!$B:$B,I379+2,1)","v":0},{"$f":"1+D379","v":380},{"$f":"INDEX(入力!$C:$C,I379+2,1)","v":0},{"$f":"入力!$E$1","v":"villa中"},{"$f":"INDEX(入力!$A:$A,N379+2,1)","v":0},{"$f":"INDEX(入力!$B:$B,N379+2,1)","v":0},{"$f":"1+I379","v":381},{"$f":"INDEX(入力!$C:$C,N379+2,1)","v":0}]
[{"$f":"INDEX(入力!$E:$E,D379+2,1)","v":0},null,null,null,{"$f":"INDEX(入力!$H:$H,D379+2,1)","v":""},{"$f":"INDEX(入力!$E:$E,I379+2,1)","v":0},null,null,null,{"$f":"INDEX(入力!$H:$H,I379+2,1)","v":""},{"$f":"INDEX(入力!$E:$E,N379+2,1)","v":0},null,null,null,{"$f":"INDEX(入力!$H:$H,N379+2,1)","v":""}]
[null,null,"様",null,{"$f":"INDEX(入力!$F:$F,D379+2,1)","v":0},null,null,"様",null,{"$f":"INDEX(入力!$F:$F,I379+2,1)","v":0},null,null,"様",null,{"$f":"INDEX(入力!$F:$F,N379+2,1)","v":0}]
[{"$f":"入力!$E$1","v":"villa中"},{"$f":"INDEX(入力!$A:$A,D382+2,1)","v":0},{"$f":"INDEX(入力!$B:$B,D382+2,1)","v":0},{"$f":"D379+3","v":382},{"$f":"INDEX(入力!$C:$C,D382+2,1)","v":0},{"$f":"入力!$E$1","v":"villa中"},{"$f":"INDEX(入力!$A:$A,I382+2,1)","v":0},{"$f":"INDEX(入力!$B:$B,I382+2,1)","v":0},{"$f":"1+D382","v":383},{"$f":"INDEX(入力!$C:$C,I382+2,1)","v":0},{"$f":"入力!$E$1","v":"villa中"},{"$f":"INDEX(入力!$A:$A,N382+2,1)","v":0},{"$f":"INDEX(入力!$B:$B,N382+2,1)","v":0},{"$f":"1+I382","v":384},{"$f":"INDEX(入力!$C:$C,N382+2,1)","v":0}]
[{"$f":"INDEX(入力!$E:$E,D382+2,1)","v":0},null,null,null,{"$f":"INDEX(入力!$H:$H,D382+2,1)","v":""},{"$f":"INDEX(入力!$E:$E,I382+2,1)","v":0},null,null,null,{"$f":"INDEX(入力!$H:$H,I382+2,1)","v":""},{"$f":"INDEX(入力!$E:$E,N382+2,1)","v":0},null,null,null,{"$f":"INDEX(入力!$H:$H,N382+2,1)","v":""}]
[null,null,"様",null,{"$f":"INDEX(入力!$F:$F,D382+2,1)","v":0},null,null,"様",null,{"$f":"INDEX(入力!$F:$F,I382+2,1)","v":0},null,null,"様",null,{"$f":"INDEX(入力!$F:$F,N382+2,1)","v":0}]
[{"$f":"入力!$E$1","v":"villa中"},{"$f":"INDEX(入力!$A:$A,D385+2,1)","v":0},{"$f":"INDEX(入力!$B:$B,D385+2,1)","v":0},{"$f":"D382+3","v":385},{"$f":"INDEX(入力!$C:$C,D385+2,1)","v":0},{"$f":"入力!$E$1","v":"villa中"},{"$f":"INDEX(入力!$A:$A,I385+2,1)","v":0},{"$f":"INDEX(入力!$B:$B,I385+2,1)","v":0},{"$f":"1+D385","v":386},{"$f":"INDEX(入力!$C:$C,I385+2,1)","v":0},{"$f":"入力!$E$1","v":"villa中"},{"$f":"INDEX(入力!$A:$A,N385+2,1)","v":0},{"$f":"INDEX(入力!$B:$B,N385+2,1)","v":0},{"$f":"1+I385","v":387},{"$f":"INDEX(入力!$C:$C,N385+2,1)","v":0}]
[{"$f":"INDEX(入力!$E:$E,D385+2,1)","v":0},null,null,null,{"$f":"INDEX(入力!$H:$H,D385+2,1)","v":""},{"$f":"INDEX(入力!$E:$E,I385+2,1)","v":0},null,null,null,{"$f":"INDEX(入力!$H:$H,I385+2,1)","v":""},{"$f":"INDEX(入力!$E:$E,N385+2,1)","v":0},null,null,null,{"$f":"INDEX(入力!$H:$H,N385+2,1)","v":""}]
[null,null,"様",null,{"$f":"INDEX(入力!$F:$F,D385+2,1)","v":0},null,null,"様",null,{"$f":"INDEX(入力!$F:$F,I385+2,1)","v":0},null,null,"様",null,{"$f":"INDEX(入力!$F:$F,N385+2,1)","v":0}]
[{"$f":"入力!$E$1","v":"villa中"},{"$f":"INDEX(入力!$A:$A,D388+2,1)","v":0},{"$f":"INDEX(入力!$B:$B,D388+2,1)","v":0},{"$f":"D385+3","v":388},{"$f":"INDEX(入力!$C:$C,D388+2,1)","v":0},{"$f":"入力!$E$1","v":"villa中"},{"$f":"INDEX(入力!$A:$A,I388+2,1)","v":0},{"$f":"INDEX(入力!$B:$B,I388+2,1)","v":0},{"$f":"1+D388","v":389},{"$f":"INDEX(入力!$C:$C,I388+2,1)","v":0},{"$f":"入力!$E$1","v":"villa中"},{"$f":"INDEX(入力!$A:$A,N388+2,1)","v":0},{"$f":"INDEX(入力!$B:$B,N388+2,1)","v":0},{"$f":"1+I388","v":390},{"$f":"INDEX(入力!$C:$C,N388+2,1)","v":0}]
[{"$f":"INDEX(入力!$E:$E,D388+2,1)","v":0},null,null,null,{"$f":"INDEX(入力!$H:$H,D388+2,1)","v":""},{"$f":"INDEX(入力!$E:$E,I388+2,1)","v":0},null,null,null,{"$f":"INDEX(入力!$H:$H,I388+2,1)","v":""},{"$f":"INDEX(入力!$E:$E,N388+2,1)","v":0},null,null,null,{"$f":"INDEX(入力!$H:$H,N388+2,1)","v":""}]
[null,null,"様",null,{"$f":"INDEX(入力!$F:$F,D388+2,1)","v":0},null,null,"様",null,{"$f":"INDEX(入力!$F:$F,I388+2,1)","v":0},null,null,"様",null,{"$f":"INDEX(入力!$F:$F,N388+2,1)","v":0}]
[{"$f":"入力!$E$1","v":"villa中"},{"$f":"INDEX(入力!$A:$A,D391+2,1)","v":0},{"$f":"INDEX(入力!$B:$B,D391+2,1)","v":0},{"$f":"D388+3","v":391},{"$f":"INDEX(入力!$C:$C,D391+2,1)","v":0},{"$f":"入力!$E$1","v":"villa中"},{"$f":"INDEX(入力!$A:$A,I391+2,1)","v":0},{"$f":"INDEX(入力!$B:$B,I391+2,1)","v":0},{"$f":"1+D391","v":392},{"$f":"INDEX(入力!$C:$C,I391+2,1)","v":0},{"$f":"入力!$E$1","v":"villa中"},{"$f":"INDEX(入力!$A:$A,N391+2,1)","v":0},{"$f":"INDEX(入力!$B:$B,N391+2,1)","v":0},{"$f":"1+I391","v":393},{"$f":"INDEX(入力!$C:$C,N391+2,1)","v":0}]
[{"$f":"INDEX(入力!$E:$E,D391+2,1)","v":0},null,null,null,{"$f":"INDEX(入力!$H:$H,D391+2,1)","v":""},{"$f":"INDEX(入力!$E:$E,I391+2,1)","v":0},null,null,null,{"$f":"INDEX(入力!$H:$H,I391+2,1)","v":""},{"$f":"INDEX(入力!$E:$E,N391+2,1)","v":0},null,null,null,{"$f":"INDEX(入力!$H:$H,N391+2,1)","v":""}]
[null,null,"様",null,{"$f":"INDEX(入力!$F:$F,D391+2,1)","v":0},null,null,"様",null,{"$f":"INDEX(入力!$F:$F,I391+2,1)","v":0},null,null,"様",null,{"$f":"INDEX(入力!$F:$F,N391+2,1)","v":0}]

{"sheet":"サイズ","index":4,"n_rows":19,"n_cols":10,"rows_kept":19,"cut":false,"hidden":false,"merged":[]}
[]
[null,null,null,null,"身長","サイズ"]
[20.5,"J",null,null,105,110,null,16,"ア",{"$f":"COUNTIF(入力!$Q:$Q,I3)","v":0}]
[21,"K",null,null,115,130,null,17,"ア",{"$f":"COUNTIF(入力!$Q:$Q,I4)","v":0}]
[21.5,"L",null,null,125,"SSS",null,18,"ア",{"$f":"COUNTIF(入力!$Q:$Q,I5)","v":0}]
[22,"M",null,null,135,"SS",null,19,"ア",{"$f":"COUNTIF(入力!$Q:$Q,I6)","v":0}]
[22.5,"N",null,null,145,"S",null,20,"イ",{"$f":"COUNTIF(入力!$Q:$Q,I7)","v":0}]
[23,"O",null,null,155,"M",null,21,"S",{"$f":"COUNTIF(入力!$Q:$Q,I8)","v":0}]
[23.5,"P",null,null,165,"L",null,22,"A",{"$f":"COUNTIF(入力!$Q:$Q,I9)","v":0}]
[24,"Q",null,null,175,"LL",null,23,"C",{"$f":"COUNTIF(入力!$Q:$Q,I10)","v":0}]
[24.5,"R",null,null,185,"LLL",null,24,"D",{"$f":"COUNTIF(入力!$Q:$Q,I11)","v":1}]
[25,"S",null,null,null,null,null,25,"E",{"$f":"COUNTIF(入力!$Q:$Q,I12)","v":0}]
[25.5,"T",null,null,null,null,null,26,"F",{"$f":"COUNTIF(入力!$Q:$Q,I13)","v":0}]
[26,"U",null,null,null,null,null,27,"G",{"$f":"COUNTIF(入力!$Q:$Q,I14)","v":0}]
[26.5,"V",null,null,null,null,null,28,"H",{"$f":"COUNTIF(入力!$Q:$Q,I15)","v":0}]
[27,"W",null,null,null,null,null,29,"I",{"$f":"COUNTIF(入力!$Q:$Q,I16)","v":0}]
[27.5,"X",null,null,null,null,null,30,"借",{"$f":"COUNTIF(入力!$Q:$Q,I17)","v":0}]
[28,"Y"]
[28.5,"Z"]

{"sheet":"集計表 (2)","index":5,"n_rows":18,"n_cols":14,"rows_kept":18,"cut":false,"hidden":false,"merged":[]}
[{"$f":"入力!E1","v":"villa中"},null,"日程",null,"～"]
[]
["靴サイズ"]
[17,17.5,18,18.5,19,19.5,20,20.5,21,21.5,22,22.5]
[{"$f":"COUNTIF(入力!$G:$G,A4)","v":0},{"$f":"COUNTIF(入力!$G:$G,B4)","v":0},{"$f":"COUNTIF(入力!$G:$G,C4)","v":0},{"$f":"COUNTIF(入力!$G:$G,D4)","v":0},{"$f":"COUNTIF(入力!$G:$G,E4)","v":0},{"$f":"COUNTIF(入力!$G:$G,F4)","v":0},{"$f":"COUNTIF(入力!$G:$G,G4)","v":0},{"$f":"COUNTIF(入力!$G:$G,H4)","v":0},{"$f":"COUNTIF(入力!$G:$G,I4)","v":0},{"$f":"COUNTIF(入力!$G:$G,J4)","v":0},{"$f":"COUNTIF(入力!$G:$G,K4)","v":0},{"$f":"COUNTIF(入力!$G:$G,L4)","v":0}]
[]
[]
[23,23.5,24,24.5,25,25.5,26,26.5,27,27.5,28,28.5,29]
[{"$f":"COUNTIF(入力!$G:$G,A8)","v":0},{"$f":"COUNTIF(入力!$G:$G,B8)","v":0},{"$f":"COUNTIF(入力!$G:$G,C8)","v":1},{"$f":"COUNTIF(入力!$G:$G,D8)","v":0},{"$f":"COUNTIF(入力!$G:$G,E8)","v":0},{"$f":"COUNTIF(入力!$G:$G,F8)","v":0},{"$f":"COUNTIF(入力!$G:$G,G8)","v":0},{"$f":"COUNTIF(入力!$G:$G,H8)","v":0},{"$f":"COUNTIF(入力!$G:$G,I8)","v":0},{"$f":"COUNTIF(入力!$G:$G,J8)","v":0},{"$f":"COUNTIF(入力!$G:$G,K8)","v":0},{"$f":"COUNTIF(入力!$G:$G,L8)","v":0},{"$f":"COUNTIF(入力!$G:$G,M8)","v":0},{"$f":"SUM(A9:M9,A5:L5)","v":1}]
[]
["ウェアサイズ"]
[110,130,"SSS","SS","S","M","L","LL","LLL"]
[{"$f":"COUNTIF(入力!$H:$H,A12)","v":0},{"$f":"COUNTIF(入力!$H:$H,B12)","v":0},{"$f":"SUM(C16,C18)","v":0},{"$f":"SUM(D16,D18)","v":0},{"$f":"COUNTIF(入力!$H:$H,E12)","v":0},{"$f":"COUNTIF(入力!$H:$H,F12)","v":0},{"$f":"COUNTIF(入力!$H:$H,G12)","v":1},{"$f":"SUM(H16,H18)","v":0},{"$f":"SUM(I16,I18)","v":0},{"$f":"SUM(A13:I13)","v":1}]
[]
[null,null,"3S","2S",null,null,null,"2L","3L"]
[null,null,{"$f":"COUNTIF(入力!$H:$H,C15)","v":0},{"$f":"COUNTIF(入力!$H:$H,D15)","v":0},null,null,null,{"$f":"COUNTIF(入力!$H:$H,H15)","v":0},{"$f":"COUNTIF(入力!$H:$H,I15)","v":0}]
[null,null,"SSS","SS",null,null,null,"LL","LLL"]
[null,null,{"$f":"COUNTIF(入力!$H:$H,C17)","v":0},{"$f":"COUNTIF(入力!$H:$H,D17)","v":0},null,null,null,{"$f":"COUNTIF(入力!$H:$H,H17)","v":0},{"$f":"COUNTIF(入力!$H:$H,I17)","v":0}]